BEGIN:VCALENDAR
VERSION:2.0
PRODID:-//The Art Fair Gallery - ECPv6.15.18//NONSGML v1.0//EN
CALSCALE:GREGORIAN
METHOD:PUBLISH
X-WR-CALNAME:The Art Fair Gallery
X-ORIGINAL-URL:https://www.theartfairgallery.com
X-WR-CALDESC:Events for The Art Fair Gallery
REFRESH-INTERVAL;VALUE=DURATION:PT1H
X-Robots-Tag:noindex
X-PUBLISHED-TTL:PT1H
BEGIN:VTIMEZONE
TZID:America/Denver
BEGIN:DAYLIGHT
TZOFFSETFROM:-0700
TZOFFSETTO:-0600
TZNAME:MDT
DTSTART:20220313T090000
END:DAYLIGHT
BEGIN:STANDARD
TZOFFSETFROM:-0600
TZOFFSETTO:-0700
TZNAME:MST
DTSTART:20221106T080000
END:STANDARD
BEGIN:DAYLIGHT
TZOFFSETFROM:-0700
TZOFFSETTO:-0600
TZNAME:MDT
DTSTART:20230312T090000
END:DAYLIGHT
BEGIN:STANDARD
TZOFFSETFROM:-0600
TZOFFSETTO:-0700
TZNAME:MST
DTSTART:20231105T080000
END:STANDARD
BEGIN:DAYLIGHT
TZOFFSETFROM:-0700
TZOFFSETTO:-0600
TZNAME:MDT
DTSTART:20240310T090000
END:DAYLIGHT
BEGIN:STANDARD
TZOFFSETFROM:-0600
TZOFFSETTO:-0700
TZNAME:MST
DTSTART:20241103T080000
END:STANDARD
END:VTIMEZONE
BEGIN:VEVENT
DTSTART;TZID=America/Denver:20231125T110000
DTEND;TZID=America/Denver:20231126T170000
DTSTAMP:20260420T084029
CREATED:20231029T114543Z
LAST-MODIFIED:20231029T114543Z
UID:10006568-1700910000-1701018000@www.theartfairgallery.com
SUMMARY:RiNo Holiday BAZAAR | November 25 + 26
DESCRIPTION:Holiday Shop & Sip at Zeppelin Station in the RiNo Art District for Small Business Saturday and Sunday\,  November 25 + 26!\n\n\n\n\n\nDenver BAZAAR brings its holiday shopping extravaganza to Zeppelin Station on Small Business Saturday + Sunday!\nThis outdoor market will feature 80+ carefully curated vendors and fashion trucks\, holiday-themed pop-up bars\, indoor food hall\, and more.\n \nSmall Business Saturday & Sunday! \nS aturday\, November 25 | 11AM – 5PM \nS unday\, November 26 | 11AM – 5PM \n \nMARKET FEATURES \n\nFree Entry!\nFamily-Friendly & All Ages\n80+ Craft Vendors\nIndoor Heated Food Hall\nOutdoor Pop-Up Bars featuring Holiday Cocktails\n\n\n\n\n❄️ General Admission is FREE! \n\nRSVP to also receive event announcements such as vendor lineups\, music schedules and Shop & Sip Drink tickets!\n\n❄️ VIP Early Entry | $30 \n\nVIP entrance opens at 10:30 this year!\nBeat the crowds with 30 minutes of early access\, plus 2.5 hours of bottomless mimosas!\nAlso includes Denver BAZAAR commemorative cup\, holiday shopping bag\, lip balm\, and vinyl sticker\n\n❄️ Bottomless Mimosas | $20 \n\nTwo hours of bottomless mimosas from any outdoor market bar from 11AM – 1PM on Saturday\, November 25 or Sunday\, November 26.\nIncludes a Denver BAZAAR commemorative cup\, and your choice of holiday shopping bag or lip balm.\n\n❄️ Drink Token Package | $35 \n\nPackage includes 5 Drink Tokens\, redeemable for beer\, cocktails\, or wine at any outdoor market bar (up to $15 in savings!).\nTokens valid at any Holiday BAZAAR weekend\, all locations!\nIncludes your choice of a Denver BAZAAR holiday shopping bag\, lip balm or vinyl sticker.\n\n❄️ Tip your bartender! Add-on | $5-10 \nSkip the ATM before the market and add a tip for your Bottomless Mimosas or Drink Token Package to your order! $5\, $8\, or $10 tip goes directly to the bar team. \n \nShop & Sip tickets will be +$5 at the door\, so snag yours now for best pricing! \n\n\n\n\n\n\n\nWhat is RiNo Holiday BAZAAR? \nRiNo Holiday BAZAAR is an outdoor shopping marketplace celebrating Small Business Saturday + Sunday\, featuring 80+ carefully curated vendors\, fashion trucks\, pop-ups bars serving up festive holiday sips\, and more! \nWhere is it? \nWe’re taking over the streets surrounding Zeppelin Station at 35th St & Wazee St! \nZeppelin Station \n3501 Wazee St \nDenver\, CO 80216 \nSee map below! \nWhere do I park? \nThere are several parking garages in the area\, including Zeppelin Station and Rev360. There is limited street parking available in the immediate neighborhood. \nIf you plan to Shop & Sip\, we strongly encourage you to join us by Lyft or Uber to 35th & Brighton\, or take the commuter rail directly to 38th & Blake! \nRTD Rail schedules\, fares and map: https://www.rtd-denver.com/services/rail \nDo I need tickets? \nNope! Entry is totally FREE. You can upgrade your experience with Shop & Sip tickets. \nCount me in! Are Shop & Sip tickets still available? \nYES! The Shop & Sip tickets below include a Denver BAZAAR holiday shopping bag\, lip balm\, or vinyl sticker. Get details and purchase above! \nWhere do I check-in for my Shop & Sip tickets? \nA ticketing booth will be conveniently located at each entrance to the Vendor Village. Head to the intersection of 35th St & Wynkoop St or to Wazee St just past the Zeppelin Station Parking Garage and Pedestrian Bridge. Stop there to pick up your goods or purchase Shop & Sip tickets! \nHow does VIP work? \nVIP ticket holders will be allowed into the event with their first bottomless mimosa 30 minutes early. Our Holiday BAZAAR events get very crowded\, so this is your opportunity to get a first look before everyone else arrives. VIP entrance will open at 10:30AM and bottomless mimosas will go until 1PM. \nWhere do we find the bar? \nThere will be two market bars in the Vendor Village to refill those mimosas\, redeem tokens\, or purchase individual drinks. Find one on Wazee St and the other just before the train tracks in front of the Zeppelin Station patio. \nEnjoy local craft brews from Denver Beer Co\, wine\, and festive holiday cocktails! Non-alcoholic beverages are available for purchase\, as well. Cheers! \nIs the event kid-friendly? \nAbsolutely! All Denver BAZAAR events are family-friendly and for all ages. \nWill there be food options? \nBring. Your. Appetite. Enjoy tasty eats n’ treats from local food trucks and street food vendors. Lineup to be announced soon! \nWill the vendors be the same for all Holiday BAZAAR events? \nWhile you’ll find many of the same vendors at multiple events this season\, each weekend and location features its own unique lineup of vendors! \nCheck out the full vendor lineup on the ‘gram: https://www.instagram.com/denverbazaar/ \nWhere are the restrooms? \nBathrooms are located indoors at Zeppelin Station. \nCan I bring my dog? \nPlease do! Leashed and friendly pups are always welcome at Denver BAZAAR’s outdoor marketplaces. \n\n\n\nHoliday BAZAAR 2023 Schedule\nT﻿here’s plenty of chances to Shop & Sip local this Holiday season!  Find event details for all Holiday BAZAAR locations here. \n \nD﻿owntown Lakewood Holiday BAZAAR | Weekend 1: November 17 – 19 \nR﻿iNo Holiday BAZAAR | November 25 + 26 \nD﻿owntown Lakewood Holiday BAZAAR | Weekend 2: December 1 – 3 \nB﻿elleview Station Holiday BAZAAR | December 9 + 10 \nD﻿owntown Lakewood Holiday BAZAAR | Weekend 3: December 15 – 17 \n\n\n\nRECENT PRAISE  \n“Best Colorado holiday market for handcrafted gifts” – The Know by Denver Post Entertainment \n“The hip\, not-your-grandmother’s craft fair…” – Denver Dweller \n“The Bazaar is big\, contemporary and geared to young professionals\, with snappy\, gifty goods from more than 100 hip vendors.” – Denver Westword \n“A fun and cheerful place to shop… take stress out of holiday shopping.” – CBS Denver \n“Get your drink on while shopping at some amazing local vendors… I don’t know how anyone would not be in LOVE with this event!” – 303 Foodie \n“The city’s best craft vendors and food trucks are brought together in one marketplace for a lively eating\, drinking and shopping experience.” – Confluence Denver \n\n\n\nA﻿BOUT ZEPPELIN STATION \nZ﻿eppelin Station is a global food hall and local bar located in the heart of the RiNo Arts District just off the light rail. Featuring a variety of fare from burgers to tacos\, lobster rolls to pasta\, and cocktails to coffee\, Zeppelin Station has something for everyone. Eat\, drink and party with DJs\, themed pop-up bars\, and of course\, RiNo Holiday BAZAAR!
URL:https://www.theartfairgallery.com/event/rino-holiday-bazaar-november-25-26/
LOCATION:Zeppelin Station & Surrounding Streets\, 3501 Wazee St\, Denver\, CO\, 80216\, United States
CATEGORIES:Craft Fair
ATTACH;FMTTYPE=image/jpeg:https://www.theartfairgallery.com/wp-content/uploads/2023/10/2e31a2e4b9cf473723686916c01f1446.jpg
END:VEVENT
END:VCALENDAR