BEGIN:VCALENDAR
VERSION:2.0
PRODID:-//The Art Fair Gallery - ECPv6.15.18//NONSGML v1.0//EN
CALSCALE:GREGORIAN
METHOD:PUBLISH
X-ORIGINAL-URL:https://www.theartfairgallery.com
X-WR-CALDESC:Events for The Art Fair Gallery
REFRESH-INTERVAL;VALUE=DURATION:PT1H
X-Robots-Tag:noindex
X-PUBLISHED-TTL:PT1H
BEGIN:VTIMEZONE
TZID:America/New_York
BEGIN:DAYLIGHT
TZOFFSETFROM:-0500
TZOFFSETTO:-0400
TZNAME:EDT
DTSTART:20230312T070000
END:DAYLIGHT
BEGIN:STANDARD
TZOFFSETFROM:-0400
TZOFFSETTO:-0500
TZNAME:EST
DTSTART:20231105T060000
END:STANDARD
BEGIN:DAYLIGHT
TZOFFSETFROM:-0500
TZOFFSETTO:-0400
TZNAME:EDT
DTSTART:20240310T070000
END:DAYLIGHT
BEGIN:STANDARD
TZOFFSETFROM:-0400
TZOFFSETTO:-0500
TZNAME:EST
DTSTART:20241103T060000
END:STANDARD
BEGIN:DAYLIGHT
TZOFFSETFROM:-0500
TZOFFSETTO:-0400
TZNAME:EDT
DTSTART:20250309T070000
END:DAYLIGHT
BEGIN:STANDARD
TZOFFSETFROM:-0400
TZOFFSETTO:-0500
TZNAME:EST
DTSTART:20251102T060000
END:STANDARD
END:VTIMEZONE
BEGIN:VEVENT
DTSTART;TZID=America/New_York:20241206T170000
DTEND;TZID=America/New_York:20241206T200000
DTSTAMP:20260419T162319
CREATED:20241204T175546Z
LAST-MODIFIED:20241204T175546Z
UID:10007479-1733504400-1733515200@www.theartfairgallery.com
SUMMARY:Holiday Market
DESCRIPTION:Get ready for some festive shopping at our Holiday Market\, where you can find unique gifts for everyone on your list!\n\n\nShop unique handmade items while sipping on hot chocolate\, surrounded by festive cheer. This exclusive event is only here once a year\, so come shop with us. Help support our young entrepreneurs with your purchases! \nTry your hand at hand-sewing a unique Christmas ornament from: 6 – 7 pm \nHurry and seize the chance to make a difference while enjoying an unforgettable shopping experience.
URL:https://www.theartfairgallery.com/event/holiday-market-26/
LOCATION:Threaded from Heaven\, 1145 Peachtree Industrial Boulevard\, #Unit B2\, Suwanee\, GA\, 30024\, United States
CATEGORIES:Georgia
ATTACH;FMTTYPE=image/jpeg:https://www.theartfairgallery.com/wp-content/uploads/2024/12/a2924d32631a9a5ac7d8aa5a6fa22c02.jpg
END:VEVENT
END:VCALENDAR