BEGIN:VCALENDAR
VERSION:2.0
PRODID:-//The Art Fair Gallery - ECPv6.15.18//NONSGML v1.0//EN
CALSCALE:GREGORIAN
METHOD:PUBLISH
X-WR-CALNAME:The Art Fair Gallery
X-ORIGINAL-URL:https://www.theartfairgallery.com
X-WR-CALDESC:Events for The Art Fair Gallery
REFRESH-INTERVAL;VALUE=DURATION:PT1H
X-Robots-Tag:noindex
X-PUBLISHED-TTL:PT1H
BEGIN:VTIMEZONE
TZID:America/New_York
BEGIN:DAYLIGHT
TZOFFSETFROM:-0500
TZOFFSETTO:-0400
TZNAME:EDT
DTSTART:20230312T070000
END:DAYLIGHT
BEGIN:STANDARD
TZOFFSETFROM:-0400
TZOFFSETTO:-0500
TZNAME:EST
DTSTART:20231105T060000
END:STANDARD
BEGIN:DAYLIGHT
TZOFFSETFROM:-0500
TZOFFSETTO:-0400
TZNAME:EDT
DTSTART:20240310T070000
END:DAYLIGHT
BEGIN:STANDARD
TZOFFSETFROM:-0400
TZOFFSETTO:-0500
TZNAME:EST
DTSTART:20241103T060000
END:STANDARD
BEGIN:DAYLIGHT
TZOFFSETFROM:-0500
TZOFFSETTO:-0400
TZNAME:EDT
DTSTART:20250309T070000
END:DAYLIGHT
BEGIN:STANDARD
TZOFFSETFROM:-0400
TZOFFSETTO:-0500
TZNAME:EST
DTSTART:20251102T060000
END:STANDARD
END:VTIMEZONE
BEGIN:VEVENT
DTSTART;TZID=America/New_York:20240113T100000
DTEND;TZID=America/New_York:20240114T170000
DTSTAMP:20260423T110744
CREATED:20231113T121621Z
LAST-MODIFIED:20240113T222449Z
UID:10006718-1705140000-1705251600@www.theartfairgallery.com
SUMMARY:73rd Annual Beaux Arts Festival of Art
DESCRIPTION:Free community event! Beaux Arts Festival of Art returns for its 73rd year at the University of Miami\, Watsco Center. Art\, food\, and crafts!\n\n\nBeaux Arts is hosting the 73rd Annual Beaux Arts Festival of Art at the University of Miami in Coral Gables. The festival will be located across from the Wastco Center by the Walsh Avenue serpentine parking lots. Admission is free for the two day outdoor arts festival. Patrons will enjoy over 200 juried fine artists of all different mediums\, international food and live entertainment. Also available will be the Children’s Art Tent\, a marketplace\, and Beer Garden sponsored by Bay 13 Brewery & Kitchen. Open from 10 am – 5 pm\, Saturday and Sunday of MLK Weekend (Jan 13-14\, 2023). \nBeaux Arts is a volunteer organization whose purpose is to encourage an understanding and appreciation of the arts in South Florida. All proceeds from Beaux Arts go to serve this purpose. This includes offering outreach programs to children in our community\, such as HandsOn! and the Student Artist Showcase\, where children have opportunities to learn about art and participate in the artistic process. \nBeaux Arts also provides support to the Lowe Art Museum by assisting with important art acquisitions\, contributions\, to the museum’s ongoing operations\, and by enhancing its educational programming and outreach. \nThe 73rd Beaux Arts Festival of Art is Presented By UHealth Jackson.  To learn more about Beaux Arts please visit www.beauxartsmiami.org
URL:https://www.theartfairgallery.com/event/73rd-annual-beaux-arts-festival-of-art/
LOCATION:The University of Miami\, Watsco Center\, 1320 South Dixie Highway\, Coral Gables\, FL\, 33146\, United States
CATEGORIES:Craft Fair,Florida
ATTACH;FMTTYPE=image/jpeg:https://www.theartfairgallery.com/wp-content/uploads/2023/11/82aeb427c2d9a567d9b77e9a5f875383.jpg
END:VEVENT
END:VCALENDAR