BEGIN:VCALENDAR
VERSION:2.0
PRODID:-//The Art Fair Gallery - ECPv6.15.18//NONSGML v1.0//EN
CALSCALE:GREGORIAN
METHOD:PUBLISH
X-ORIGINAL-URL:https://www.theartfairgallery.com
X-WR-CALDESC:Events for The Art Fair Gallery
REFRESH-INTERVAL;VALUE=DURATION:PT1H
X-Robots-Tag:noindex
X-PUBLISHED-TTL:PT1H
BEGIN:VTIMEZONE
TZID:America/New_York
BEGIN:DAYLIGHT
TZOFFSETFROM:-0500
TZOFFSETTO:-0400
TZNAME:EDT
DTSTART:20220313T070000
END:DAYLIGHT
BEGIN:STANDARD
TZOFFSETFROM:-0400
TZOFFSETTO:-0500
TZNAME:EST
DTSTART:20221106T060000
END:STANDARD
BEGIN:DAYLIGHT
TZOFFSETFROM:-0500
TZOFFSETTO:-0400
TZNAME:EDT
DTSTART:20230312T070000
END:DAYLIGHT
BEGIN:STANDARD
TZOFFSETFROM:-0400
TZOFFSETTO:-0500
TZNAME:EST
DTSTART:20231105T060000
END:STANDARD
BEGIN:DAYLIGHT
TZOFFSETFROM:-0500
TZOFFSETTO:-0400
TZNAME:EDT
DTSTART:20240310T070000
END:DAYLIGHT
BEGIN:STANDARD
TZOFFSETFROM:-0400
TZOFFSETTO:-0500
TZNAME:EST
DTSTART:20241103T060000
END:STANDARD
END:VTIMEZONE
BEGIN:VEVENT
DTSTART;TZID=America/New_York:20231125T100000
DTEND;TZID=America/New_York:20231125T160000
DTSTAMP:20260424T035820
CREATED:20231020T121347Z
LAST-MODIFIED:20231020T121347Z
UID:10006520-1700906400-1700928000@www.theartfairgallery.com
SUMMARY:Christmas At The Shed
DESCRIPTION:Kick off the holiday season with a magical day of shopping\, food\, music and a visit from Santa! Enjoy all that Christmas has to offer here.
URL:https://www.theartfairgallery.com/event/christmas-at-the-shed/
LOCATION:The Red Shed Market\, 1683 South Carolina 11\, Chesnee\, SC\, 29323\, United States
CATEGORIES:South Carolina
ATTACH;FMTTYPE=image/jpeg:https://www.theartfairgallery.com/wp-content/uploads/2023/10/b56a67a6d60667a1009bcb445cc0979a.jpg
END:VEVENT
END:VCALENDAR