BEGIN:VCALENDAR
VERSION:2.0
PRODID:-//The Art Fair Gallery - ECPv6.15.18//NONSGML v1.0//EN
CALSCALE:GREGORIAN
METHOD:PUBLISH
X-ORIGINAL-URL:https://www.theartfairgallery.com
X-WR-CALDESC:Events for The Art Fair Gallery
REFRESH-INTERVAL;VALUE=DURATION:PT1H
X-Robots-Tag:noindex
X-PUBLISHED-TTL:PT1H
BEGIN:VTIMEZONE
TZID:America/New_York
BEGIN:DAYLIGHT
TZOFFSETFROM:-0500
TZOFFSETTO:-0400
TZNAME:EDT
DTSTART:20230312T070000
END:DAYLIGHT
BEGIN:STANDARD
TZOFFSETFROM:-0400
TZOFFSETTO:-0500
TZNAME:EST
DTSTART:20231105T060000
END:STANDARD
BEGIN:DAYLIGHT
TZOFFSETFROM:-0500
TZOFFSETTO:-0400
TZNAME:EDT
DTSTART:20240310T070000
END:DAYLIGHT
BEGIN:STANDARD
TZOFFSETFROM:-0400
TZOFFSETTO:-0500
TZNAME:EST
DTSTART:20241103T060000
END:STANDARD
BEGIN:DAYLIGHT
TZOFFSETFROM:-0500
TZOFFSETTO:-0400
TZNAME:EDT
DTSTART:20250309T070000
END:DAYLIGHT
BEGIN:STANDARD
TZOFFSETFROM:-0400
TZOFFSETTO:-0500
TZNAME:EST
DTSTART:20251102T060000
END:STANDARD
END:VTIMEZONE
BEGIN:VEVENT
DTSTART;TZID=America/New_York:20241109T100000
DTEND;TZID=America/New_York:20241110T170000
DTSTAMP:20260419T162725
CREATED:20240324T110015Z
LAST-MODIFIED:20240324T110015Z
UID:10007212-1731146400-1731258000@www.theartfairgallery.com
SUMMARY:Atlanta Fall Craft and Vendor Market
DESCRIPTION:Join us for the Fall Craft and Vendor Market!\n\n\nVendor Application: hometownvendormarket.com \n???? Join us for an unforgettable Atlanta Fall Craft & Vendor Market at the Tanger Outlets Locust Grove! ????️ \nDates & Times: \nSaturday\, November 9\, 2024\, from 10am – 4pm \nSunday\, November 10\, 2024\, from 10am – 5pm \nGet ready for a delightful autumn experience filled with local vendors\, sweet treats\, and endless gift inspiration! ???? To register\, visit: hometownvendormarket.com. \nRegistration is NOW LIVE! Secure your spot and present your amazing products to a fantastic audience. Don’t miss out on this opportunity to be part of something truly magical. \nAs a vendor\, you’ll have the special opportunity to connect with eager shoppers seeking unique handmade and specialty items. Claim your spot today and create unforgettable memories in the heart of Atlanta! \nRegistration is now open\, but spots are filling up fast! Secure your space today by visiting: hometownvendormarket.com. \nLet’s make this Atlanta Fall Craft & Vendor Market a blooming success together! ????
URL:https://www.theartfairgallery.com/event/atlanta-fall-craft-and-vendor-market/
LOCATION:Tanger Outlets Locust Grove\, 1000 Tanger Drive\, Locust Grove\, GA\, 30248\, United States
CATEGORIES:Georgia
ATTACH;FMTTYPE=image/jpeg:https://www.theartfairgallery.com/wp-content/uploads/2024/03/7722cd26d33f62281909a41c49cbdf03.jpg
END:VEVENT
END:VCALENDAR