BEGIN:VCALENDAR
VERSION:2.0
PRODID:-//The Art Fair Gallery - ECPv6.15.18//NONSGML v1.0//EN
CALSCALE:GREGORIAN
METHOD:PUBLISH
X-WR-CALNAME:The Art Fair Gallery
X-ORIGINAL-URL:https://www.theartfairgallery.com
X-WR-CALDESC:Events for The Art Fair Gallery
REFRESH-INTERVAL;VALUE=DURATION:PT1H
X-Robots-Tag:noindex
X-PUBLISHED-TTL:PT1H
BEGIN:VTIMEZONE
TZID:America/New_York
BEGIN:DAYLIGHT
TZOFFSETFROM:-0500
TZOFFSETTO:-0400
TZNAME:EDT
DTSTART:20220313T070000
END:DAYLIGHT
BEGIN:STANDARD
TZOFFSETFROM:-0400
TZOFFSETTO:-0500
TZNAME:EST
DTSTART:20221106T060000
END:STANDARD
BEGIN:DAYLIGHT
TZOFFSETFROM:-0500
TZOFFSETTO:-0400
TZNAME:EDT
DTSTART:20230312T070000
END:DAYLIGHT
BEGIN:STANDARD
TZOFFSETFROM:-0400
TZOFFSETTO:-0500
TZNAME:EST
DTSTART:20231105T060000
END:STANDARD
BEGIN:DAYLIGHT
TZOFFSETFROM:-0500
TZOFFSETTO:-0400
TZNAME:EDT
DTSTART:20240310T070000
END:DAYLIGHT
BEGIN:STANDARD
TZOFFSETFROM:-0400
TZOFFSETTO:-0500
TZNAME:EST
DTSTART:20241103T060000
END:STANDARD
END:VTIMEZONE
BEGIN:VEVENT
DTSTART;TZID=America/New_York:20231118T100000
DTEND;TZID=America/New_York:20231118T140000
DTSTAMP:20260422T061826
CREATED:20231109T223150Z
LAST-MODIFIED:20231109T223150Z
UID:10006621-1700301600-1700316000@www.theartfairgallery.com
SUMMARY:Craft and Vendor Market
DESCRIPTION:Join us at the Craft and Vendor Market for a day filled with unique crafts\, amazing vendors\, and endless shopping opportunities – don’t miss\n\n\nCraft and Vendor Market \nJoin us for a fun-filled day at the Craft and Vendor Market held at the Stembridge Community Center in Essex\, MD\, USA. Discover a wide variety of unique crafts and products from local vendors. Whether you’re looking for handmade jewelry\, home decor\, or delicious treats\, this event has something for everyone. Don’t miss out on this opportunity to support local businesses and find one-of-a-kind treasures. Mark your calendars and bring your friends and family to enjoy a day of shopping\, exploring\, and supporting the community!
URL:https://www.theartfairgallery.com/event/craft-and-vendor-market/
LOCATION:Stembridge Community Center\, Stemmers Run Road\, Essex\, MD\, USA\, 99a Stemmers Run Road\, Essex\, MD\, 21221\, United States
CATEGORIES:Maryland
ATTACH;FMTTYPE=image/jpeg:https://www.theartfairgallery.com/wp-content/uploads/2023/11/35906b497f3e18c1fbf82d937118e446.jpg
END:VEVENT
END:VCALENDAR