BEGIN:VCALENDAR
VERSION:2.0
PRODID:-//The Art Fair Gallery - ECPv6.15.18//NONSGML v1.0//EN
CALSCALE:GREGORIAN
METHOD:PUBLISH
X-ORIGINAL-URL:https://www.theartfairgallery.com
X-WR-CALDESC:Events for The Art Fair Gallery
REFRESH-INTERVAL;VALUE=DURATION:PT1H
X-Robots-Tag:noindex
X-PUBLISHED-TTL:PT1H
BEGIN:VTIMEZONE
TZID:America/New_York
BEGIN:DAYLIGHT
TZOFFSETFROM:-0500
TZOFFSETTO:-0400
TZNAME:EDT
DTSTART:20220313T070000
END:DAYLIGHT
BEGIN:STANDARD
TZOFFSETFROM:-0400
TZOFFSETTO:-0500
TZNAME:EST
DTSTART:20221106T060000
END:STANDARD
BEGIN:DAYLIGHT
TZOFFSETFROM:-0500
TZOFFSETTO:-0400
TZNAME:EDT
DTSTART:20230312T070000
END:DAYLIGHT
BEGIN:STANDARD
TZOFFSETFROM:-0400
TZOFFSETTO:-0500
TZNAME:EST
DTSTART:20231105T060000
END:STANDARD
BEGIN:DAYLIGHT
TZOFFSETFROM:-0500
TZOFFSETTO:-0400
TZNAME:EDT
DTSTART:20240310T070000
END:DAYLIGHT
BEGIN:STANDARD
TZOFFSETFROM:-0400
TZOFFSETTO:-0500
TZNAME:EST
DTSTART:20241103T060000
END:STANDARD
END:VTIMEZONE
BEGIN:VEVENT
DTSTART;TZID=America/New_York:20231114T123000
DTEND;TZID=America/New_York:20231114T143000
DTSTAMP:20260420T055019
CREATED:20231109T215303Z
LAST-MODIFIED:20231109T215303Z
UID:10006611-1699965000-1699972200@www.theartfairgallery.com
SUMMARY:QSU Craft Fair
DESCRIPTION:Join us at the QSU Craft Fair for a day filled with creativity\, unique handmade crafts\, and a lively atmosphere—don’t miss out on this aweso\n\n\nQSU Craft Fair \nJoin us for the QSU Craft Fair\, a fun-filled event showcasing talented crafters and artisans from the community. Whether you’re looking for unique gifts\, home decor\, or just want to support local artists\, this is the place to be! \nThe fair will be held outside of Kanbar\, providing a vibrant and inviting atmosphere. Browse through a wide variety of handmade crafts\, including jewelry\, pottery\, paintings\, and much more. \nDiscover one-of-a-kind treasures\, chat with the artists\, and maybe even find inspiration for your own creative projects. With so many talented individuals gathered in one place\, you’ll be amazed by the creativity and craftsmanship on display. \nDon’t miss out on this exciting event! Mark your calendar and bring your friends and family along to enjoy a day of shopping\, supporting local artists\, and celebrating creativity at the QSU Craft Fair.
URL:https://www.theartfairgallery.com/event/qsu-craft-fair/
LOCATION:Outside of Kanbar\, 4201 West School House Lane\, Philadelphia\, PA\, 19144\, United States
CATEGORIES:Missouri
ATTACH;FMTTYPE=image/jpeg:https://www.theartfairgallery.com/wp-content/uploads/2023/11/28bbf7145a5beb03c9350fb553e27cd4.jpg
END:VEVENT
END:VCALENDAR