BEGIN:VCALENDAR
VERSION:2.0
PRODID:-//The Art Fair Gallery - ECPv6.15.18//NONSGML v1.0//EN
CALSCALE:GREGORIAN
METHOD:PUBLISH
X-ORIGINAL-URL:https://www.theartfairgallery.com
X-WR-CALDESC:Events for The Art Fair Gallery
REFRESH-INTERVAL;VALUE=DURATION:PT1H
X-Robots-Tag:noindex
X-PUBLISHED-TTL:PT1H
BEGIN:VTIMEZONE
TZID:America/New_York
BEGIN:DAYLIGHT
TZOFFSETFROM:-0500
TZOFFSETTO:-0400
TZNAME:EDT
DTSTART:20220313T070000
END:DAYLIGHT
BEGIN:STANDARD
TZOFFSETFROM:-0400
TZOFFSETTO:-0500
TZNAME:EST
DTSTART:20221106T060000
END:STANDARD
BEGIN:DAYLIGHT
TZOFFSETFROM:-0500
TZOFFSETTO:-0400
TZNAME:EDT
DTSTART:20230312T070000
END:DAYLIGHT
BEGIN:STANDARD
TZOFFSETFROM:-0400
TZOFFSETTO:-0500
TZNAME:EST
DTSTART:20231105T060000
END:STANDARD
BEGIN:DAYLIGHT
TZOFFSETFROM:-0500
TZOFFSETTO:-0400
TZNAME:EDT
DTSTART:20240310T070000
END:DAYLIGHT
BEGIN:STANDARD
TZOFFSETFROM:-0400
TZOFFSETTO:-0500
TZNAME:EST
DTSTART:20241103T060000
END:STANDARD
END:VTIMEZONE
BEGIN:VEVENT
DTSTART;TZID=America/New_York:20231014T100000
DTEND;TZID=America/New_York:20231014T170000
DTSTAMP:20260419T130727
CREATED:20231001T104800Z
LAST-MODIFIED:20231001T104800Z
UID:10006412-1697277600-1697302800@www.theartfairgallery.com
SUMMARY:NJ Botanical Gardens Harvest Festival & Craft Fair
DESCRIPTION:Fun for everyone at the beautiful NJ Botanical Gardens! Hand made crafts\, kids zone\, food & live music! Come and enjoy the day!\n\n\nHosted by the NJBG committee and produced in conjunction with JC Promotions\, Inc. This event is being held in one of the most scenic areas in NJ during the beautiful autumn season. The fall foliage is in its prime up here in the Ramapo Mountains. What a wonderful way to spend the day. Browse through the many artists and craftspeople showing their hand-crafted items. Bring the children as there will be a kids zone that features\, kids game trailer\, hay rides  (the hay ride attraction will be based on the condition of the grounds)\, face painting\, pumpkin painting\, a train ride\, apple sauce making\, and more. Come hungry and eat the delicious food sold by the food truck vendors and enjoy the live music we will have for your pleasure. Enjoy the cool sounds of George Langberg & Richie G\, while you sit and relax at the many tables and chairs set out for our visitors. The event is free to the public. Parking is $5 per car. Fun Activities for everyone so come and enjoy the day with us! Rain Date is Sunday 10/15
URL:https://www.theartfairgallery.com/event/nj-botanical-gardens-harvest-festival-craft-fair/
LOCATION:NJ Botanical Gardens\, 5 Morris Road\, Ringwood\, NJ\, 07456\, United States
CATEGORIES:New Jersey
ATTACH;FMTTYPE=image/jpeg:https://www.theartfairgallery.com/wp-content/uploads/2023/10/0b04e333fd1603afb92b06324ef81a48.jpg
END:VEVENT
END:VCALENDAR