BEGIN:VCALENDAR
VERSION:2.0
PRODID:-//The Art Fair Gallery - ECPv6.15.18//NONSGML v1.0//EN
CALSCALE:GREGORIAN
METHOD:PUBLISH
X-ORIGINAL-URL:https://www.theartfairgallery.com
X-WR-CALDESC:Events for The Art Fair Gallery
REFRESH-INTERVAL;VALUE=DURATION:PT1H
X-Robots-Tag:noindex
X-PUBLISHED-TTL:PT1H
BEGIN:VTIMEZONE
TZID:America/Los_Angeles
BEGIN:DAYLIGHT
TZOFFSETFROM:-0800
TZOFFSETTO:-0700
TZNAME:PDT
DTSTART:20230312T100000
END:DAYLIGHT
BEGIN:STANDARD
TZOFFSETFROM:-0700
TZOFFSETTO:-0800
TZNAME:PST
DTSTART:20231105T090000
END:STANDARD
BEGIN:DAYLIGHT
TZOFFSETFROM:-0800
TZOFFSETTO:-0700
TZNAME:PDT
DTSTART:20240310T100000
END:DAYLIGHT
BEGIN:STANDARD
TZOFFSETFROM:-0700
TZOFFSETTO:-0800
TZNAME:PST
DTSTART:20241103T090000
END:STANDARD
BEGIN:DAYLIGHT
TZOFFSETFROM:-0800
TZOFFSETTO:-0700
TZNAME:PDT
DTSTART:20250309T100000
END:DAYLIGHT
BEGIN:STANDARD
TZOFFSETFROM:-0700
TZOFFSETTO:-0800
TZNAME:PST
DTSTART:20251102T090000
END:STANDARD
END:VTIMEZONE
BEGIN:VEVENT
DTSTART;TZID=America/Los_Angeles:20240113T150000
DTEND;TZID=America/Los_Angeles:20240113T170000
DTSTAMP:20260423T075648
CREATED:20231208T123027Z
LAST-MODIFIED:20231208T123027Z
UID:10006973-1705158000-1705165200@www.theartfairgallery.com
SUMMARY:Opening Reception for Robin Dintiman Art Exhibit
DESCRIPTION:Esteemed artist\, Robin Dintiman is featuring her large-scale analog photographs of the Laguna de Santa Rosa in this new art exhibit.\n\n\nFREE. No RSVP necessary. Light refreshments provided. \nExhibit Overview \nEsteemed artist\, Robin Dintiman is featuring her large-scale analog photographs of the Laguna de Santa Rosa in this new art exhibit “Water and Dreams” on display at the Laguna Environmental Center\, January 13 – April 26\, 2024. \nArtist Statement \nThis work is about the very special watershed of the Laguna de Santa Rosa which meanders through our county of Sonoma. The streams flow down in the darkness. The spirit is seen in the light through branching trees. We see ourselves in these waters. We are born in water so we remember our salient memory \nThe work is about love of our natural environment and habitat. It is about the many hands working to restore and preserve this habitat. It is about seeing the dream for the future restored through the waters of the Laguna de Santa Rosa. \nAbout the Artist \nDintiman’s work is characterized by a deep connection to nature. Whether she is working directly with objects found in nature or taking nature as her subject\, Dintiman strives to capture the intimate\, emotional quality of certain natural settings\, suffused as they are with time\, change\, and personal memory. https://www.robindintiman.com/ \nAbout the Gallery \nThe Heron Hall Gallery & Gift Shop exhibits three shows per year of local\, nature-themed art. Sales support the Laguna de Santa Rosa Foundation and its mission to restore and conserve this Wetland of International Importance. Due to the multiple uses of Heron Hall\, the gallery is open by appointment only. Please schedule a time to see the exhibit: gallery@lagunafoundation.org
URL:https://www.theartfairgallery.com/event/opening-reception-for-robin-dintiman-art-exhibit/
LOCATION:Laguna de Santa Rosa Foundation\, 900 Sanford Road\, Santa Rosa\, CA\, 95401\, United States
CATEGORIES:California
ATTACH;FMTTYPE=image/jpeg:https://www.theartfairgallery.com/wp-content/uploads/2023/12/4da023eae7a7db15c8b0a3a351bb7155.jpg
END:VEVENT
END:VCALENDAR