BEGIN:VCALENDAR
VERSION:2.0
PRODID:-//The Art Fair Gallery - ECPv6.15.18//NONSGML v1.0//EN
CALSCALE:GREGORIAN
METHOD:PUBLISH
X-WR-CALNAME:The Art Fair Gallery
X-ORIGINAL-URL:https://www.theartfairgallery.com
X-WR-CALDESC:Events for The Art Fair Gallery
REFRESH-INTERVAL;VALUE=DURATION:PT1H
X-Robots-Tag:noindex
X-PUBLISHED-TTL:PT1H
BEGIN:VTIMEZONE
TZID:America/New_York
BEGIN:DAYLIGHT
TZOFFSETFROM:-0500
TZOFFSETTO:-0400
TZNAME:EDT
DTSTART:20220313T070000
END:DAYLIGHT
BEGIN:STANDARD
TZOFFSETFROM:-0400
TZOFFSETTO:-0500
TZNAME:EST
DTSTART:20221106T060000
END:STANDARD
BEGIN:DAYLIGHT
TZOFFSETFROM:-0500
TZOFFSETTO:-0400
TZNAME:EDT
DTSTART:20230312T070000
END:DAYLIGHT
BEGIN:STANDARD
TZOFFSETFROM:-0400
TZOFFSETTO:-0500
TZNAME:EST
DTSTART:20231105T060000
END:STANDARD
BEGIN:DAYLIGHT
TZOFFSETFROM:-0500
TZOFFSETTO:-0400
TZNAME:EDT
DTSTART:20240310T070000
END:DAYLIGHT
BEGIN:STANDARD
TZOFFSETFROM:-0400
TZOFFSETTO:-0500
TZNAME:EST
DTSTART:20241103T060000
END:STANDARD
END:VTIMEZONE
BEGIN:VEVENT
DTSTART;TZID=America/New_York:20230922T100000
DTEND;TZID=America/New_York:20230924T170000
DTSTAMP:20260423T122646
CREATED:20230820T145131Z
LAST-MODIFIED:20230820T145131Z
UID:10005881-1695376800-1695574800@www.theartfairgallery.com
SUMMARY:2023 Mountain Heritage Arts & Crafts Festival
DESCRIPTION:This year marks 47th anniversary of our Festival and we are excited about being back better than ever! In the heart of Jefferson County\, WV!\n\n\nCome join your friends at one of the top 200 judged festivals in America\, 47th Mountain Heritage Arts and Crafts Festival\, September 22-24\, 2023\, from 10:00 a.m. until 5:00 p.m. each day.  We have something for everyone to see and do at our festival. In the heart of Jefferson County in the outdoor beauty of Wild and Wonderful West Virginia approximately one hour northwest of Washington\, DC.   There’s no better way to spend a September weekend! Paved walkways make it accessible for strollers and wheelchairs. Approximately 180 quality juried artists/crafters from over 20 states will be demonstrating their wonderful work at the festival. There will be FREE activities for the children\, we will have make and take Appalachian crafts and scavenger hunt. Delicious food truck selections available! WV Wines & Craft Beer tastings for our 21+ Patrons. Bluegrass bands playing Saturday & Sunday!
URL:https://www.theartfairgallery.com/event/2023-mountain-heritage-arts-crafts-festival/
LOCATION:Jefferson County Fairgrounds\, 1707 Old Leetown Pike\, Kearneysville\, WV\, 25430\, United States
CATEGORIES:Craft Fair
ATTACH;FMTTYPE=image/jpeg:https://www.theartfairgallery.com/wp-content/uploads/2023/08/5818e1b7b44a6df231b146261bb80262.jpg
END:VEVENT
END:VCALENDAR