BEGIN:VCALENDAR
VERSION:2.0
PRODID:-//The Art Fair Gallery - ECPv6.15.18//NONSGML v1.0//EN
CALSCALE:GREGORIAN
METHOD:PUBLISH
X-ORIGINAL-URL:https://www.theartfairgallery.com
X-WR-CALDESC:Events for The Art Fair Gallery
REFRESH-INTERVAL;VALUE=DURATION:PT1H
X-Robots-Tag:noindex
X-PUBLISHED-TTL:PT1H
BEGIN:VTIMEZONE
TZID:America/Los_Angeles
BEGIN:DAYLIGHT
TZOFFSETFROM:-0800
TZOFFSETTO:-0700
TZNAME:PDT
DTSTART:20220313T100000
END:DAYLIGHT
BEGIN:STANDARD
TZOFFSETFROM:-0700
TZOFFSETTO:-0800
TZNAME:PST
DTSTART:20221106T090000
END:STANDARD
BEGIN:DAYLIGHT
TZOFFSETFROM:-0800
TZOFFSETTO:-0700
TZNAME:PDT
DTSTART:20230312T100000
END:DAYLIGHT
BEGIN:STANDARD
TZOFFSETFROM:-0700
TZOFFSETTO:-0800
TZNAME:PST
DTSTART:20231105T090000
END:STANDARD
BEGIN:DAYLIGHT
TZOFFSETFROM:-0800
TZOFFSETTO:-0700
TZNAME:PDT
DTSTART:20240310T100000
END:DAYLIGHT
BEGIN:STANDARD
TZOFFSETFROM:-0700
TZOFFSETTO:-0800
TZNAME:PST
DTSTART:20241103T090000
END:STANDARD
END:VTIMEZONE
BEGIN:VEVENT
DTSTART;TZID=America/Los_Angeles:20231118T180000
DTEND;TZID=America/Los_Angeles:20231118T210000
DTSTAMP:20260421T085746
CREATED:20230928T102026Z
LAST-MODIFIED:20230928T102026Z
UID:10006366-1700330400-1700341200@www.theartfairgallery.com
SUMMARY:Artisans of Everett Sippin' and Shoppin'
DESCRIPTION:An evening of wine tasting\, charcuterie\, live music\, books books books and gift shopping.  Product drops\, holiday items\, and door prizes.\n\n\nA﻿rtisans of Everett is hosting their first Sippin’ and Shoppin’ event – a combination of wine tasting\, food nibbling\, tea sampling\, gift shopping and adult book fair.  What could be better??? Well add live music by local guitar guy Tim Ramsey and door prizes and BAM! it is even better.   \nT﻿ickets available through Eventbrite\, at the shops Artisans Books & Coffee and Artisans PNW and on their website https://square.link/u/7VTv8DAq
URL:https://www.theartfairgallery.com/event/artisans-of-everett-sippin-and-shoppin/
LOCATION:Hewitt Avenue & Wetmore Avenue\, Hewitt Ave and Wetmore Ave\, Everett\, WA\, 98201\, United States
CATEGORIES:Washington
ATTACH;FMTTYPE=image/jpeg:https://www.theartfairgallery.com/wp-content/uploads/2023/09/e1aca7fe72b0186902f0dced1a95795a.jpg
END:VEVENT
END:VCALENDAR