BEGIN:VCALENDAR
VERSION:2.0
PRODID:-//The Art Fair Gallery - ECPv6.15.18//NONSGML v1.0//EN
CALSCALE:GREGORIAN
METHOD:PUBLISH
X-ORIGINAL-URL:https://www.theartfairgallery.com
X-WR-CALDESC:Events for The Art Fair Gallery
REFRESH-INTERVAL;VALUE=DURATION:PT1H
X-Robots-Tag:noindex
X-PUBLISHED-TTL:PT1H
BEGIN:VTIMEZONE
TZID:America/Chicago
BEGIN:DAYLIGHT
TZOFFSETFROM:-0600
TZOFFSETTO:-0500
TZNAME:CDT
DTSTART:20220313T080000
END:DAYLIGHT
BEGIN:STANDARD
TZOFFSETFROM:-0500
TZOFFSETTO:-0600
TZNAME:CST
DTSTART:20221106T070000
END:STANDARD
BEGIN:DAYLIGHT
TZOFFSETFROM:-0600
TZOFFSETTO:-0500
TZNAME:CDT
DTSTART:20230312T080000
END:DAYLIGHT
BEGIN:STANDARD
TZOFFSETFROM:-0500
TZOFFSETTO:-0600
TZNAME:CST
DTSTART:20231105T070000
END:STANDARD
BEGIN:DAYLIGHT
TZOFFSETFROM:-0600
TZOFFSETTO:-0500
TZNAME:CDT
DTSTART:20240310T080000
END:DAYLIGHT
BEGIN:STANDARD
TZOFFSETFROM:-0500
TZOFFSETTO:-0600
TZNAME:CST
DTSTART:20241103T070000
END:STANDARD
END:VTIMEZONE
BEGIN:VEVENT
DTSTART;TZID=America/Chicago:20230909T100000
DTEND;TZID=America/Chicago:20230909T170000
DTSTAMP:20260420T104209
CREATED:20230522T110900Z
LAST-MODIFIED:20230522T110900Z
UID:10005491-1694253600-1694278800@www.theartfairgallery.com
SUMMARY:SIGN UP TO WIN $100 IN ART BUCKS! Art on the Fox Art Show
DESCRIPTION:Art on the Fox features a special music set Saturday evening\, yoga on Sunday morning\, and drinks galore along the festival route.\n\n\nSign up here for the chance to win $100 in Art Bucks for purchasing art at the festival! \nA fun-filled festival weekend is in store as Art on the Fox makes an exciting return to the charming\, newly renovated streets of Downtown Algonquin. Hosted by the Village of Algonquin\, the fest will showcase the work of 75 of the nation’s top juried artists\, along with live musical performances and family-friendly activities. \nThis is a FREE event with plenty of nearby parking! \nSeveral artists from this show are participating in Amdur Productions’ Green Ribbon Project. Artists place a green ribbon on a piece of art in their booth\, and if the piece is sold\, 10% of the sale will be donated to Recreation for All-Gonquin. \nAttendees are invited to bring their gently used wall art to the festival where it will be donated to the Chicago Furniture Bank\, a nonprofit that distributes furnishings and art to those leaving shelters and moving into permanent housing.  \nFor more information\, head to AmdurProductions.com or contact Amdur Productions at 847-926-4300 \nThe winner of $100 Art Bucks will be contacted via email the Thursday prior to the show opening. Cannot be redeemed for cash. One entry per person.
URL:https://www.theartfairgallery.com/event/sign-up-to-win-100-in-art-bucks-art-on-the-fox-art-show/
LOCATION:Downtown Algonquin\, Main Street\, Washington Street\, Algonquin\, IL\, 60102\, United States
CATEGORIES:Illinois
ATTACH;FMTTYPE=image/jpeg:https://www.theartfairgallery.com/wp-content/uploads/2023/05/75dec5c40d1f6616fd039de01841cb83.jpg
END:VEVENT
END:VCALENDAR