BEGIN:VCALENDAR
VERSION:2.0
PRODID:-//The Art Fair Gallery - ECPv6.15.18//NONSGML v1.0//EN
CALSCALE:GREGORIAN
METHOD:PUBLISH
X-WR-CALNAME:The Art Fair Gallery
X-ORIGINAL-URL:https://www.theartfairgallery.com
X-WR-CALDESC:Events for The Art Fair Gallery
REFRESH-INTERVAL;VALUE=DURATION:PT1H
X-Robots-Tag:noindex
X-PUBLISHED-TTL:PT1H
BEGIN:VTIMEZONE
TZID:America/Phoenix
BEGIN:STANDARD
TZOFFSETFROM:-0700
TZOFFSETTO:-0700
TZNAME:MST
DTSTART:20220101T000000
END:STANDARD
END:VTIMEZONE
BEGIN:VEVENT
DTSTART;TZID=America/Phoenix:20240315T100000
DTEND;TZID=America/Phoenix:20240317T150000
DTSTAMP:20260423T061313
CREATED:20231118T080845Z
LAST-MODIFIED:20231118T080845Z
UID:10006758-1710496800-1710687600@www.theartfairgallery.com
SUMMARY:Art & Crafts Festival on  7850 N Silverbell\,  Cortaro) March15\,16.17\, 2024
DESCRIPTION:Join us for a vibrant Art & Crafts Festival at 7850 N Silverbell\, Cortaro on March 15-17\, 2024\, where creativity takes center stage!\n\n\nWelcome to the Art & Crafts Festival on Fry’s Continental Plaza\, 7850 N Silverbell\, (corner of Cortaro)March 15 & 16 10-5 & March17th\, 10-3.2024.  Get ready for a weekend filled with creativity\, inspiration\, and fun. Join on . Experience a diverse range of *artworks** and **crafts** created by talented artists and artisans. Browse through a wide selection of unique pieces\, from paintings and metal sculptures to handmade jewelry and ceramics. Discover hidden gems and find that perfect piece to add to your collection or gift to a loved one. Immerse yourself in the vibrant atmosphere as you explore the various **booths** and interact with the artists themselves. Mark your calendars for this exciting event! Join us at the Art & Crafts Festival on 7850 N Silverbell\, Cortaro\, from March 15th to 17th\, 2024. We can’t wait to see you there!
URL:https://www.theartfairgallery.com/event/art-crafts-festival-on-7850-n-silverbell-cortaro-march1516-17-2024/
LOCATION:7850 N Silverbell Rd\, 7850 North Silverbell Road\, Tucson\, AZ\, 85743\, United States
CATEGORIES:Arizona
ATTACH;FMTTYPE=image/jpeg:https://www.theartfairgallery.com/wp-content/uploads/2023/06/22bb7ed38ca8c90f05ff73f6ba97d782.jpg
END:VEVENT
BEGIN:VEVENT
DTSTART;TZID=America/Phoenix:20240119T100000
DTEND;TZID=America/Phoenix:20240121T150000
DTSTAMP:20260423T061313
CREATED:20230910T154416Z
LAST-MODIFIED:20240119T014603Z
UID:10006100-1705658400-1705849200@www.theartfairgallery.com
SUMMARY:Art & Crafts Festival on Silverbell & Cortaro\, Fry's Continental Plaza
DESCRIPTION:Amazing Art & Crafts Festival – Fry’s Continental Plaza\, 7850 N. Silverbell\, corner of Cortaro  on  January 19\, 20\, 21\, 2024\n\n\nJoin us for the Art & Crafts Festival on Silverbell & Cortaro at Fry’s Continental Plaza! Get ready to immerse yourself in a vibrant celebration of creativity and craftsmanship. This exciting event will take place on Fri Jan 19\, & Jan 20 10-5 & Sun Jan 21\, 10-3. Discover a wide range of unique and handcrafted items showcased by talented local artists and artisans. From mesmerizing paintings and metal yard art to exquisite jewelry and pottery\, there’s something for everyone’s taste. Whether you’re an art enthusiast\, a craft lover\, or simply looking for a fun-filled day out\, the Art & Crafts Festival on Silverbell & Cortaro promises an unforgettable experience. Mark your calendars and join us for this vibrant celebration of creativity!
URL:https://www.theartfairgallery.com/event/art-crafts-festival-on-silverbell-cortaro-frys-continental-plaza-3/
LOCATION:7850 N Silverbell Rd\, 7850 North Silverbell Road\, Tucson\, AZ\, 85743\, United States
CATEGORIES:Arizona,Craft Fair
ATTACH;FMTTYPE=image/jpeg:https://www.theartfairgallery.com/wp-content/uploads/2023/06/22bb7ed38ca8c90f05ff73f6ba97d782.jpg
END:VEVENT
BEGIN:VEVENT
DTSTART;TZID=America/Phoenix:20231103T100000
DTEND;TZID=America/Phoenix:20231105T150000
DTSTAMP:20260423T061313
CREATED:20230625T092813Z
LAST-MODIFIED:20230625T092813Z
UID:10005651-1699005600-1699196400@www.theartfairgallery.com
SUMMARY:Art & Crafts Festival on Silverbell & Cortaro\, Fry's Continental Plaza
DESCRIPTION:Come join us for an awesome Art & Crafts Festival on Silverbell & Cortaro\, Fry’s Continental Plaza on Nov 3rd\, 4th\,10-5\, & Nov 5th 10-3\n\n\nArt & Crafts Festival on Silverbell & Cortaro\, Fry’s Continental Plaza \nCome join us for  fun-filled days of creativity and inspiration at the Art & Crafts Festival on Silverbell & Cortaro\, Fry’s Continental Plaza! This event is perfect for art and craft enthusiasts who want to explore their creative side and discover unique and handmade items. With a variety of vendors showcasing their artwork and crafts\, you’ll find everything from paintings and sculptures to jewelry and pottery. You can also enjoy  music\, delicious food\, and other fun activities for the whole family. The festival will take place on Fri Nov 3. 4. 5. 2023 at 7850 North Silverbell Road\, Tucson\, AZ 85743. Don’t miss out on this exciting event that celebrates the beauty and creativity of art and crafts!
URL:https://www.theartfairgallery.com/event/art-crafts-festival-on-silverbell-cortaro-frys-continental-plaza-2/
LOCATION:7850 N Silverbell Rd\, 7850 North Silverbell Road\, Tucson\, AZ\, 85743\, United States
CATEGORIES:Arizona
ATTACH;FMTTYPE=image/jpeg:https://www.theartfairgallery.com/wp-content/uploads/2023/06/22bb7ed38ca8c90f05ff73f6ba97d782.jpg
END:VEVENT
END:VCALENDAR