BEGIN:VCALENDAR
VERSION:2.0
PRODID:-//The Art Fair Gallery - ECPv6.15.18//NONSGML v1.0//EN
CALSCALE:GREGORIAN
METHOD:PUBLISH
X-ORIGINAL-URL:https://www.theartfairgallery.com
X-WR-CALDESC:Events for The Art Fair Gallery
REFRESH-INTERVAL;VALUE=DURATION:PT1H
X-Robots-Tag:noindex
X-PUBLISHED-TTL:PT1H
BEGIN:VTIMEZONE
TZID:America/Los_Angeles
BEGIN:DAYLIGHT
TZOFFSETFROM:-0800
TZOFFSETTO:-0700
TZNAME:PDT
DTSTART:20220313T100000
END:DAYLIGHT
BEGIN:STANDARD
TZOFFSETFROM:-0700
TZOFFSETTO:-0800
TZNAME:PST
DTSTART:20221106T090000
END:STANDARD
BEGIN:DAYLIGHT
TZOFFSETFROM:-0800
TZOFFSETTO:-0700
TZNAME:PDT
DTSTART:20230312T100000
END:DAYLIGHT
BEGIN:STANDARD
TZOFFSETFROM:-0700
TZOFFSETTO:-0800
TZNAME:PST
DTSTART:20231105T090000
END:STANDARD
BEGIN:DAYLIGHT
TZOFFSETFROM:-0800
TZOFFSETTO:-0700
TZNAME:PDT
DTSTART:20240310T100000
END:DAYLIGHT
BEGIN:STANDARD
TZOFFSETFROM:-0700
TZOFFSETTO:-0800
TZNAME:PST
DTSTART:20241103T090000
END:STANDARD
END:VTIMEZONE
BEGIN:VEVENT
DTSTART;TZID=America/Los_Angeles:20231217T100000
DTEND;TZID=America/Los_Angeles:20231217T150000
DTSTAMP:20260419T193625
CREATED:20230929T121736Z
LAST-MODIFIED:20230929T121736Z
UID:10006388-1702807200-1702825200@www.theartfairgallery.com
SUMMARY:Holiday Bazaar- Vendor Table
DESCRIPTION:come Join us for our 2nd annual Bazaar – You will get a 6ft table and 2 chairs per ticket
URL:https://www.theartfairgallery.com/event/holiday-bazaar-vendor-table-3/
LOCATION:6481 W Skagit Ave\, 6481 West Skagit Avenue\, Kennewick\, WA\, 99336\, United States
CATEGORIES:Call for Artists
ATTACH;FMTTYPE=image/jpeg:https://www.theartfairgallery.com/wp-content/uploads/2023/09/f7af5d5a750b1f102af50026fa704a8c.jpg
END:VEVENT
BEGIN:VEVENT
DTSTART;TZID=America/Los_Angeles:20231203T100000
DTEND;TZID=America/Los_Angeles:20231203T150000
DTSTAMP:20260419T193625
CREATED:20230929T121735Z
LAST-MODIFIED:20230929T121735Z
UID:10006387-1701597600-1701615600@www.theartfairgallery.com
SUMMARY:Holiday Bazaar- Vendor Table
DESCRIPTION:come Join us for our 2nd annual Bazaar – You will get a 6ft table and 2 chairs per ticket
URL:https://www.theartfairgallery.com/event/holiday-bazaar-vendor-table-2/
LOCATION:6481 W Skagit Ave\, 6481 West Skagit Avenue\, Kennewick\, WA\, 99336\, United States
CATEGORIES:Call for Artists
ATTACH;FMTTYPE=image/jpeg:https://www.theartfairgallery.com/wp-content/uploads/2023/09/f7af5d5a750b1f102af50026fa704a8c.jpg
END:VEVENT
BEGIN:VEVENT
DTSTART;TZID=America/Los_Angeles:20231126T100000
DTEND;TZID=America/Los_Angeles:20231126T150000
DTSTAMP:20260419T193625
CREATED:20230929T121730Z
LAST-MODIFIED:20230929T121730Z
UID:10006386-1700992800-1701010800@www.theartfairgallery.com
SUMMARY:Holiday Bazaar- Vendor Table
DESCRIPTION:come Join us for our 2nd annual Bazaar – You will get a 6ft table and 2 chairs per ticket
URL:https://www.theartfairgallery.com/event/holiday-bazaar-vendor-table/
LOCATION:6481 W Skagit Ave\, 6481 West Skagit Avenue\, Kennewick\, WA\, 99336\, United States
CATEGORIES:Call for Artists
ATTACH;FMTTYPE=image/jpeg:https://www.theartfairgallery.com/wp-content/uploads/2023/09/f7af5d5a750b1f102af50026fa704a8c.jpg
END:VEVENT
BEGIN:VEVENT
DTSTART;TZID=America/Los_Angeles:20231007T100000
DTEND;TZID=America/Los_Angeles:20231007T150000
DTSTAMP:20260419T193625
CREATED:20230927T105814Z
LAST-MODIFIED:20230927T105814Z
UID:10006355-1696672800-1696690800@www.theartfairgallery.com
SUMMARY:Summer's Farmer's Market
DESCRIPTION:Sign up to be a vendor this spring and summer and Summer’s Corner Marketplace! We have spots available every Saturday. Set up is 8-9:30am.
URL:https://www.theartfairgallery.com/event/summers-farmers-market-2/
LOCATION:6481 W Skagit Ave\, 6481 West Skagit Avenue\, Kennewick\, WA\, 99336\, United States
CATEGORIES:Washington
ATTACH;FMTTYPE=image/jpeg:https://www.theartfairgallery.com/wp-content/uploads/2023/09/b8bf96cd0bc878786f23a192723de839.jpg
END:VEVENT
BEGIN:VEVENT
DTSTART;TZID=America/Los_Angeles:20230930T100000
DTEND;TZID=America/Los_Angeles:20230930T150000
DTSTAMP:20260419T193625
CREATED:20230927T105812Z
LAST-MODIFIED:20230927T105812Z
UID:10006354-1696068000-1696086000@www.theartfairgallery.com
SUMMARY:Summer's Farmer's Market
DESCRIPTION:Sign up to be a vendor this spring and summer and Summer’s Corner Marketplace! We have spots available every Saturday. Set up is 8-9:30am.
URL:https://www.theartfairgallery.com/event/summers-farmers-market/
LOCATION:6481 W Skagit Ave\, 6481 West Skagit Avenue\, Kennewick\, WA\, 99336\, United States
CATEGORIES:Washington
ATTACH;FMTTYPE=image/jpeg:https://www.theartfairgallery.com/wp-content/uploads/2023/09/b8bf96cd0bc878786f23a192723de839.jpg
END:VEVENT
END:VCALENDAR