BEGIN:VCALENDAR
VERSION:2.0
PRODID:-//The Art Fair Gallery - ECPv6.15.18//NONSGML v1.0//EN
CALSCALE:GREGORIAN
METHOD:PUBLISH
X-ORIGINAL-URL:https://www.theartfairgallery.com
X-WR-CALDESC:Events for The Art Fair Gallery
REFRESH-INTERVAL;VALUE=DURATION:PT1H
X-Robots-Tag:noindex
X-PUBLISHED-TTL:PT1H
BEGIN:VTIMEZONE
TZID:America/Indiana/Indianapolis
BEGIN:DAYLIGHT
TZOFFSETFROM:-0500
TZOFFSETTO:-0400
TZNAME:EDT
DTSTART:20220313T070000
END:DAYLIGHT
BEGIN:STANDARD
TZOFFSETFROM:-0400
TZOFFSETTO:-0500
TZNAME:EST
DTSTART:20221106T060000
END:STANDARD
BEGIN:DAYLIGHT
TZOFFSETFROM:-0500
TZOFFSETTO:-0400
TZNAME:EDT
DTSTART:20230312T070000
END:DAYLIGHT
BEGIN:STANDARD
TZOFFSETFROM:-0400
TZOFFSETTO:-0500
TZNAME:EST
DTSTART:20231105T060000
END:STANDARD
BEGIN:DAYLIGHT
TZOFFSETFROM:-0500
TZOFFSETTO:-0400
TZNAME:EDT
DTSTART:20240310T070000
END:DAYLIGHT
BEGIN:STANDARD
TZOFFSETFROM:-0400
TZOFFSETTO:-0500
TZNAME:EST
DTSTART:20241103T060000
END:STANDARD
END:VTIMEZONE
BEGIN:VEVENT
DTSTART;TZID=America/Indiana/Indianapolis:20231202T110000
DTEND;TZID=America/Indiana/Indianapolis:20231202T160000
DTSTAMP:20260422T165328
CREATED:20231124T222530Z
LAST-MODIFIED:20231124T222530Z
UID:10006848-1701514800-1701532800@www.theartfairgallery.com
SUMMARY:Vendor Booth Rental - 2nd Annual Christmas Bazaar & Craft Fair
DESCRIPTION:Rent a vendor booth at our 2nd Annual Christmas Bazaar & Craft Fair for a jolly in-person shopping experience!\n\n\nVendor Booth Rental – 2nd Annual Christmas Bazaar & Craft Fair \nJoin us at the 2nd Annual Christmas Bazaar & Craft Fair for a festive shopping experience! This in-person event will be held at 5557 IN-44\, Franklin\, IN\, USA.  \nIf you purchase a General Admission Spot  for $30.00 off this website you will be reserving your 10×10 Vendor Booth.  \nThis event has something for everyone\, and we want you to be part of it. Don’t miss out on this opportunity to be part of our Christmas Community Event and let our guests find your one-of-a-kind treasures. \nMark your calendars and get ready to celebrate the holiday season in style!
URL:https://www.theartfairgallery.com/event/vendor-booth-rental-2nd-annual-christmas-bazaar-craft-fair/
LOCATION:5557 IN-44\, Franklin\, IN\, USA\, 5557 Indiana 44\, Franklin\, IN\, 46131\, United States
CATEGORIES:Craft Fair
ATTACH;FMTTYPE=image/jpeg:https://www.theartfairgallery.com/wp-content/uploads/2023/11/2897522e8ea28ec176125adb007f473e.jpg
END:VEVENT
END:VCALENDAR