BEGIN:VCALENDAR
VERSION:2.0
PRODID:-//The Art Fair Gallery - ECPv6.15.18//NONSGML v1.0//EN
CALSCALE:GREGORIAN
METHOD:PUBLISH
X-WR-CALNAME:The Art Fair Gallery
X-ORIGINAL-URL:https://www.theartfairgallery.com
X-WR-CALDESC:Events for The Art Fair Gallery
REFRESH-INTERVAL;VALUE=DURATION:PT1H
X-Robots-Tag:noindex
X-PUBLISHED-TTL:PT1H
BEGIN:VTIMEZONE
TZID:America/New_York
BEGIN:DAYLIGHT
TZOFFSETFROM:-0500
TZOFFSETTO:-0400
TZNAME:EDT
DTSTART:20220313T070000
END:DAYLIGHT
BEGIN:STANDARD
TZOFFSETFROM:-0400
TZOFFSETTO:-0500
TZNAME:EST
DTSTART:20221106T060000
END:STANDARD
BEGIN:DAYLIGHT
TZOFFSETFROM:-0500
TZOFFSETTO:-0400
TZNAME:EDT
DTSTART:20230312T070000
END:DAYLIGHT
BEGIN:STANDARD
TZOFFSETFROM:-0400
TZOFFSETTO:-0500
TZNAME:EST
DTSTART:20231105T060000
END:STANDARD
BEGIN:DAYLIGHT
TZOFFSETFROM:-0500
TZOFFSETTO:-0400
TZNAME:EDT
DTSTART:20240310T070000
END:DAYLIGHT
BEGIN:STANDARD
TZOFFSETFROM:-0400
TZOFFSETTO:-0500
TZNAME:EST
DTSTART:20241103T060000
END:STANDARD
END:VTIMEZONE
BEGIN:VEVENT
DTSTART;TZID=America/New_York:20231014T090000
DTEND;TZID=America/New_York:20231014T160000
DTSTAMP:20260422T033810
CREATED:20230818T114912Z
LAST-MODIFIED:20230818T114912Z
UID:10005847-1697274000-1697299200@www.theartfairgallery.com
SUMMARY:40th Annual Mountain Glory Festival
DESCRIPTION:Every October Marion celebrates the glory of the mountains and crafters. Visit three blocks of craft\, food\,& npo vendors and children’s area\n\n\nMarion\, North Carolina celebrates the arrival of autumn in the Blue Ridge during their annual Mountain Glory Festival.  For 40 years\, beautiful downtown Marion has hosted this popular celebration on the 2nd Saturday in October.  This year\, make plans to visit on October 14th between 9:00 AM – 4:00 PM.\n \nCelebrate small-town life in the mountains.  Visitors looking for original handicrafts will find plenty of choices for shopping with three jam packed blocks\, featuring over 150 craft\, food\, non-profit and sponsor booths of locally made arts and crafts; festival foods and local restaurants.  Plus\, two stages presenting Marion’s finest musicians.\n \n Don’t miss the annual Mountain Glory Quilt Show inside the McDowell Arts Council. The quilt show is the gallery’s featured\, October exhibit.  The kids will have fun in the “Children’s Arena” with hands-on activities\, local entertainment and the ever popular best-dressed pet contest.\n \n Shuttle services will run from Rose’s parking lot to the Festival site every half hour.  Shuttle service is free.  Handicap Parking will be available behind State Farm Insurance.\n \n \nYou might even see Bigfoot\, Marion’s Official Animal!\n \nThe festival is sponsored by the City of Marion.\n \nFor festival information visit  www.mtngloryfestival.com  or call  828-652-2215.  To find additional area events\, attractions and lodging information\, visit www.blueridgetraveler.com or call toll free (888-233-6111) to receive a free visitor guide and map.
URL:https://www.theartfairgallery.com/event/40th-annual-mountain-glory-festival/
LOCATION:20 S Main St\, 20 South Main Street\, Marion\, NC\, 28752\, United States
CATEGORIES:North Carolina
ATTACH;FMTTYPE=image/jpeg:https://www.theartfairgallery.com/wp-content/uploads/2023/08/7078b8905dbe8329a181fd0c743213ce.jpg
END:VEVENT
END:VCALENDAR