BEGIN:VCALENDAR
VERSION:2.0
PRODID:-//The Art Fair Gallery - ECPv6.15.18//NONSGML v1.0//EN
CALSCALE:GREGORIAN
METHOD:PUBLISH
X-WR-CALNAME:The Art Fair Gallery
X-ORIGINAL-URL:https://www.theartfairgallery.com
X-WR-CALDESC:Events for The Art Fair Gallery
REFRESH-INTERVAL;VALUE=DURATION:PT1H
X-Robots-Tag:noindex
X-PUBLISHED-TTL:PT1H
BEGIN:VTIMEZONE
TZID:America/Phoenix
BEGIN:STANDARD
TZOFFSETFROM:-0700
TZOFFSETTO:-0700
TZNAME:MST
DTSTART:20230101T000000
END:STANDARD
END:VTIMEZONE
BEGIN:VEVENT
DTSTART;TZID=America/Phoenix:20240113T100000
DTEND;TZID=America/Phoenix:20240324T180000
DTSTAMP:20260423T092458
CREATED:20230907T101110Z
LAST-MODIFIED:20231116T114543Z
UID:10006067-1705140000-1711303200@www.theartfairgallery.com
SUMMARY:Celebration of Fine Art
DESCRIPTION:Discover New Artists\, Mediums\, Artwork & Experiences\n\n\nThe Celebration of Fine Art\, known as the place where art lovers and artists connect\, is Arizona’s longest-running art show now entering its 34th year!  Discover new  Artists\, Mediums\, Artwork and Experiences with100 of the finest artists from around the country under the big white tent in Scottsdale\, AZ.  January 14 through March 24\, 2024. 10 am to 6 pm  daily.  \nArtist studios are set up in a spacious and open setting\, allowing for plenty of space to admire and acquire art in all styles and mediums. Connect with artists as you discover the joy of art or even the next piece for your personal collection.  Free Parking\, Cafe on site and plenty of open space. \nEnjoy a special two-for-one offer through Eventbrite! Buy one ticket for $10 and receive TWO admissions! You will receive TWO Season Passes to enjoy for the enitre duration of the show through March 24\, 20-24 \n\n\n\n\nArtist Shannon Leigh painting. \n\n\n\nMatt Sievers blocking in a large landscape. \n\n\n\nGabriela Aguio working on floral abstract. \n\n\n\nArtist Ray Tigerman at the Celebraiton of Fine Art
URL:https://www.theartfairgallery.com/event/celebration-of-fine-art-2/
LOCATION:18400 N Hayden Rd\, 18400 North Hayden Road\, Scottsdale\, AZ\, 85255\, United States
CATEGORIES:Arizona
END:VEVENT
END:VCALENDAR