BEGIN:VCALENDAR
VERSION:2.0
PRODID:-//The Art Fair Gallery - ECPv6.15.18//NONSGML v1.0//EN
CALSCALE:GREGORIAN
METHOD:PUBLISH
X-ORIGINAL-URL:https://www.theartfairgallery.com
X-WR-CALDESC:Events for The Art Fair Gallery
REFRESH-INTERVAL;VALUE=DURATION:PT1H
X-Robots-Tag:noindex
X-PUBLISHED-TTL:PT1H
BEGIN:VTIMEZONE
TZID:America/New_York
BEGIN:DAYLIGHT
TZOFFSETFROM:-0500
TZOFFSETTO:-0400
TZNAME:EDT
DTSTART:20220313T070000
END:DAYLIGHT
BEGIN:STANDARD
TZOFFSETFROM:-0400
TZOFFSETTO:-0500
TZNAME:EST
DTSTART:20221106T060000
END:STANDARD
BEGIN:DAYLIGHT
TZOFFSETFROM:-0500
TZOFFSETTO:-0400
TZNAME:EDT
DTSTART:20230312T070000
END:DAYLIGHT
BEGIN:STANDARD
TZOFFSETFROM:-0400
TZOFFSETTO:-0500
TZNAME:EST
DTSTART:20231105T060000
END:STANDARD
BEGIN:DAYLIGHT
TZOFFSETFROM:-0500
TZOFFSETTO:-0400
TZNAME:EDT
DTSTART:20240310T070000
END:DAYLIGHT
BEGIN:STANDARD
TZOFFSETFROM:-0400
TZOFFSETTO:-0500
TZNAME:EST
DTSTART:20241103T060000
END:STANDARD
END:VTIMEZONE
BEGIN:VEVENT
DTSTART;TZID=America/New_York:20230930T100000
DTEND;TZID=America/New_York:20230930T160000
DTSTAMP:20260420T015741
CREATED:20230922T025040Z
LAST-MODIFIED:20230922T025040Z
UID:10006237-1696068000-1696089600@www.theartfairgallery.com
SUMMARY:Fall Fair
DESCRIPTION:Join us for artisan booths\, food trucks\, vendors\, tractor rides\, apples\, pumpkin decorating\, live music\, kids activities\, farm fun and more!\n\n\nJoin us Saturday September 30\, 2023 from 10 AM to 4 PM for artisan booths\, food trucks\, vendors\, tractor rides\, apples\, pumpkin decorating\, live music\, kids activities\, farm fun and more! \n$﻿30/per FAMILY* \n*Please note – this is an event for all ages
URL:https://www.theartfairgallery.com/event/fall-fair/
LOCATION:174 Joppa Hill Rd\, 174 Joppa Hill Road\, Bedford\, NH\, 03110\, United States
CATEGORIES:Craft Fair
ATTACH;FMTTYPE=image/jpeg:https://www.theartfairgallery.com/wp-content/uploads/2023/09/bb81e1bd0edc25a71baa018c282aca5d.jpg
END:VEVENT
END:VCALENDAR