BEGIN:VCALENDAR
VERSION:2.0
PRODID:-//The Art Fair Gallery - ECPv6.15.18//NONSGML v1.0//EN
CALSCALE:GREGORIAN
METHOD:PUBLISH
X-WR-CALNAME:The Art Fair Gallery
X-ORIGINAL-URL:https://www.theartfairgallery.com
X-WR-CALDESC:Events for The Art Fair Gallery
REFRESH-INTERVAL;VALUE=DURATION:PT1H
X-Robots-Tag:noindex
X-PUBLISHED-TTL:PT1H
BEGIN:VTIMEZONE
TZID:America/Chicago
BEGIN:DAYLIGHT
TZOFFSETFROM:-0600
TZOFFSETTO:-0500
TZNAME:CDT
DTSTART:20220313T080000
END:DAYLIGHT
BEGIN:STANDARD
TZOFFSETFROM:-0500
TZOFFSETTO:-0600
TZNAME:CST
DTSTART:20221106T070000
END:STANDARD
BEGIN:DAYLIGHT
TZOFFSETFROM:-0600
TZOFFSETTO:-0500
TZNAME:CDT
DTSTART:20230312T080000
END:DAYLIGHT
BEGIN:STANDARD
TZOFFSETFROM:-0500
TZOFFSETTO:-0600
TZNAME:CST
DTSTART:20231105T070000
END:STANDARD
BEGIN:DAYLIGHT
TZOFFSETFROM:-0600
TZOFFSETTO:-0500
TZNAME:CDT
DTSTART:20240310T080000
END:DAYLIGHT
BEGIN:STANDARD
TZOFFSETFROM:-0500
TZOFFSETTO:-0600
TZNAME:CST
DTSTART:20241103T070000
END:STANDARD
END:VTIMEZONE
BEGIN:VEVENT
DTSTART;TZID=America/Chicago:20231202T100000
DTEND;TZID=America/Chicago:20231202T170000
DTSTAMP:20260421T031703
CREATED:20231125T035700Z
LAST-MODIFIED:20231125T035700Z
UID:10006887-1701511200-1701536400@www.theartfairgallery.com
SUMMARY:Wheatsville Arts Festival
DESCRIPTION:Over 70 vendors offering one of a kind\, handmade creations. Kids area\, wine samples and baked treats!\n\n\nIt’s back! After more than a decade the Wheatsville Arts Festival is returning\, and admission is completely FREE. Join us Saturday\, December 2 from 10 am to 5 pm for a complete takeover of our South Lamar parking lot. Currently we have over 70 vendors offering one of a kind\, handmade creations. We will also have a kid’s area from 12-4 sponsored by Austin Creative Reuse. After you hit the festival\, head into the store for samples from our wine department and our Bakehouse. You can even sign up for a free facial compliments of Fat and the Moon!
URL:https://www.theartfairgallery.com/event/wheatsville-arts-festival/
LOCATION:4001 S Lamar Blvd\, 4001 South Lamar Boulevard\, Austin\, TX\, 78704\, United States
CATEGORIES:Craft Fair
ATTACH;FMTTYPE=image/jpeg:https://www.theartfairgallery.com/wp-content/uploads/2023/11/85c3c22f756a5c83bdf8f3b230c20437.jpg
END:VEVENT
END:VCALENDAR