BEGIN:VCALENDAR
VERSION:2.0
PRODID:-//The Art Fair Gallery - ECPv6.15.18//NONSGML v1.0//EN
CALSCALE:GREGORIAN
METHOD:PUBLISH
X-ORIGINAL-URL:https://www.theartfairgallery.com
X-WR-CALDESC:Events for The Art Fair Gallery
REFRESH-INTERVAL;VALUE=DURATION:PT1H
X-Robots-Tag:noindex
X-PUBLISHED-TTL:PT1H
BEGIN:VTIMEZONE
TZID:America/Detroit
BEGIN:DAYLIGHT
TZOFFSETFROM:-0500
TZOFFSETTO:-0400
TZNAME:EDT
DTSTART:20220313T070000
END:DAYLIGHT
BEGIN:STANDARD
TZOFFSETFROM:-0400
TZOFFSETTO:-0500
TZNAME:EST
DTSTART:20221106T060000
END:STANDARD
BEGIN:DAYLIGHT
TZOFFSETFROM:-0500
TZOFFSETTO:-0400
TZNAME:EDT
DTSTART:20230312T070000
END:DAYLIGHT
BEGIN:STANDARD
TZOFFSETFROM:-0400
TZOFFSETTO:-0500
TZNAME:EST
DTSTART:20231105T060000
END:STANDARD
BEGIN:DAYLIGHT
TZOFFSETFROM:-0500
TZOFFSETTO:-0400
TZNAME:EDT
DTSTART:20240310T070000
END:DAYLIGHT
BEGIN:STANDARD
TZOFFSETFROM:-0400
TZOFFSETTO:-0500
TZNAME:EST
DTSTART:20241103T060000
END:STANDARD
END:VTIMEZONE
BEGIN:VEVENT
DTSTART;TZID=America/Detroit:20231210T120000
DTEND;TZID=America/Detroit:20231210T180000
DTSTAMP:20260423T122707
CREATED:20231121T165332Z
LAST-MODIFIED:20231121T165332Z
UID:10006833-1702209600-1702231200@www.theartfairgallery.com
SUMMARY:Mikail Akar’s ‘UNBELIEVABLE' at Spectrum Miami Art Fair
DESCRIPTION:Opening on December 6\, 2023\, the Spectrum Miami Art Fair will host Cologne-born visual artist Mikail Akar’s highly anticipated solo exhibition\, in a continuation of his multi-city series “UNBELIEVABLE.” The 11-year-old abstractionist’s Miami Art Week debut affirms Akar’s promising trajectory in contemporary art and signifies the next chapter in the wunderkin’s awe-inspiring journey. \nRenowned for his groundbreaking live painting performance atop the iconic Empire State Building in New York City\, Akar carved his name in history as the first European artist to do so. As the youngest exhibitor in Spectrum Miami’s history\, the self-taught prodigy will bring a kaleidoscope of creativity to the heart of Miami’s vibrant arts scene with a spotlight on his magnum opus\, “DIAMOND KING”. \nOften focused on color-intensive compositions\, Akar’s inspiration comes from great contemporary artists such as Jackson Pollock\, Jean-Michel Basquiat\, and Gerhard Richter\, “DIAMOND KING” is a markedly evolved figurative abstraction in the emerging artist’s recent canon. Akar’s adolescent artistic ingenuity has captured global attention\, hinting at the vast horizons he is destined to explore.  \n‘UNBELIEVABLE\,’ will be on view at Spectrum Miami Art Fair (Booth 904) from December 6 to 10\, at Mana Wynwood (2217 NW 5th Avenue) in Miami\, Florida.
URL:https://www.theartfairgallery.com/event/mikail-akars-unbelievable-at-spectrum-miami-art-fair/2023-12-10/
LOCATION:Mana Wynwood\, 2217 NW 5th Ave. (at NW 22nd Street)\, Miami\, FL\, 33132\, United States
CATEGORIES:Art Fair,Florida
ATTACH;FMTTYPE=image/jpeg:https://www.theartfairgallery.com/wp-content/uploads/2023/11/King-Jacky-80x80-3149in-x-3149inAcryl-Oil-Pastell-on-Canvas-2022-8500.jpg
END:VEVENT
BEGIN:VEVENT
DTSTART;TZID=America/Detroit:20231209T120000
DTEND;TZID=America/Detroit:20231209T200000
DTSTAMP:20260423T122707
CREATED:20231121T165332Z
LAST-MODIFIED:20231121T165332Z
UID:10006832-1702123200-1702152000@www.theartfairgallery.com
SUMMARY:Mikail Akar’s ‘UNBELIEVABLE' at Spectrum Miami Art Fair
DESCRIPTION:Opening on December 6\, 2023\, the Spectrum Miami Art Fair will host Cologne-born visual artist Mikail Akar’s highly anticipated solo exhibition\, in a continuation of his multi-city series “UNBELIEVABLE.” The 11-year-old abstractionist’s Miami Art Week debut affirms Akar’s promising trajectory in contemporary art and signifies the next chapter in the wunderkin’s awe-inspiring journey. \nRenowned for his groundbreaking live painting performance atop the iconic Empire State Building in New York City\, Akar carved his name in history as the first European artist to do so. As the youngest exhibitor in Spectrum Miami’s history\, the self-taught prodigy will bring a kaleidoscope of creativity to the heart of Miami’s vibrant arts scene with a spotlight on his magnum opus\, “DIAMOND KING”. \nOften focused on color-intensive compositions\, Akar’s inspiration comes from great contemporary artists such as Jackson Pollock\, Jean-Michel Basquiat\, and Gerhard Richter\, “DIAMOND KING” is a markedly evolved figurative abstraction in the emerging artist’s recent canon. Akar’s adolescent artistic ingenuity has captured global attention\, hinting at the vast horizons he is destined to explore.  \n‘UNBELIEVABLE\,’ will be on view at Spectrum Miami Art Fair (Booth 904) from December 6 to 10\, at Mana Wynwood (2217 NW 5th Avenue) in Miami\, Florida.
URL:https://www.theartfairgallery.com/event/mikail-akars-unbelievable-at-spectrum-miami-art-fair/2023-12-09/
LOCATION:Mana Wynwood\, 2217 NW 5th Ave. (at NW 22nd Street)\, Miami\, FL\, 33132\, United States
CATEGORIES:Art Fair,Florida
ATTACH;FMTTYPE=image/jpeg:https://www.theartfairgallery.com/wp-content/uploads/2023/11/King-Jacky-80x80-3149in-x-3149inAcryl-Oil-Pastell-on-Canvas-2022-8500.jpg
END:VEVENT
BEGIN:VEVENT
DTSTART;TZID=America/Detroit:20231208T120000
DTEND;TZID=America/Detroit:20231208T200000
DTSTAMP:20260423T122707
CREATED:20231121T165332Z
LAST-MODIFIED:20231121T165332Z
UID:10006831-1702036800-1702065600@www.theartfairgallery.com
SUMMARY:Mikail Akar’s ‘UNBELIEVABLE' at Spectrum Miami Art Fair
DESCRIPTION:Opening on December 6\, 2023\, the Spectrum Miami Art Fair will host Cologne-born visual artist Mikail Akar’s highly anticipated solo exhibition\, in a continuation of his multi-city series “UNBELIEVABLE.” The 11-year-old abstractionist’s Miami Art Week debut affirms Akar’s promising trajectory in contemporary art and signifies the next chapter in the wunderkin’s awe-inspiring journey. \nRenowned for his groundbreaking live painting performance atop the iconic Empire State Building in New York City\, Akar carved his name in history as the first European artist to do so. As the youngest exhibitor in Spectrum Miami’s history\, the self-taught prodigy will bring a kaleidoscope of creativity to the heart of Miami’s vibrant arts scene with a spotlight on his magnum opus\, “DIAMOND KING”. \nOften focused on color-intensive compositions\, Akar’s inspiration comes from great contemporary artists such as Jackson Pollock\, Jean-Michel Basquiat\, and Gerhard Richter\, “DIAMOND KING” is a markedly evolved figurative abstraction in the emerging artist’s recent canon. Akar’s adolescent artistic ingenuity has captured global attention\, hinting at the vast horizons he is destined to explore.  \n‘UNBELIEVABLE\,’ will be on view at Spectrum Miami Art Fair (Booth 904) from December 6 to 10\, at Mana Wynwood (2217 NW 5th Avenue) in Miami\, Florida.
URL:https://www.theartfairgallery.com/event/mikail-akars-unbelievable-at-spectrum-miami-art-fair/2023-12-08/
LOCATION:Mana Wynwood\, 2217 NW 5th Ave. (at NW 22nd Street)\, Miami\, FL\, 33132\, United States
CATEGORIES:Art Fair,Florida
ATTACH;FMTTYPE=image/jpeg:https://www.theartfairgallery.com/wp-content/uploads/2023/11/King-Jacky-80x80-3149in-x-3149inAcryl-Oil-Pastell-on-Canvas-2022-8500.jpg
END:VEVENT
BEGIN:VEVENT
DTSTART;TZID=America/Detroit:20231207T120000
DTEND;TZID=America/Detroit:20231207T200000
DTSTAMP:20260423T122707
CREATED:20231121T165332Z
LAST-MODIFIED:20231121T165332Z
UID:10006830-1701950400-1701979200@www.theartfairgallery.com
SUMMARY:Mikail Akar’s ‘UNBELIEVABLE' at Spectrum Miami Art Fair
DESCRIPTION:Opening on December 6\, 2023\, the Spectrum Miami Art Fair will host Cologne-born visual artist Mikail Akar’s highly anticipated solo exhibition\, in a continuation of his multi-city series “UNBELIEVABLE.” The 11-year-old abstractionist’s Miami Art Week debut affirms Akar’s promising trajectory in contemporary art and signifies the next chapter in the wunderkin’s awe-inspiring journey. \nRenowned for his groundbreaking live painting performance atop the iconic Empire State Building in New York City\, Akar carved his name in history as the first European artist to do so. As the youngest exhibitor in Spectrum Miami’s history\, the self-taught prodigy will bring a kaleidoscope of creativity to the heart of Miami’s vibrant arts scene with a spotlight on his magnum opus\, “DIAMOND KING”. \nOften focused on color-intensive compositions\, Akar’s inspiration comes from great contemporary artists such as Jackson Pollock\, Jean-Michel Basquiat\, and Gerhard Richter\, “DIAMOND KING” is a markedly evolved figurative abstraction in the emerging artist’s recent canon. Akar’s adolescent artistic ingenuity has captured global attention\, hinting at the vast horizons he is destined to explore.  \n‘UNBELIEVABLE\,’ will be on view at Spectrum Miami Art Fair (Booth 904) from December 6 to 10\, at Mana Wynwood (2217 NW 5th Avenue) in Miami\, Florida.
URL:https://www.theartfairgallery.com/event/mikail-akars-unbelievable-at-spectrum-miami-art-fair/2023-12-07/
LOCATION:Mana Wynwood\, 2217 NW 5th Ave. (at NW 22nd Street)\, Miami\, FL\, 33132\, United States
CATEGORIES:Art Fair,Florida
ATTACH;FMTTYPE=image/jpeg:https://www.theartfairgallery.com/wp-content/uploads/2023/11/King-Jacky-80x80-3149in-x-3149inAcryl-Oil-Pastell-on-Canvas-2022-8500.jpg
END:VEVENT
BEGIN:VEVENT
DTSTART;TZID=America/Detroit:20231206T180000
DTEND;TZID=America/Detroit:20231206T210000
DTSTAMP:20260423T122707
CREATED:20231121T165332Z
LAST-MODIFIED:20231121T165332Z
UID:10006829-1701885600-1701896400@www.theartfairgallery.com
SUMMARY:Mikail Akar’s ‘UNBELIEVABLE' at Spectrum Miami Art Fair
DESCRIPTION:Opening on December 6\, 2023\, the Spectrum Miami Art Fair will host Cologne-born visual artist Mikail Akar’s highly anticipated solo exhibition\, in a continuation of his multi-city series “UNBELIEVABLE.” The 11-year-old abstractionist’s Miami Art Week debut affirms Akar’s promising trajectory in contemporary art and signifies the next chapter in the wunderkin’s awe-inspiring journey. \nRenowned for his groundbreaking live painting performance atop the iconic Empire State Building in New York City\, Akar carved his name in history as the first European artist to do so. As the youngest exhibitor in Spectrum Miami’s history\, the self-taught prodigy will bring a kaleidoscope of creativity to the heart of Miami’s vibrant arts scene with a spotlight on his magnum opus\, “DIAMOND KING”. \nOften focused on color-intensive compositions\, Akar’s inspiration comes from great contemporary artists such as Jackson Pollock\, Jean-Michel Basquiat\, and Gerhard Richter\, “DIAMOND KING” is a markedly evolved figurative abstraction in the emerging artist’s recent canon. Akar’s adolescent artistic ingenuity has captured global attention\, hinting at the vast horizons he is destined to explore.  \n‘UNBELIEVABLE\,’ will be on view at Spectrum Miami Art Fair (Booth 904) from December 6 to 10\, at Mana Wynwood (2217 NW 5th Avenue) in Miami\, Florida.
URL:https://www.theartfairgallery.com/event/mikail-akars-unbelievable-at-spectrum-miami-art-fair/2023-12-06/
LOCATION:Mana Wynwood\, 2217 NW 5th Ave. (at NW 22nd Street)\, Miami\, FL\, 33132\, United States
CATEGORIES:Art Fair,Florida
ATTACH;FMTTYPE=image/jpeg:https://www.theartfairgallery.com/wp-content/uploads/2023/11/King-Jacky-80x80-3149in-x-3149inAcryl-Oil-Pastell-on-Canvas-2022-8500.jpg
END:VEVENT
END:VCALENDAR