BEGIN:VCALENDAR
VERSION:2.0
PRODID:-//The Art Fair Gallery - ECPv6.15.18//NONSGML v1.0//EN
CALSCALE:GREGORIAN
METHOD:PUBLISH
X-WR-CALNAME:The Art Fair Gallery
X-ORIGINAL-URL:https://www.theartfairgallery.com
X-WR-CALDESC:Events for The Art Fair Gallery
REFRESH-INTERVAL;VALUE=DURATION:PT1H
X-Robots-Tag:noindex
X-PUBLISHED-TTL:PT1H
BEGIN:VTIMEZONE
TZID:America/Los_Angeles
BEGIN:DAYLIGHT
TZOFFSETFROM:-0800
TZOFFSETTO:-0700
TZNAME:PDT
DTSTART:20220313T100000
END:DAYLIGHT
BEGIN:STANDARD
TZOFFSETFROM:-0700
TZOFFSETTO:-0800
TZNAME:PST
DTSTART:20221106T090000
END:STANDARD
BEGIN:DAYLIGHT
TZOFFSETFROM:-0800
TZOFFSETTO:-0700
TZNAME:PDT
DTSTART:20230312T100000
END:DAYLIGHT
BEGIN:STANDARD
TZOFFSETFROM:-0700
TZOFFSETTO:-0800
TZNAME:PST
DTSTART:20231105T090000
END:STANDARD
BEGIN:DAYLIGHT
TZOFFSETFROM:-0800
TZOFFSETTO:-0700
TZNAME:PDT
DTSTART:20240310T100000
END:DAYLIGHT
BEGIN:STANDARD
TZOFFSETFROM:-0700
TZOFFSETTO:-0800
TZNAME:PST
DTSTART:20241103T090000
END:STANDARD
END:VTIMEZONE
BEGIN:VEVENT
DTSTART;TZID=America/Los_Angeles:20230909T100000
DTEND;TZID=America/Los_Angeles:20230909T170000
DTSTAMP:20260423T133109
CREATED:20230704T212121Z
LAST-MODIFIED:20230704T224255Z
UID:10005719-1694253600-1694278800@www.theartfairgallery.com
SUMMARY:Portola Valley Arts Fest
DESCRIPTION:Join the annual celebration of local arts and community with  food\, wine and activities.\n\n\nThe Portola Valley Arts Fest exists in a unique place between other events you may have attended. It is more home-spun and intimate than your average town art festival\, and yet it is of a higher quality than your average community art event since many local\, professional artists are on display. It is a festival of the arts\, but at its core\, it is an expression of our creative connections to each other. Come catch up with friends\, do some art activities\, buy a painting or maybe just kick beachballs with your toddler in the field under the redwoods and relax with local wine and food.
URL:https://www.theartfairgallery.com/event/portola-valley-arts-fest/
LOCATION:3300 Alpine Rd\, 3300 Alpine Road\, Portola Valley\, CA\, 94028\, United States
CATEGORIES:California
ATTACH;FMTTYPE=image/jpeg:https://www.theartfairgallery.com/wp-content/uploads/2023/07/a3ccd86a289baad26db02e3887ca5152.jpg
END:VEVENT
END:VCALENDAR