BEGIN:VCALENDAR
VERSION:2.0
PRODID:-//The Art Fair Gallery - ECPv6.15.18//NONSGML v1.0//EN
CALSCALE:GREGORIAN
METHOD:PUBLISH
X-ORIGINAL-URL:https://www.theartfairgallery.com
X-WR-CALDESC:Events for The Art Fair Gallery
REFRESH-INTERVAL;VALUE=DURATION:PT1H
X-Robots-Tag:noindex
X-PUBLISHED-TTL:PT1H
BEGIN:VTIMEZONE
TZID:America/New_York
BEGIN:DAYLIGHT
TZOFFSETFROM:-0500
TZOFFSETTO:-0400
TZNAME:EDT
DTSTART:20220313T070000
END:DAYLIGHT
BEGIN:STANDARD
TZOFFSETFROM:-0400
TZOFFSETTO:-0500
TZNAME:EST
DTSTART:20221106T060000
END:STANDARD
BEGIN:DAYLIGHT
TZOFFSETFROM:-0500
TZOFFSETTO:-0400
TZNAME:EDT
DTSTART:20230312T070000
END:DAYLIGHT
BEGIN:STANDARD
TZOFFSETFROM:-0400
TZOFFSETTO:-0500
TZNAME:EST
DTSTART:20231105T060000
END:STANDARD
BEGIN:DAYLIGHT
TZOFFSETFROM:-0500
TZOFFSETTO:-0400
TZNAME:EDT
DTSTART:20240310T070000
END:DAYLIGHT
BEGIN:STANDARD
TZOFFSETFROM:-0400
TZOFFSETTO:-0500
TZNAME:EST
DTSTART:20241103T060000
END:STANDARD
END:VTIMEZONE
BEGIN:VEVENT
DTSTART;TZID=America/New_York:20230922T170000
DTEND;TZID=America/New_York:20230922T220000
DTSTAMP:20260423T124458
CREATED:20230820T144728Z
LAST-MODIFIED:20230820T144728Z
UID:10005880-1695402000-1695420000@www.theartfairgallery.com
SUMMARY:Artoberfest | Art Market & Festival |
DESCRIPTION:An evening at Nampara!\nArt Market\, Chestnut Brewworks Beer\, Music by 18 Strings & Tom Bachelor Band\n\n\nJoin us for Artoberfest | Art Market & Festival on Fri Sep 22 2023 at 306 Bull Run Road\, Morgantown\, WV 26508! Get ready to immerse yourself in a vibrant celebration of art\, creativity\, and community. This in-person event promises an exciting lineup of talented artists\, unique artworks\, and engaging activities. \nDiscover a diverse range of art forms\, including paintings\, sculptures\, music\, and more\, as you explore the Art Market. Support local artists and find the perfect piece to add to your collection or decorate your space. \nImmerse yourself in hands-on workshops with Eddie Spaghetti and unleash your own artistic talents. \nIndulge in a variety of delicious food and beverages from Chef March Walker\, ensuring your taste buds are as satisfied as your artistic soul.  \nLive music performances will add to the festive ambiance\, creating an unforgettable experience for all attendees. \nWhether you’re an art enthusiast\, a creative soul\, or simply looking for a fun-filled day with family and friends\, Artoberfest Art Market & Festival is the place to be.  \nMark your calendars and join us for this exciting event that celebrates the beauty of art in all its forms!
URL:https://www.theartfairgallery.com/event/artoberfest-art-market-festival/
LOCATION:Nampara Cooperative\, 306 Bull Run Road\, Morgantown\, WV\, 26508\, United States
CATEGORIES:Craft Fair
ATTACH;FMTTYPE=image/jpeg:https://www.theartfairgallery.com/wp-content/uploads/2023/08/f07e082b0978486a417fd03bfed463d7.jpg
END:VEVENT
END:VCALENDAR