BEGIN:VCALENDAR
VERSION:2.0
PRODID:-//The Art Fair Gallery - ECPv6.15.18//NONSGML v1.0//EN
CALSCALE:GREGORIAN
METHOD:PUBLISH
X-WR-CALNAME:The Art Fair Gallery
X-ORIGINAL-URL:https://www.theartfairgallery.com
X-WR-CALDESC:Events for The Art Fair Gallery
REFRESH-INTERVAL;VALUE=DURATION:PT1H
X-Robots-Tag:noindex
X-PUBLISHED-TTL:PT1H
BEGIN:VTIMEZONE
TZID:America/New_York
BEGIN:DAYLIGHT
TZOFFSETFROM:-0500
TZOFFSETTO:-0400
TZNAME:EDT
DTSTART:20220313T070000
END:DAYLIGHT
BEGIN:STANDARD
TZOFFSETFROM:-0400
TZOFFSETTO:-0500
TZNAME:EST
DTSTART:20221106T060000
END:STANDARD
BEGIN:DAYLIGHT
TZOFFSETFROM:-0500
TZOFFSETTO:-0400
TZNAME:EDT
DTSTART:20230312T070000
END:DAYLIGHT
BEGIN:STANDARD
TZOFFSETFROM:-0400
TZOFFSETTO:-0500
TZNAME:EST
DTSTART:20231105T060000
END:STANDARD
BEGIN:DAYLIGHT
TZOFFSETFROM:-0500
TZOFFSETTO:-0400
TZNAME:EDT
DTSTART:20240310T070000
END:DAYLIGHT
BEGIN:STANDARD
TZOFFSETFROM:-0400
TZOFFSETTO:-0500
TZNAME:EST
DTSTART:20241103T060000
END:STANDARD
END:VTIMEZONE
BEGIN:VEVENT
DTSTART;TZID=America/New_York:20231202T090000
DTEND;TZID=America/New_York:20231202T130000
DTSTAMP:20260423T044244
CREATED:20231126T031827Z
LAST-MODIFIED:20231126T031827Z
UID:10006930-1701507600-1701522000@www.theartfairgallery.com
SUMMARY:Holiday Pop-Up Shop!
DESCRIPTION:Get ready for some serious holiday shopping at our Holiday Pop-Up Shop\, you’ll find everything you need to make this season extra special!\n\n\nHoliday Pop-Up Shop! \nCome join us at the LaCreme Studio & Gallery for a festive shopping experience! Get ready to indulge in a wide variety of unique and handcrafted goodies\, just in time for the holiday season. Whether you’re searching for the perfect gift or treating yourself\, this is the place to be. Our talented local vendors will be showcasing their finest creations\, from art and jewelry to home decor\, hair & beauty\, clothing\, & more! Explore the charming booths\, chat with the creators\, and discover one-of-a-kind treasures that will make your holidays extra special. Don’t miss out on this exciting event! \nAll Vendors Welcome! Table Rental $55! Email lovelacreme@gmail.com for table rental.
URL:https://www.theartfairgallery.com/event/holiday-pop-up-shop-2/
LOCATION:LaCreme Studio & Gallery\, 26300 Euclid Avenue\, Suite 328\, Euclid\, OH\, 44132\, United States
CATEGORIES:Craft Fair
ATTACH;FMTTYPE=image/jpeg:https://www.theartfairgallery.com/wp-content/uploads/2023/11/75aee7bff9b52f5db9f27c2873a2d182.jpg
END:VEVENT
END:VCALENDAR