BEGIN:VCALENDAR
VERSION:2.0
PRODID:-//The Art Fair Gallery - ECPv6.15.18//NONSGML v1.0//EN
CALSCALE:GREGORIAN
METHOD:PUBLISH
X-WR-CALNAME:The Art Fair Gallery
X-ORIGINAL-URL:https://www.theartfairgallery.com
X-WR-CALDESC:Events for The Art Fair Gallery
REFRESH-INTERVAL;VALUE=DURATION:PT1H
X-Robots-Tag:noindex
X-PUBLISHED-TTL:PT1H
BEGIN:VTIMEZONE
TZID:America/New_York
BEGIN:DAYLIGHT
TZOFFSETFROM:-0500
TZOFFSETTO:-0400
TZNAME:EDT
DTSTART:20230312T070000
END:DAYLIGHT
BEGIN:STANDARD
TZOFFSETFROM:-0400
TZOFFSETTO:-0500
TZNAME:EST
DTSTART:20231105T060000
END:STANDARD
BEGIN:DAYLIGHT
TZOFFSETFROM:-0500
TZOFFSETTO:-0400
TZNAME:EDT
DTSTART:20240310T070000
END:DAYLIGHT
BEGIN:STANDARD
TZOFFSETFROM:-0400
TZOFFSETTO:-0500
TZNAME:EST
DTSTART:20241103T060000
END:STANDARD
BEGIN:DAYLIGHT
TZOFFSETFROM:-0500
TZOFFSETTO:-0400
TZNAME:EDT
DTSTART:20250309T070000
END:DAYLIGHT
BEGIN:STANDARD
TZOFFSETFROM:-0400
TZOFFSETTO:-0500
TZNAME:EST
DTSTART:20251102T060000
END:STANDARD
END:VTIMEZONE
BEGIN:VEVENT
DTSTART;TZID=America/New_York:20241130T100000
DTEND;TZID=America/New_York:20241130T150000
DTSTAMP:20260419T234354
CREATED:20241119T145922Z
LAST-MODIFIED:20241119T145922Z
UID:10007381-1732960800-1732978800@www.theartfairgallery.com
SUMMARY:4th Annual: The Holiday Market at the Square
DESCRIPTION:The Holidays are approaching and we can’t wait to support our local movers and shakers in the Rochester Community!\n\n\n\nDiscover the Magic at Our Holiday Market!\nLocation: Enter through the large wreath by LA Fitness and Starbucks facing RT31. \nEvent Highlights:\n\nShop Local Vendors\n\nExplore a diverse selection of vendors offering unique goods and services. From handmade crafts to delicious eats\, there’s something for everyone. Visit our website for the full list of vendors. \n\nHuge Local Gift Giveaway\n\nEntry Price: FREE \nDon’t miss your chance to take home an incredible gift basket filled with local treasures perfect for enjoying yourself or sharing this holiday season. Register for free to enter the giveaway! \n\nPictures with Santa\n\nSnap a free photo with Santa and capture the joy of the season. \nJoin us for a day of festive fun\, amazing shopping\, and delightful food. We can’t wait to celebrate with you! \n\n\nSchedule of the Day:\n10:00 am – 3:00 pm – Local Vendors Open! \n10:30 am – 11:30 am – Meet and Greet with Elsa \n10:30 am – Santa and Mrs. Claus Arrive! \n11:30 am – 12:00 pm – Disney Sing-Alongs \n12:00 pm – 12:30 pm – Meet and Greet with Elsa pt.2 \n10:30 am – 12:30 pm – Photos with Santa  \nWe cannot wait to see you there!! For more information check out our website www.brand52agency.com/holiday-market \n\n\n\n2024 Corporate Sponsors\n\n\n2024 Event Vendors\n \nHikyoga \nBrand 52 Agency \nGoldfish Swim School – Pittsford \nBarketeria \nZoom Tan \nChristmas Cove \nNaples Maple Farm \nLex Crochet Together \nThe Spice Project \nSeventh Vintage \nLasting Color Nails \nColleen M Brown \nRook’s Bags \nKenzie’s Cookie Jar \nHB Scented Candles \nSpringbrook Hollow Farm Distillery \nBuck’s Unique Creations \nLalaBelle Creations \nThe Derpy Phoenix \nCoast Bags\, LLC \nWhimsy Designs by Jane \nThe Chosen Spot K9 Kitchen \nErie Way Flowers \nResinbyrachelrene \nOutasight Enterprises \nSpoke Cycle + Fitness Studio \nThree Hearts Creations \nCindy Dalton – Ceramics \nPampered Chef \nRochester Pediatric Dentistry \nEat Greek \nInterested in becoming a vendor? Please apply here \nVendor Applications close on November 22nd.
URL:https://www.theartfairgallery.com/event/4th-annual-the-holiday-market-at-the-square/
LOCATION:6720 Pittsford Palmyra Rd\, 6720 Pittsford Palmyra Road\, Fairport\, NY\, 14450\, United States
CATEGORIES:New York
ATTACH;FMTTYPE=image/jpeg:https://www.theartfairgallery.com/wp-content/uploads/2024/11/7aee9f5a01a4d0b9ff0428366e617e89.jpg
END:VEVENT
END:VCALENDAR