BEGIN:VCALENDAR
VERSION:2.0
PRODID:-//The Art Fair Gallery - ECPv6.15.18//NONSGML v1.0//EN
CALSCALE:GREGORIAN
METHOD:PUBLISH
X-ORIGINAL-URL:https://www.theartfairgallery.com
X-WR-CALDESC:Events for The Art Fair Gallery
REFRESH-INTERVAL;VALUE=DURATION:PT1H
X-Robots-Tag:noindex
X-PUBLISHED-TTL:PT1H
BEGIN:VTIMEZONE
TZID:America/New_York
BEGIN:DAYLIGHT
TZOFFSETFROM:-0500
TZOFFSETTO:-0400
TZNAME:EDT
DTSTART:20220313T070000
END:DAYLIGHT
BEGIN:STANDARD
TZOFFSETFROM:-0400
TZOFFSETTO:-0500
TZNAME:EST
DTSTART:20221106T060000
END:STANDARD
BEGIN:DAYLIGHT
TZOFFSETFROM:-0500
TZOFFSETTO:-0400
TZNAME:EDT
DTSTART:20230312T070000
END:DAYLIGHT
BEGIN:STANDARD
TZOFFSETFROM:-0400
TZOFFSETTO:-0500
TZNAME:EST
DTSTART:20231105T060000
END:STANDARD
BEGIN:DAYLIGHT
TZOFFSETFROM:-0500
TZOFFSETTO:-0400
TZNAME:EDT
DTSTART:20240310T070000
END:DAYLIGHT
BEGIN:STANDARD
TZOFFSETFROM:-0400
TZOFFSETTO:-0500
TZNAME:EST
DTSTART:20241103T060000
END:STANDARD
END:VTIMEZONE
BEGIN:VEVENT
DTSTART;TZID=America/New_York:20231202T100000
DTEND;TZID=America/New_York:20231203T160000
DTSTAMP:20260420T112240
CREATED:20230807T102007Z
LAST-MODIFIED:20231109T224241Z
UID:10005796-1701511200-1701619200@www.theartfairgallery.com
SUMMARY:Greenbelt Sparkle Mart
DESCRIPTION:The City of Greenbelt’s annual juried art & craft show\, featuring over 70 vendors. Sat 10-5\, Sun 10-4.\n\n\nThe City of Greenbelt’s annual juried show supports regional fine artists\, artisans\, writers and illustrators in the sale of their own\, original creations. Wares typically include handmade furniture\, clothing\, accessories\, tableware\, soft goods\, toys\, ornaments\, soaps\, candles\, seasonings\, self-published books\, fine arts\, prints and cards. Cultural non-profit organizations are also eligible to apply. Vendors must participate on both days. See www.greenbeltmd.gov/arts for more information and applications. Deadline: September 15 \nMerchandise restrictions: kit crafts and imported crafts are not permitted. Commercially produced goods also are not permitted (with limited exceptions). Home improvement companies\, cosmetics companies and other non-arts businesses are not permitted. Edible goods are permitted as long as they meet Maryland state health department guidelines. \nPhoto: Goddess artwork by Rachel Cross.
URL:https://www.theartfairgallery.com/event/greenbelt-sparkle-mart/
LOCATION:Greenbelt Community Center\, 15 Crescent Road\, ## 200\, Greenbelt\, MD\, 20770\, United States
CATEGORIES:Craft Fair,Maryland
ATTACH;FMTTYPE=image/jpeg:https://www.theartfairgallery.com/wp-content/uploads/2023/08/38e095844478030e818b6c5723f3dc65.jpg
END:VEVENT
END:VCALENDAR