BEGIN:VCALENDAR
VERSION:2.0
PRODID:-//The Art Fair Gallery - ECPv6.15.18//NONSGML v1.0//EN
CALSCALE:GREGORIAN
METHOD:PUBLISH
X-ORIGINAL-URL:https://www.theartfairgallery.com
X-WR-CALDESC:Events for The Art Fair Gallery
REFRESH-INTERVAL;VALUE=DURATION:PT1H
X-Robots-Tag:noindex
X-PUBLISHED-TTL:PT1H
BEGIN:VTIMEZONE
TZID:America/New_York
BEGIN:DAYLIGHT
TZOFFSETFROM:-0500
TZOFFSETTO:-0400
TZNAME:EDT
DTSTART:20220313T070000
END:DAYLIGHT
BEGIN:STANDARD
TZOFFSETFROM:-0400
TZOFFSETTO:-0500
TZNAME:EST
DTSTART:20221106T060000
END:STANDARD
BEGIN:DAYLIGHT
TZOFFSETFROM:-0500
TZOFFSETTO:-0400
TZNAME:EDT
DTSTART:20230312T070000
END:DAYLIGHT
BEGIN:STANDARD
TZOFFSETFROM:-0400
TZOFFSETTO:-0500
TZNAME:EST
DTSTART:20231105T060000
END:STANDARD
BEGIN:DAYLIGHT
TZOFFSETFROM:-0500
TZOFFSETTO:-0400
TZNAME:EDT
DTSTART:20240310T070000
END:DAYLIGHT
BEGIN:STANDARD
TZOFFSETFROM:-0400
TZOFFSETTO:-0500
TZNAME:EST
DTSTART:20241103T060000
END:STANDARD
END:VTIMEZONE
BEGIN:VEVENT
DTSTART;TZID=America/New_York:20231125T090000
DTEND;TZID=America/New_York:20231125T150000
DTSTAMP:20260420T082556
CREATED:20231015T084009Z
LAST-MODIFIED:20231015T091824Z
UID:10006432-1700902800-1700924400@www.theartfairgallery.com
SUMMARY:Exeter NH Holiday Parade Holiday Craft Fair
DESCRIPTION:After a very successful 2022\, the 2nd Annual Exeter Holiday Parade Craft Fair returns. The craft fair proceeds help finance the 2023 parade.\n\n\nWe are soliciting for crafters/artisans to sell their wares at the fair. This is for vendor registration only\, the craft fair is a FREE EVENT for visitors/shoppers. \nSorry\, but direct sales businesses are not permitted to participate (Tupperware\, Pampered Chef\, Mary Kay\, etc.) Only professionally packaged or preserved food is allowed. \nThe craft fair will be on both floors of the Historic Exeter Town Hall. There is an elevator for those vendors on the 2nd floor. Parade volunteers will be on hand during set-up and break-down to help the crafters/artisans with their set-up. The first floor is a wide-open space\, the second floor has partitions which is perfect for those wanting to hang items to display. The first floor can get cold as the front doors will be open;  if that is a concern for you\, please consider a second floor space. New this year\, 3 spaces on the 1st floor stage. \nTables are not available. Some chairs are available to use.  \nVendors will temporarily park at Exeter Town Hall\, unload\, and then relocate their vehicles to the Town’s municipal parking lot which is just one block away. We are in the heart of downtown Exeter and there will be significant foot traffic at this event.  \nA﻿ll vendors agree to supply one item for a raffle. The item should have a value of no less than $10.00. \nP﻿arade volunteers will be on hand during the event to assist you as needed. \nPLEASE NOTE: Crafters/artisans are not allowed to leave the venue early. You may begin packing up early\, but you will not be allowed to move your wares until the fair ends at 3:00pm.
URL:https://www.theartfairgallery.com/event/exeter-nh-holiday-parade-holiday-craft-fair/
LOCATION:Exeter Town Hall\, 10 Front Street\, Exeter\, NH\, 03833\, United States
CATEGORIES:New Hampshire
ATTACH;FMTTYPE=image/jpeg:https://www.theartfairgallery.com/wp-content/uploads/2023/10/26f41cc71af77f40a0d0d99f33bd614f.jpg
END:VEVENT
END:VCALENDAR