BEGIN:VCALENDAR
VERSION:2.0
PRODID:-//The Art Fair Gallery - ECPv6.15.18//NONSGML v1.0//EN
CALSCALE:GREGORIAN
METHOD:PUBLISH
X-ORIGINAL-URL:https://www.theartfairgallery.com
X-WR-CALDESC:Events for The Art Fair Gallery
REFRESH-INTERVAL;VALUE=DURATION:PT1H
X-Robots-Tag:noindex
X-PUBLISHED-TTL:PT1H
BEGIN:VTIMEZONE
TZID:America/New_York
BEGIN:DAYLIGHT
TZOFFSETFROM:-0500
TZOFFSETTO:-0400
TZNAME:EDT
DTSTART:20220313T070000
END:DAYLIGHT
BEGIN:STANDARD
TZOFFSETFROM:-0400
TZOFFSETTO:-0500
TZNAME:EST
DTSTART:20221106T060000
END:STANDARD
BEGIN:DAYLIGHT
TZOFFSETFROM:-0500
TZOFFSETTO:-0400
TZNAME:EDT
DTSTART:20230312T070000
END:DAYLIGHT
BEGIN:STANDARD
TZOFFSETFROM:-0400
TZOFFSETTO:-0500
TZNAME:EST
DTSTART:20231105T060000
END:STANDARD
BEGIN:DAYLIGHT
TZOFFSETFROM:-0500
TZOFFSETTO:-0400
TZNAME:EDT
DTSTART:20240310T070000
END:DAYLIGHT
BEGIN:STANDARD
TZOFFSETFROM:-0400
TZOFFSETTO:-0500
TZNAME:EST
DTSTART:20241103T060000
END:STANDARD
END:VTIMEZONE
BEGIN:VEVENT
DTSTART;TZID=America/New_York:20231117T180000
DTEND;TZID=America/New_York:20231117T210000
DTSTAMP:20260420T112226
CREATED:20231109T223416Z
LAST-MODIFIED:20231109T224123Z
UID:10006622-1700244000-1700254800@www.theartfairgallery.com
SUMMARY:Vendor Faire
DESCRIPTION:Get ready for the ultimate shopping extravaganza at the Vendor Faire\, where you’ll find an awesome variety of vendors.\n\n\nVendor Faire \nJoin us for an exciting in-person event\, the Vendor Faire! Get ready for an evening filled with amazing products\, delicious food\, and great company. Mark your calendars for Fri Nov 17\, 2023 at 18:00:00 GMT-0500 (Eastern Standard Time). \nThis incredible event will take place at 5 North Main Street\, Bel Air\, MD 21014. Prepare to explore a wide range of vendors offering unique and high-quality products. From trendy fashion and accessories to handmade crafts and home decor\, you’ll find something for everyone. \nDiscover new brands\, meet local artisans\, and support small businesses all under one roof. Whether you’re searching for the perfect gift or simply looking to treat yourself\, the Vendor Faire is the place to be. \nIndulge in mouthwatering drinks from CoffeeBar and enjoy music as you browse through the various vendors. Connect with like-minded individuals who share your passion for supporting local businesses. \nDon’t miss out on this incredible opportunity to experience the vibrant atmosphere of the Vendor Faire. We can’t wait to see you there!
URL:https://www.theartfairgallery.com/event/vendor-faire/
LOCATION:5 N Main St\, 5 North Main Street\, Bel Air\, MD\, 21014\, United States
CATEGORIES:Maryland
ATTACH;FMTTYPE=image/jpeg:https://www.theartfairgallery.com/wp-content/uploads/2023/11/5264646dfa21263bd24c1fcde974efc6.jpg
END:VEVENT
END:VCALENDAR