BEGIN:VCALENDAR
VERSION:2.0
PRODID:-//The Art Fair Gallery - ECPv6.15.18//NONSGML v1.0//EN
CALSCALE:GREGORIAN
METHOD:PUBLISH
X-WR-CALNAME:The Art Fair Gallery
X-ORIGINAL-URL:https://www.theartfairgallery.com
X-WR-CALDESC:Events for The Art Fair Gallery
REFRESH-INTERVAL;VALUE=DURATION:PT1H
X-Robots-Tag:noindex
X-PUBLISHED-TTL:PT1H
BEGIN:VTIMEZONE
TZID:America/New_York
BEGIN:DAYLIGHT
TZOFFSETFROM:-0500
TZOFFSETTO:-0400
TZNAME:EDT
DTSTART:20220313T070000
END:DAYLIGHT
BEGIN:STANDARD
TZOFFSETFROM:-0400
TZOFFSETTO:-0500
TZNAME:EST
DTSTART:20221106T060000
END:STANDARD
BEGIN:DAYLIGHT
TZOFFSETFROM:-0500
TZOFFSETTO:-0400
TZNAME:EDT
DTSTART:20230312T070000
END:DAYLIGHT
BEGIN:STANDARD
TZOFFSETFROM:-0400
TZOFFSETTO:-0500
TZNAME:EST
DTSTART:20231105T060000
END:STANDARD
BEGIN:DAYLIGHT
TZOFFSETFROM:-0500
TZOFFSETTO:-0400
TZNAME:EDT
DTSTART:20240310T070000
END:DAYLIGHT
BEGIN:STANDARD
TZOFFSETFROM:-0400
TZOFFSETTO:-0500
TZNAME:EST
DTSTART:20241103T060000
END:STANDARD
BEGIN:DAYLIGHT
TZOFFSETFROM:-0500
TZOFFSETTO:-0400
TZNAME:EDT
DTSTART:20250309T070000
END:DAYLIGHT
BEGIN:STANDARD
TZOFFSETFROM:-0400
TZOFFSETTO:-0500
TZNAME:EST
DTSTART:20251102T060000
END:STANDARD
END:VTIMEZONE
BEGIN:VEVENT
DTSTART;TZID=America/New_York:20240309T000000
DTEND;TZID=America/New_York:20240310T170000
DTSTAMP:20260420T211613
CREATED:20231115T094012Z
LAST-MODIFIED:20240113T223929Z
UID:10006736-1709942400-1710090000@www.theartfairgallery.com
SUMMARY:Windermere 9th Annual Fine Art Show
DESCRIPTION:9th Annual Art Show-Free attendance & pet friendly- entertainment great food and over 100 artists\nSupport local businesses & community\n\n\nJoin us for our 9th Annual Windermere Fine Art Show in beautiful downtown Windermere surrounded by music and incredible artists selling their beautiful art work.
URL:https://www.theartfairgallery.com/event/windermere-9th-annual-fine-art-show/
LOCATION:Windermere Town Hall\, 520 Main Street\, Windermere\, FL\, 34786\, United States
CATEGORIES:Craft Fair,Florida
ATTACH;FMTTYPE=image/jpeg:https://www.theartfairgallery.com/wp-content/uploads/2023/11/b87934b6464efe3ad1151f3f9b1b7d07.jpg
END:VEVENT
BEGIN:VEVENT
DTSTART;TZID=America/New_York:20231118T100000
DTEND;TZID=America/New_York:20231118T160000
DTSTAMP:20260420T211613
CREATED:20230928T221026Z
LAST-MODIFIED:20230928T221026Z
UID:10006373-1700301600-1700323200@www.theartfairgallery.com
SUMMARY:Mt Dora Art & Wellness Show
DESCRIPTION:We are excited to announce  our First annual Art & Wellness event promoting  overall wellness thru mind body & soul. Join us Sat Nov 18th\n\n\nWe are excited to announce  our first annual Art & Wellness event promoting  overall wellness thru mind body & soul. Join us Sat Nov 18th 11-4pm  \nCome listen to instrumental music\, get a foot or back massage\, shop local artists (painting live) and wellness vendors selling their beautiful items & services.  Great opportunity to shop and relax early before the holiday rush.  \nWe give back to the local community thru local charities & sponsoring young artist.  \nSupport your local Mt Dora businesses Beautiful Elizabeth Evans Park directly on Lake Dora  \n100 North Donnelly Street  \nLocated  behind Lakeside Inn \nemail annescharer18@gmail.com for vendor application and sponsorship opportunities
URL:https://www.theartfairgallery.com/event/mt-dora-art-wellness-show/
LOCATION:Elizabeth Evans Park\, 100 North Donnelly Street\, Mount Dora\, FL\, 32757\, United States
CATEGORIES:Craft Fair
ATTACH;FMTTYPE=image/jpeg:https://www.theartfairgallery.com/wp-content/uploads/2023/09/e08b62a42f8a336be9ccf041def73923.jpg
END:VEVENT
END:VCALENDAR