BEGIN:VCALENDAR
VERSION:2.0
PRODID:-//The Art Fair Gallery - ECPv6.15.18//NONSGML v1.0//EN
CALSCALE:GREGORIAN
METHOD:PUBLISH
X-WR-CALNAME:The Art Fair Gallery
X-ORIGINAL-URL:https://www.theartfairgallery.com
X-WR-CALDESC:Events for The Art Fair Gallery
REFRESH-INTERVAL;VALUE=DURATION:PT1H
X-Robots-Tag:noindex
X-PUBLISHED-TTL:PT1H
BEGIN:VTIMEZONE
TZID:America/Chicago
BEGIN:DAYLIGHT
TZOFFSETFROM:-0600
TZOFFSETTO:-0500
TZNAME:CDT
DTSTART:20220313T080000
END:DAYLIGHT
BEGIN:STANDARD
TZOFFSETFROM:-0500
TZOFFSETTO:-0600
TZNAME:CST
DTSTART:20221106T070000
END:STANDARD
BEGIN:DAYLIGHT
TZOFFSETFROM:-0600
TZOFFSETTO:-0500
TZNAME:CDT
DTSTART:20230312T080000
END:DAYLIGHT
BEGIN:STANDARD
TZOFFSETFROM:-0500
TZOFFSETTO:-0600
TZNAME:CST
DTSTART:20231105T070000
END:STANDARD
BEGIN:DAYLIGHT
TZOFFSETFROM:-0600
TZOFFSETTO:-0500
TZNAME:CDT
DTSTART:20240310T080000
END:DAYLIGHT
BEGIN:STANDARD
TZOFFSETFROM:-0500
TZOFFSETTO:-0600
TZNAME:CST
DTSTART:20241103T070000
END:STANDARD
END:VTIMEZONE
BEGIN:VEVENT
DTSTART;TZID=America/Chicago:20230902T100000
DTEND;TZID=America/Chicago:20230902T170000
DTSTAMP:20260419T162504
CREATED:20230526T110531Z
LAST-MODIFIED:20230711T110856Z
UID:10005509-1693648800-1693674000@www.theartfairgallery.com
SUMMARY:SIGN UP TO WIN $100 IN ART BUCKS! Third Ward Art Festival
DESCRIPTION:The Historic Third Ward is the place to be Labor Day Weekend! This unique Milwaukee art show has endless activities for anyone and everyone!\n\n\nSign up here for the chance to win $100 in Art Bucks for purchasing art at the festival! \nSpend Labor Day weekend at the Third Ward Art Festival in Milwaukee\, Wisconsin! The 11th Annual Third Ward Art Festival\, in partnership with the Historic Third Ward Association\, will showcase the work of more than 150 juried artists from around the country in a variety of mediums including ceramics\, glass\, jewelry\, sculptures\, mixed media\, paintings\, drawings\, photography\, printmaking\, wood\, furniture\, and more. In addition to the incredible artwork available for purchase\, attendees will be able to interact with artists through demonstrations and booth chats. Fun for the entire family\, the festival features an interactive kid’s art tent\, face painting\, live music on two stages\, and great food and drink options from neighboring restaurants and festival food vendors! \nThis is a FREE event! \nAttendees are invited to bring their gently used wall art to the festival where it will be donated to the Chicago Furniture Bank\, a nonprofit that distributes furnishings and art to those leaving shelters and moving into permanent housing.  \nSeveral artists from this show are participating in Amdur Productions’ Green Ribbon Project. Artists place a green ribbon on a piece of art in their booth\, and if the piece is sold\, 10% of the sale will be donated to Amdur’s 2023 charitable partner\, Chicago Furniture Bank.  \nFor more information\, head to AmdurProductions.com or contact Amdur Productions at 847-926-4300 \nThe winner of $100 Art Bucks will be contacted via email the Thursday prior to the show opening. Cannot be redeemed for cash. One entry per person.
URL:https://www.theartfairgallery.com/event/sign-up-to-win-100-in-art-bucks-third-ward-art-festival/
LOCATION:345 N Broadway\, 345 North Broadway\, Milwaukee\, WI\, 53202\, United States
CATEGORIES:Wisconsin
ATTACH;FMTTYPE=image/jpeg:https://www.theartfairgallery.com/wp-content/uploads/2023/05/03fd58929e1f5a04d01eb22e5438295d.jpg
END:VEVENT
BEGIN:VEVENT
DTSTART;TZID=America/Chicago:20230826T090000
DTEND;TZID=America/Chicago:20230826T160000
DTSTAMP:20260419T162504
CREATED:20230710T083314Z
LAST-MODIFIED:20230803T161846Z
UID:10005728-1693040400-1693065600@www.theartfairgallery.com
SUMMARY:Donna Lexa Memorial Art Fair
DESCRIPTION:Featuring paintings\, photography\, pottery\, jewelry\, fiber art and other fine art and crafts. Live music and food for sale.  Free admission.\n\n\nJoin us for the Donna Lexa Memorial Art Fair\, a vibrant celebration of creativity and community with all proceeds benefiting non-profit organizations. Explore a diverse array of art exhibits\, engage in thought-provoking conversations with the artists themselves\, and discover unique treasures to adorn your home or gift to loved ones. Whether you’re an avid collector or simply appreciate the beauty of art\, this event promises to be an unforgettable experience. \nIndulge your senses further with live music performances\, delicious food\, and a warm\, welcoming atmosphere that fosters creativity and connection. Bring your friends\, family\, and even your furry companions to enjoy a day filled with inspiration and joy. \nMark your calendar for a day of artistic enchantment and community spirit. We can’t wait to see you at the Donna Lexa Memorial Art Fair!
URL:https://www.theartfairgallery.com/event/donna-lexa-memorial-art-fair/
LOCATION:Wales Community Park\, 500 South Brandybrook Road\, Wales\, WI\, 53183\, United States
CATEGORIES:Craft Fair,Wisconsin
ATTACH;FMTTYPE=image/jpeg:https://www.theartfairgallery.com/wp-content/uploads/2023/07/206f5a8ab76b77e0de11cd6f2179baff.jpg
END:VEVENT
BEGIN:VEVENT
DTSTART;TZID=America/Chicago:20230805T100000
DTEND;TZID=America/Chicago:20230806T170000
DTSTAMP:20260419T162504
CREATED:20230526T101428Z
LAST-MODIFIED:20230710T083524Z
UID:10005504-1691229600-1691341200@www.theartfairgallery.com
SUMMARY:Firefly Art Fair 2023
DESCRIPTION:Annual Firefly Art Fair-August 5th and 6th\, 10 am-5 pm.\n\n\nThe Wauwatosa Historical Society welcomes you August 5th & 6th\, 2023 from 10am-5pm to join us on the grounds of the Kneeland-Walker house.  In addition to the fine artwork on display from 70 plus artists\, guests will enjoy food/beverage from Meat on the Street\, Cuppa Tosa\, Jojo’s Martini Lounge\, and Nothing Bundt Cakes.  Stay and enjoy Johnny G’s acoustic musings\, the Cold Front Trombone Quartet\, and the return of an historic display of the Lefeber family photographic glass plate collection and photos\, along with period photographic equipment. \nGeneral Admission: $10  \nChildren 12 & younger are FREE
URL:https://www.theartfairgallery.com/event/firefly-art-fair-2023/
LOCATION:Wauwatosa Historical Society\, 7406 Hillcrest Drive\, Milwaukee\, WI\, 53213\, United States
CATEGORIES:Wisconsin
ATTACH;FMTTYPE=image/jpeg:https://www.theartfairgallery.com/wp-content/uploads/2023/05/ef2796d6f30a9e79fe1656355c33355f.jpg
END:VEVENT
BEGIN:VEVENT
DTSTART;TZID=America/Chicago:20230722T080000
DTEND;TZID=America/Chicago:20230722T140000
DTSTAMP:20260419T162504
CREATED:20230710T080517Z
LAST-MODIFIED:20230710T080517Z
UID:10005726-1690012800-1690034400@www.theartfairgallery.com
SUMMARY:Flea Market and Craft Fair
DESCRIPTION:Shop for vintage decor\, antiques\, rare collectibles\, handmade crafts\, unique gifts at the Dodge County Flea Market and Craft Fair!\n\n\nShop for vintage decor\, antiques\, rare collectibles\, handmade crafts\, unique gifts and so much more at the Dodge County Flea Market and Craft Fair. Shoppers search for treasures to keep\, resell or repurpose in the mostly outdoor market (indoor space available\, held rain or shine). Vendors sell a variety of items including; lawn art\, woodworking\, souvenirs\, knickknacks\, and direct sales vendors of many types. FREE Admission and FREE Parking! \nhttps://dodgecountyfairgrounds.com/events/category/flea-market/
URL:https://www.theartfairgallery.com/event/flea-market-and-craft-fair-7/
LOCATION:Dodge County Fairgrounds\, Wisconsin 33\, Beaver Dam\, WI\, 53916\, United States
CATEGORIES:Wisconsin
ATTACH;FMTTYPE=image/jpeg:https://www.theartfairgallery.com/wp-content/uploads/2023/05/b14c8b81d2749fe15a22787a86f90f58.jpg
END:VEVENT
BEGIN:VEVENT
DTSTART;TZID=America/Chicago:20230708T120000
DTEND;TZID=America/Chicago:20230708T180000
DTSTAMP:20260419T162504
CREATED:20230529T112631Z
LAST-MODIFIED:20230529T112631Z
UID:10005515-1688817600-1688839200@www.theartfairgallery.com
SUMMARY:MAKE NO MISTAKE
DESCRIPTION:Come shop over 50+ vintage vendors at this incredible 1-day market at Third Space Brewing in Milwaukee!\n\n\nMAKE NO MISTAKE vintage market is BACK! \nO﻿ne of Milwaukees most popular Pop-up market and block party events returns JULY 8TH\, 2023!  \nThis event is free\, open to all ages and dogs are welcome! Plenty of nearby parking guarantees plenty of space for everyone to come out and join the fun!  \n \nThis market will highlight over 40local and regional vendors who specialize in incredible artisan crafts\, handmade goods\, vintage clothing finds!\n \nThird space Brewing  will be pouring an incredible array of locally crafted beers along with local food trucks serving up delicious food all weekend long!\n \nC﻿OME JOIN US FOR SOME FUN!
URL:https://www.theartfairgallery.com/event/make-no-mistake/
LOCATION:Third Space Brewing\, 1505 West Saint Paul Avenue\, Milwaukee\, WI\, 53233\, United States
CATEGORIES:Wisconsin
ATTACH;FMTTYPE=image/jpeg:https://www.theartfairgallery.com/wp-content/uploads/2023/05/fb4141d858a8b3543b7bd604f2de8d4c.jpg
END:VEVENT
BEGIN:VEVENT
DTSTART;TZID=America/Chicago:20230618T130000
DTEND;TZID=America/Chicago:20230618T170000
DTSTAMP:20260419T162504
CREATED:20230530T081757Z
LAST-MODIFIED:20230530T081757Z
UID:10005518-1687093200-1687107600@www.theartfairgallery.com
SUMMARY:Shades of Black\, Culture Festival
DESCRIPTION:Shop from small black owned businesses and support local artist and creatives during Juneteenth weekend.\n\n\nWe are excited to bring you the 3rd Annual Shades of Black: Culture Fest! \nHelp us put Umoja in CommUNITY as we celebrate Juneteenth weekend. Support over 20+ small business owners\, get to know local artists\, meet your neighbors and enjoy the festivities! Everyday and especially on this day we honor our ancestors who have endured and survived years of sadness\, confusion and cruelty in order for us to regain freedom of ourselves\, by celebrating\, networking and showing love to each other while being in community. \nK﻿ids are encouraged to attend and add to our community art project\, get their faces painted and play games.  \nI﻿n honor of all the great fathers we will be handing out fathers day gift bags as well.
URL:https://www.theartfairgallery.com/event/shades-of-black-culture-festival/
LOCATION:Hilldale Shopping Center\, 726 North Midvale Boulevard\, Madison\, WI\, 53705\, United States
CATEGORIES:Wisconsin
ATTACH;FMTTYPE=image/jpeg:https://www.theartfairgallery.com/wp-content/uploads/2023/05/12cdb6627c316762b155860c32408d9e.jpg
END:VEVENT
BEGIN:VEVENT
DTSTART;TZID=America/Chicago:20230617T130000
DTEND;TZID=America/Chicago:20230617T180000
DTSTAMP:20260419T162504
CREATED:20230526T101328Z
LAST-MODIFIED:20230526T101328Z
UID:10005503-1687006800-1687024800@www.theartfairgallery.com
SUMMARY:Culture by Design Art Fair
DESCRIPTION:Culture by Design will be a premiere creative experience\, uniting the community through art.\n\n\n Strategically hosted at the United Way of Dane County\, in the soul of the city\, Culture by Design will be a premiere creative experience. Our very first Art Fair will feature local business owners\, a fireside chat with some of the most talented creative entrepreneurs\, massive community canvases for all attendees to contribute to\, a live DJ\, and more! This event will give our attendees knowledge\, encouragement\, and a sense of unity.  \nCulture by Design can change lives and create new chapters for everyone involved!
URL:https://www.theartfairgallery.com/event/culture-by-design-art-fair/
LOCATION:United Way of Dane County\, 2059 Atwood Avenue\, Madison\, WI\, 53704\, United States
CATEGORIES:Wisconsin
ATTACH;FMTTYPE=image/jpeg:https://www.theartfairgallery.com/wp-content/uploads/2023/05/cd838a2a2b915dce2e5292078172da68.jpg
END:VEVENT
BEGIN:VEVENT
DTSTART;TZID=America/Chicago:20230617T110000
DTEND;TZID=America/Chicago:20230617T150000
DTSTAMP:20260419T162504
CREATED:20230529T112448Z
LAST-MODIFIED:20230529T112448Z
UID:10005514-1686999600-1687014000@www.theartfairgallery.com
SUMMARY:Art Gallery & Maker's Market by Amy Mae's True Passion at Bushel and A Peck
DESCRIPTION:This Market exists to bring awareness of local artisanal talent and charitable organizations to the Valley.\n\n\nAmy Mae Harwick of Amy Mae’s True Passion\, partnering with Kayleen Soden of Phoenix Holistic Wellness LLC\, bring you this brand new Art Gallery & Maker’s Market; seeking to highlight the artisanal talents of our area in a way that gives back to the community. We look forward to seeing you at the event! Ticket sales are donations that will go directly to the organizations/persons in need. If you would rather donate cash at the event\, you can put zero ($0) for the ticket amount. Tickets are just to help us get a traffic count and raise funds. We will announce funds raised for the organizations in our blog after each event. You can sign up for our blog at www.phoenixholisticwellnessllc.com/blog \nD﻿o you want to be a vendor at this event? Please go to this link to sign up as a vendor.  https://www.eventbrite.com/e/593351800207 \nA﻿ll Charities will be listed below as they commit to the corresponding dates.   \n\nM﻿ay 20: Individual Family/Child with ongoing medical needs\, https://www.caringbridge.org/visit/samanthaosborne\nJ﻿une 17: Charity TBD\nJ﻿uly 15: Child Abuse Awareness\, possible motorcycle ride opportunity in connection with organization. More details to come.\nA﻿ugust 19: Fierce Freedom\, Human Trafficking Awareness\, https://fiercefreedom.org/\n\nP﻿lease also check out our Supportive Self Care with Art Integrations Class that will take place the same day\, after the Market. Click here for the link to that event. \n\n\nA﻿my Mae’s True Passion\, https://www.facebook.com/amymaestruepassion \nP﻿hoenix Holistic Wellness LLC\, https://phoenixholisticwellnessllc.com/ \nFacebook \nI﻿nstagram \nB﻿ushel and A Peck Apple Orchard\, https://www.bushelandapeckmarket.com/ \nF﻿acebook
URL:https://www.theartfairgallery.com/event/art-gallery-makers-market-by-amy-maes-true-passion-at-bushel-and-a-peck/
LOCATION:Bushel\, And\, A\, Peck\, LLC.\, 18444 00 County Hwy OO\, Chippewa\, WI\, 54729\, United States
CATEGORIES:Wisconsin
ATTACH;FMTTYPE=image/jpeg:https://www.theartfairgallery.com/wp-content/uploads/2023/05/e9b143d3ec6ee5240f3b2e8a0aaf54ab.jpg
END:VEVENT
BEGIN:VEVENT
DTSTART;TZID=America/Chicago:20230617T080000
DTEND;TZID=America/Chicago:20230617T140000
DTSTAMP:20260419T162504
CREATED:20230526T101857Z
LAST-MODIFIED:20230526T101857Z
UID:10005507-1686988800-1687010400@www.theartfairgallery.com
SUMMARY:Flea Market and Craft Fair
DESCRIPTION:Shop for vintage decor\, antiques\, rare collectibles\, handmade crafts\, unique gifts at the Dodge County Flea Market and Craft Fair!\n\n\nShop for vintage decor\, antiques\, rare collectibles\, handmade crafts\, unique gifts and so much more at the Dodge County Flea Market and Craft Fair. Shoppers search for treasures to keep\, resell or repurpose in the mostly outdoor market (indoor space available\, held rain or shine). Vendors sell a variety of items including; lawn art\, woodworking\, souvenirs\, knickknacks\, and direct sales vendors of many types. FREE Admission and FREE Parking! \nhttps://dodgecountyfairgrounds.com/events/category/flea-market/
URL:https://www.theartfairgallery.com/event/flea-market-and-craft-fair-6/
LOCATION:Dodge County Fairgrounds\, Wisconsin 33\, Beaver Dam\, WI\, 53916\, United States
CATEGORIES:Wisconsin
ATTACH;FMTTYPE=image/jpeg:https://www.theartfairgallery.com/wp-content/uploads/2023/05/b14c8b81d2749fe15a22787a86f90f58.jpg
END:VEVENT
BEGIN:VEVENT
DTSTART;TZID=America/Chicago:20230610T100000
DTEND;TZID=America/Chicago:20230611T170000
DTSTAMP:20260419T162504
CREATED:20230526T104032Z
LAST-MODIFIED:20230526T104032Z
UID:10005508-1686391200-1686502800@www.theartfairgallery.com
SUMMARY:Arts\, Crafts & Drafts
DESCRIPTION:The Corners and the Town of Brookfield are getting artsy!\n\n\nThe Corners and the Town of Brookfield are getting artsy! We’re thrilled to bring back the “Arts\, Crafts & Drafts” art festival this summer.\n \nGuests can enjoy the works of local and national artists and makers\, a beer garden\, live music\, kids’ activities and more. Pets are welcome.\n \n“Arts\, Crafts & Drafts” is presented by Discover Brookfield. Stay tuned as we announce more details\, and until then save the date!
URL:https://www.theartfairgallery.com/event/arts-crafts-drafts/
LOCATION:The Corners of Brookfield\, 20111 West Bluemound Road\, Brookfield\, WI\, 53045\, United States
CATEGORIES:Wisconsin
ATTACH;FMTTYPE=image/jpeg:https://www.theartfairgallery.com/wp-content/uploads/2023/05/5ebcc162af46e5a9f0f4082806968bfa.jpg
END:VEVENT
BEGIN:VEVENT
DTSTART;TZID=America/Chicago:20230610T100000
DTEND;TZID=America/Chicago:20230610T170000
DTSTAMP:20260419T162504
CREATED:20230526T101547Z
LAST-MODIFIED:20230526T101547Z
UID:10005505-1686391200-1686416400@www.theartfairgallery.com
SUMMARY:SIGN UP TO WIN $100 IN ART BUCKS! Brookfield Arts\, Crafts\, & Drafts
DESCRIPTION:Shop beautiful art\, and enjoy crafts & drafts benefitting Discover Brookfield in this energetic\, community centered show.\n\n\nSign up for the chance to win $100 Art Bucks for the Brookfield Art\, Crafts\, & Drafts Show! Limited to one entry per person. \nReturning for its 2nd year\, in partnership with Discover Brookfield\, Arts\, Crafts & Drafts takes place on Saturday\, June 10 and Sunday\, June 11 at The Corners of Brookfield in beautiful Brookfield\, Wisconsin.  \nThroughout the weekend\, more than 75 artists\, crafters\, makers\, and artisans will showcase and sell clothing\, candles\, home décor\, jewelry\, works of art and more!  \nThis is a FREE event and there is plenty of nearby parking! The show is handicap accessible and wheel friendly.  \nSurrounded by unique stores\, restaurants and cafes\, this fun\, interactive art experience mixes art of all kinds with the art of beer – and for younger attendees – root beer!  \nLive music\, artist demonstrations\, selfie stations\, local treats\, and kids’ art activities\, including “Start to Paint” on-site painting classes\, make this a fun event for the entire family (pets are welcome\, too!) New this year is Amdur’s “Kids Art Stop” where artists invite children to stop at their booth to learn more about the art-making process. \nAttendees are invited to bring their gently used wall art to the festival where it will be donated to the Chicago Furniture Bank\, a nonprofit that distributes furnishings and art to those leaving shelters and moving into permanent housing. Several artists from this show are participating in Amdur Productions’ Green Ribbon Project. Artists place a green ribbon on a piece of art in their booth\, and if the piece is sold\, 10% of the sale will be donated to Amdur’s charitable partner\, which this year is the Chicago Furniture Bank. \nFor more information\, contact Amdur Productions at 847-926-4300. \nThe winner of $100 Art Bucks will be contacted via email the Thursday prior to the show opening. Cannot be redeemed for cash.
URL:https://www.theartfairgallery.com/event/sign-up-to-win-100-in-art-bucks-brookfield-arts-crafts-drafts/
LOCATION:The Corners of Brookfield\, 20111 West Bluemound Road\, Brookfield\, WI\, 53045\, United States
CATEGORIES:Wisconsin
ATTACH;FMTTYPE=image/jpeg:https://www.theartfairgallery.com/wp-content/uploads/2023/05/9afd9cfb1e2cf7c7ffb2473c11b05c49.jpg
END:VEVENT
BEGIN:VEVENT
DTSTART;TZID=America/Chicago:20230608T170000
DTEND;TZID=America/Chicago:20230608T210000
DTSTAMP:20260419T162504
CREATED:20230527T124543Z
LAST-MODIFIED:20230527T124543Z
UID:10005510-1686243600-1686258000@www.theartfairgallery.com
SUMMARY:Driftless Area Art Festival Spring GALA
DESCRIPTION:Driftless Area Art Festival SPRING GALA\n\n\nDriftless Area Art Festival SPRING GALA Annual Celebration and Fundraiser  \nSilent Auction. Fabulous Food. Live Auction. Live Music. Dessert Extravaganza.  \nEntertainment by:  Jake Stephens & Sophia Landis  \n5 pm Cash bar\, nibbles\, bidding on silent auction items.  \n6 pm More Food Fare available in the Banquet Hall.  \n7 pm Live Experience auction!  \n8 pm Last Call for silent auction bids. \n \nCulinary Arts by Old Oak Inn Chef Debra Arndt  \nFeaturing Local Food\, Wine\, & Beer  \nButlered Hors d’oeuvres aka Amuse-bouche! (something for everyone!)  \nTasty Treats including (but not limited to):  \nLocal cheeses & salami  by Noble Rind/Driftless Provisions  \nBeef Tenderloin Sliders  \nShrimp Cocktail  \nAloha Chicken Kabobs  \nSmoked Salmon board  \nCaprese skewers  \nRoasted olives with Burrata  \nDips Galore  \nSalads Various  \nPlus a tantalizing array of desserts!  \nAuction Adventures Include: Confections Galore  \n1. A Seat at the Table with Joe Schwarte and Christine Myhr  \n2. Throw a Pot with Potter\, Kay Campbell & Lunch Served 3. Historic Fortney Hotel Viroqua Entertainment Package 1 Night of peaceful slumber @Historic Fortney Hotel Wine & Charcuterie @ Noble Rind  \n3. Entertainment at the Temple Theater  \n4. Dungeon Tour & Dinner with Dale Klemme & Cheryl Mader  \n5. 3 night stay at the Latarnia Guest House\, a bluff top sanctuary overlooking the Mississippi River  \n6. 2 night stay at the Old Oak Inn Bed & Breakfast
URL:https://www.theartfairgallery.com/event/driftless-area-art-festival-spring-gala/
LOCATION:Old Oak Inn Bed and Breakfast\, Acorn Lounge\, and Reception Hall\, 500 Church Street\, Soldiers Grove\, WI\, 54655\, United States
CATEGORIES:Wisconsin
ATTACH;FMTTYPE=image/jpeg:https://www.theartfairgallery.com/wp-content/uploads/2023/05/0bad6971edf3856595927c182ccff890.jpg
END:VEVENT
BEGIN:VEVENT
DTSTART;TZID=America/Chicago:20230603T090000
DTEND;TZID=America/Chicago:20230603T160000
DTSTAMP:20260419T162504
CREATED:20230526T101747Z
LAST-MODIFIED:20230526T101747Z
UID:10005506-1685782800-1685808000@www.theartfairgallery.com
SUMMARY:Art & Farm Market (No tickets needed $4.00 at Farm)
DESCRIPTION:Unique Rustic Marketplace ~ Featuring Artists and Farmers -Spend the day on 80 secluded acres and our 160 year old restored family homestead\n\n\nFor those who share a passion for art\, vintage & locally made and grown products. Enjoy a wide range of treasures that will fill the barns and grounds during this weekend. Sample produce and refreshments prepared by local farmers and bakers. Spend the Day- Enjoy Hot Foods – Wine & Bloodys at our Grainery Bar. \nRelax and enjoy our live local musicians starting at 11am each day \nSpend the day in the Country! \nNO TICKETS NEEDED \n$4.00 Admission at Door \nSaturday and Sunday 9-4pm
URL:https://www.theartfairgallery.com/event/art-farm-market-no-tickets-needed-4-00-at-farm/
LOCATION:Holy Hill Art Farm\, 4958 Holy Hill Road\, Hubertus\, WI\, 53033\, United States
CATEGORIES:Wisconsin
ATTACH;FMTTYPE=image/jpeg:https://www.theartfairgallery.com/wp-content/uploads/2023/05/392813442455a56f48b03b8fb937e7cc.jpg
END:VEVENT
BEGIN:VEVENT
DTSTART;TZID=America/Chicago:20230527T090000
DTEND;TZID=America/Chicago:20230527T150000
DTSTAMP:20260419T162504
CREATED:20221022T104516Z
LAST-MODIFIED:20221022T104516Z
UID:10004094-1685178000-1685199600@www.theartfairgallery.com
SUMMARY:Art in the Park 2023
DESCRIPTION:The Oak Creek-Foundation for Education is proud to host Art in the Park which features artists from across the state of Wisconsin\n\n\nAs an artist\, craft maker or vendor we welcome you to join us as we set the stage for sharing the love of creating and sharing quality art and products for our community. The event will be held adjacent to Oak Creek High School in a community park that provides wonderful exposure\, a lively atmosphere and easy access. We look forward to hosting a variety of artists\, craft makers\, and product vendors\, and encouraging our students to participate in and appreciate the arts. \nApplications must be received NO LATER THAN APRIL 30\, 2023. You must include a brief written description of your media including the materials and techniques involved with your submission. If accepted\, you may not change or add other items to your booth space that were not juried. A space fee is to be paid accompanying your application. If your application is declined\, the space fee will be refunded to you. \nArt in the Park 2023 is not accepting vendors or direct sellers selling mass produced\, commercial or imported products\, copies\, kits\, molded or prefabricated work. \nJURY PROCESS & NOTIFICATION: An impartial\, knowledgeable team of jurors will consider each applicant’s work. You will receive notification of your status on or about May 5\, 2023\, following the festival’s craft juror review meeting.
URL:https://www.theartfairgallery.com/event/art-in-the-park-2023/
LOCATION:Henry Miller Park\, 315 E Groveland Drive\, Oak Creek\, WI\, 53154\, United States
CATEGORIES:Wisconsin
END:VEVENT
END:VCALENDAR