BEGIN:VCALENDAR
VERSION:2.0
PRODID:-//The Art Fair Gallery - ECPv6.15.18//NONSGML v1.0//EN
CALSCALE:GREGORIAN
METHOD:PUBLISH
X-ORIGINAL-URL:https://www.theartfairgallery.com
X-WR-CALDESC:Events for The Art Fair Gallery
REFRESH-INTERVAL;VALUE=DURATION:PT1H
X-Robots-Tag:noindex
X-PUBLISHED-TTL:PT1H
BEGIN:VTIMEZONE
TZID:America/New_York
BEGIN:DAYLIGHT
TZOFFSETFROM:-0500
TZOFFSETTO:-0400
TZNAME:EDT
DTSTART:20220313T070000
END:DAYLIGHT
BEGIN:STANDARD
TZOFFSETFROM:-0400
TZOFFSETTO:-0500
TZNAME:EST
DTSTART:20221106T060000
END:STANDARD
BEGIN:DAYLIGHT
TZOFFSETFROM:-0500
TZOFFSETTO:-0400
TZNAME:EDT
DTSTART:20230312T070000
END:DAYLIGHT
BEGIN:STANDARD
TZOFFSETFROM:-0400
TZOFFSETTO:-0500
TZNAME:EST
DTSTART:20231105T060000
END:STANDARD
BEGIN:DAYLIGHT
TZOFFSETFROM:-0500
TZOFFSETTO:-0400
TZNAME:EDT
DTSTART:20240310T070000
END:DAYLIGHT
BEGIN:STANDARD
TZOFFSETFROM:-0400
TZOFFSETTO:-0500
TZNAME:EST
DTSTART:20241103T060000
END:STANDARD
END:VTIMEZONE
BEGIN:VTIMEZONE
TZID:America/Chicago
BEGIN:DAYLIGHT
TZOFFSETFROM:-0600
TZOFFSETTO:-0500
TZNAME:CDT
DTSTART:20220313T080000
END:DAYLIGHT
BEGIN:STANDARD
TZOFFSETFROM:-0500
TZOFFSETTO:-0600
TZNAME:CST
DTSTART:20221106T070000
END:STANDARD
BEGIN:DAYLIGHT
TZOFFSETFROM:-0600
TZOFFSETTO:-0500
TZNAME:CDT
DTSTART:20230312T080000
END:DAYLIGHT
BEGIN:STANDARD
TZOFFSETFROM:-0500
TZOFFSETTO:-0600
TZNAME:CST
DTSTART:20231105T070000
END:STANDARD
BEGIN:DAYLIGHT
TZOFFSETFROM:-0600
TZOFFSETTO:-0500
TZNAME:CDT
DTSTART:20240310T080000
END:DAYLIGHT
BEGIN:STANDARD
TZOFFSETFROM:-0500
TZOFFSETTO:-0600
TZNAME:CST
DTSTART:20241103T070000
END:STANDARD
END:VTIMEZONE
BEGIN:VTIMEZONE
TZID:America/Detroit
BEGIN:DAYLIGHT
TZOFFSETFROM:-0500
TZOFFSETTO:-0400
TZNAME:EDT
DTSTART:20220313T070000
END:DAYLIGHT
BEGIN:STANDARD
TZOFFSETFROM:-0400
TZOFFSETTO:-0500
TZNAME:EST
DTSTART:20221106T060000
END:STANDARD
BEGIN:DAYLIGHT
TZOFFSETFROM:-0500
TZOFFSETTO:-0400
TZNAME:EDT
DTSTART:20230312T070000
END:DAYLIGHT
BEGIN:STANDARD
TZOFFSETFROM:-0400
TZOFFSETTO:-0500
TZNAME:EST
DTSTART:20231105T060000
END:STANDARD
BEGIN:DAYLIGHT
TZOFFSETFROM:-0500
TZOFFSETTO:-0400
TZNAME:EDT
DTSTART:20240310T070000
END:DAYLIGHT
BEGIN:STANDARD
TZOFFSETFROM:-0400
TZOFFSETTO:-0500
TZNAME:EST
DTSTART:20241103T060000
END:STANDARD
END:VTIMEZONE
BEGIN:VEVENT
DTSTART;TZID=America/New_York:20231021T100000
DTEND;TZID=America/New_York:20231021T153000
DTSTAMP:20260419T111023
CREATED:20231001T111548Z
LAST-MODIFIED:20231001T111548Z
UID:10006414-1697882400-1697902200@www.theartfairgallery.com
SUMMARY:Craft N' More Fall Festival
DESCRIPTION:Fall Festival with live band\, food truck\, vendors and more\n\n\nIf you are looking for some Fall fun\, look no further than the Crafts N’ More Fall Festival with Dessert Crawl.  We will have 100 unique craft vendors for you to explore and we will have our annual Vendor Treat in which you and kids can dress up in your costumes and walk around to our vendors for some free candy. \nIf you get hungry\, check out our food trucks while listening to one of our local live bands. Do you want something sweet? Want to be a judge of the best dessert? We are hosting our first ever Dessert Crawl where you buy a ticket  for $10 and get to taste 9 different fall inspired desserts from our competing licensed bakers and help us judge which one is the best. The winning baker will receive a cash prize! Even after all that\, you can meet  the one and only Bluey from 12-2pm and stop by to see some live animals with the 4H  clubs joining us this year. Please spare some time to in your day to show these amazing people some love and support; let’s help these small businesses together! We can’t wait to see you there! \nAddress: Burlington County Fairgrounds \n1990 Jacksonville Jobstown Rd\, Columbus\, NJ 08022 \nOrganizer Website: kjsouthjerseycraftfair.com 
URL:https://www.theartfairgallery.com/event/craft-n-more-fall-festival/
LOCATION:Burlington County Fairgrounds\, 1990 Jacksonville Jobstown Road\, Springfield\, NJ\, 08022\, United States
CATEGORIES:New Jersey
ATTACH;FMTTYPE=image/jpeg:https://www.theartfairgallery.com/wp-content/uploads/2023/10/977ea4b71fc1acaf3d90e84f0af4d08e.jpg
END:VEVENT
BEGIN:VEVENT
DTSTART;TZID=America/New_York:20231014T100000
DTEND;TZID=America/New_York:20231014T170000
DTSTAMP:20260419T111023
CREATED:20231001T104800Z
LAST-MODIFIED:20231001T104800Z
UID:10006412-1697277600-1697302800@www.theartfairgallery.com
SUMMARY:NJ Botanical Gardens Harvest Festival & Craft Fair
DESCRIPTION:Fun for everyone at the beautiful NJ Botanical Gardens! Hand made crafts\, kids zone\, food & live music! Come and enjoy the day!\n\n\nHosted by the NJBG committee and produced in conjunction with JC Promotions\, Inc. This event is being held in one of the most scenic areas in NJ during the beautiful autumn season. The fall foliage is in its prime up here in the Ramapo Mountains. What a wonderful way to spend the day. Browse through the many artists and craftspeople showing their hand-crafted items. Bring the children as there will be a kids zone that features\, kids game trailer\, hay rides  (the hay ride attraction will be based on the condition of the grounds)\, face painting\, pumpkin painting\, a train ride\, apple sauce making\, and more. Come hungry and eat the delicious food sold by the food truck vendors and enjoy the live music we will have for your pleasure. Enjoy the cool sounds of George Langberg & Richie G\, while you sit and relax at the many tables and chairs set out for our visitors. The event is free to the public. Parking is $5 per car. Fun Activities for everyone so come and enjoy the day with us! Rain Date is Sunday 10/15
URL:https://www.theartfairgallery.com/event/nj-botanical-gardens-harvest-festival-craft-fair/
LOCATION:NJ Botanical Gardens\, 5 Morris Road\, Ringwood\, NJ\, 07456\, United States
CATEGORIES:New Jersey
ATTACH;FMTTYPE=image/jpeg:https://www.theartfairgallery.com/wp-content/uploads/2023/10/0b04e333fd1603afb92b06324ef81a48.jpg
END:VEVENT
BEGIN:VEVENT
DTSTART;TZID=America/New_York:20231012T150000
DTEND;TZID=America/New_York:20231015T180000
DTSTAMP:20260419T111023
CREATED:20230910T224818Z
LAST-MODIFIED:20231001T111954Z
UID:10006103-1697122800-1697392800@www.theartfairgallery.com
SUMMARY:Art Fair 14C - 5th Edition
DESCRIPTION:Art Fair 14C is New Jersey’s art fair – an international art fair with a Jersey attitude.\n\n\nART FAIR 14C RETURNS! \nThe 5th edition of Art Fair 14C is the unmissable event of the Fall with artists\, galleries and arts organizations under one roof. View and buy art from hundreds of artists – regional\, national and international – in the stunning CRRNJ Terminal Building in Liberty State Park in Jersey City\, NJ.  \nArt Fair 14C – the name is a wink to the old Jersey joke\, ‘what exit?’ – is a non-profit\, mission-driven\, international art fair\, but with a strong focus on New Jersey. \nArt Fair 14C supports the visual arts by increasing opportunities for artists\, expanding public access to fine art\, strengthening careers in the arts\, as well as adding to Jersey City’s reputation as a leading arts destination. \nEasily accessed by car\, PATH\, Lightrail\, ferry\, free shuttle or bicycle. Please see artfair14c.com/visit for more info on getting to Art Fair 14C. \n5th EDITION SCHEDULE \nThursday October 12:	 \nArt Fair 14C opening preview (VIP and invitation only) 3:00 PM – 8:00 PM* \nFriday October 13:	 \nFree admission and open to the public 1:00 PM -6:00 PM (VIP entry 12:00 PM) \nI﻿f you select a free Friday pass\, please consider making a contribution of your choice to Art Fair 14C by selecting the “donation” ticket option as you check out. Thank you! \nSaturday October 14:	 \nOpen to the public 12:00 PM – 7:00 PM (VIP entry 11:00 AM) \nSunday October 15:	 \nOpen to the public 12:00 PM – 6:00 PM (VIP entry 11:00 AM) \n*Patron and VIP ticketholders are invited to Thursday’s Preview session as well as entry to the fair 1 hour before public admission each day. \nVeterans and members of the military (with ID) receive complimentary admission to Art Fair 14C Friday through Sunday during all public hours \nChildren 12 and under receive complimentary admission Friday through Sunday during all public hours – must be accompanied by a parent or guardian \nFor more information and a list of artists and exhibitors\, please visit artfair14c.com \n\n\n\nLOCATION\nThe CRRNJ Terminal Building (1 Audrey Zapp Dr.) is located in Liberty State Park. There are a number of transportation options to get to the venue. \n\n30-minute walk from the Grove St PATH \n10 min car ride from Exchange Place\, Grove St PATH		\n\nSHUTTLE BUSES: \n\nFree s﻿huttle buses will be available \n\nPARKING:  \n\nParking is available \n\nCheck artfair14C.com/visit for updated transportation and fair information.
URL:https://www.theartfairgallery.com/event/art-fair-14c-5th-edition/
LOCATION:Central Railroad of New Jersey Terminal\, 1 Audrey Zapp Drive\, Jersey City\, NJ\, 07305\, United States
CATEGORIES:Craft Fair,New Jersey
ATTACH;FMTTYPE=image/jpeg:https://www.theartfairgallery.com/wp-content/uploads/2023/09/72df625f7e2fdc75c97b658b61571564.jpg
END:VEVENT
BEGIN:VEVENT
DTSTART;TZID=America/New_York:20231007T100000
DTEND;TZID=America/New_York:20231007T140000
DTSTAMP:20260419T111023
CREATED:20231001T101511Z
LAST-MODIFIED:20231001T101511Z
UID:10006410-1696672800-1696687200@www.theartfairgallery.com
SUMMARY:Harvest Fair Craft Show
DESCRIPTION:Get ready for a kick-ass Harvest Fair Craft Show\, where you’ll find an epic array of handmade crafts\, delicious treats\, and awesome entertai\n\n\nHarvest Fair Craft Show \nDate: Saturday October 7\, 2023 \nLocation: 8 New York Avenue\, Mantua Township\, NJ\, USA \nCome one\, come all to the Harvest Fair Craft Show! It’s time to celebrate the season with a delightful gathering of talented artisans and crafters. Get ready to be amazed by the wide array of unique handmade treasures on display. From beautiful jewelry to intricate woodwork\, there’s something for everyone to enjoy. Don’t miss out on this fantastic opportunity to support local artists and find that perfect one-of-a-kind item. Join us at 8 New York Avenue\, Mantua Township\, NJ\, USA on October 7\, 2023. See you there!
URL:https://www.theartfairgallery.com/event/harvest-fair-craft-show/
LOCATION:8 New York Avenue\, Mantua Township\, NJ\, USA\, 8 New York Avenue\, Mantua Township\, NJ\, 08051\, United States
CATEGORIES:New Jersey
ATTACH;FMTTYPE=image/jpeg:https://www.theartfairgallery.com/wp-content/uploads/2023/10/a7adb7bc9935dd5308d324d381ed3358.jpg
END:VEVENT
BEGIN:VEVENT
DTSTART;TZID=America/New_York:20231001T110000
DTEND;TZID=America/New_York:20231001T170000
DTSTAMP:20260419T111023
CREATED:20230506T105543Z
LAST-MODIFIED:20230506T105703Z
UID:10005438-1696158000-1696179600@www.theartfairgallery.com
SUMMARY:Somerville Street Fair & Craft Show
DESCRIPTION:http://StreetFairs.org\nArtists\, Crafters\, Vendors\, Food\, Live Music & more.\nFREE ADMISSION for Spectators.\nAvg Event Attendance: 20\,000\n\n\nThe absolute Best way to sell your goods and services. \nStreetFairs.org is New Jersey’s Largest Street Fair organizer with 24 events throughout the state. We are widely known to vendors as having run the most organized and successful events around. Come and join in their Success!! \nArtists Crafters Vendors Food Rides Live Music & more. \nFREE ADMISSION for Spectators. \nOur Avg Event Attendance: 20000 \nFor More Info and applications go to: http://StreetFairs.org \nor Email: info@StreetFairs.org \nPhone:(908) 654-1400 \nLive Music DJ Dancing Delicious foods Performances and more! \nChildren’s rides Games and More!
URL:https://www.theartfairgallery.com/event/somerville-street-fair-craft-show/
LOCATION:Downtown Somerville\, NJ\, W. Main St and Bridge St\, Somerville\, NJ\, 08876\, United States
CATEGORIES:New Jersey
ATTACH;FMTTYPE=image/jpeg:https://www.theartfairgallery.com/wp-content/uploads/2023/05/9deb8d5cc816faa2b97b08a9d7b8a2d0.jpg
END:VEVENT
BEGIN:VEVENT
DTSTART;TZID=America/New_York:20230927T100000
DTEND;TZID=America/New_York:20231001T220000
DTSTAMP:20260419T111023
CREATED:20230422T082301Z
LAST-MODIFIED:20230923T144759Z
UID:10005153-1695808800-1696197600@www.theartfairgallery.com
SUMMARY:Newark Arts Festival 2023
DESCRIPTION:NAF to celebrate the 50th anniversary of Hip Hop and bring “Cross Cultural Perspectives” on art\,  Sept. 27 – Oct 1\, 2023\n\n\nNEWARK ARTS FESTIVAL 2023: CROSS CULTURAL PERSPECTIVES\, September 27-October 1\, 2023. \nNewark Arts Festival (NAF)\, powered by Prudential Financial and produced by Newark Arts\, will attract thousands of artists\, collectors\, aficionados and creatives to New Jersey’s largest city this Fall. Happening September 27 through October 1\, 2023\, this free four-day celebration of arts and culture will span across all five wards of Newark\, kicking off with a not-to-be-missed Opening Event on Wednesday\, September 27th at The Newark Museum of Art.  \nVoted New Jersey’s Favorite Visual Arts Festival\, NAF 2023 will proudly feature the “Cross Cultural Perspectives” of Newark’s diverse and vibrant arts community\, as well as national and international voices in the arts. Unique to this year’s festival will be a spotlight on the contributions of Newark-area hip hop pioneers\, in celebration of the 50th Anniversary of Hip Hop.  \nLed by local and national curators\, each day of the Festival will feature dynamic artistic offerings from Newark’s creative community including pop up art installations\, performance and poetry experiences\, youth activations\, film and media events\, nightlife\, panels and more. Artists and curators are encouraged to apply to the Call for Artists\, which opens on April 17th and will close on June 1st.   \nFor more information\, please visit NewarkArtsFestival.com.   \n#NAF2023
URL:https://www.theartfairgallery.com/event/newark-arts-festival-2023/
LOCATION:NAF Headquarters\, 17 Academy St\, Suite 702\, Newark\, NJ\, 07102\, United States
CATEGORIES:Craft Fair,New Jersey
ATTACH;FMTTYPE=image/jpeg:https://www.theartfairgallery.com/wp-content/uploads/2023/04/2f3a2e109fdb061682e2d0ecc0af8f51.jpg
END:VEVENT
BEGIN:VEVENT
DTSTART;TZID=America/New_York:20230924T110000
DTEND;TZID=America/New_York:20230924T160000
DTSTAMP:20260419T111023
CREATED:20230723T011755Z
LAST-MODIFIED:20230723T011755Z
UID:10005782-1695553200-1695571200@www.theartfairgallery.com
SUMMARY:Glen Rock Street Fair & Craft Fair
DESCRIPTION:http://StreetFairs.org\nArtists\, Crafters\, Vendors\, Food\, Live Music & more.\nFREE ADMISSION for Spectators.\nAvg Event Attendance: 20\,000\n\n\nFor More Info and applications\, go to: http://StreetFairs.org  \nor Email: info@StreetFairs.org  \nPhone:(908) 654-1400  \n \nLive Music\, DJ\, Dancing\, Delicious foods\, Performances and more! \nChildren’s rides\, Games\, and More! \n \nStreetFairs.org is New Jersey’s Largest Street Fair organizer with 25 events throughout the state. We are widely known to vendors as having run the most organized and successful events around. Come and join in their Success!! \n \nCome on down for a day of family fun with original & interesting Arts & Crafts\, shopping\, kid’s rides and great FOOD!
URL:https://www.theartfairgallery.com/event/glen-rock-street-fair-craft-fair/
LOCATION:Downtown Glen Rock\, Rock Rd and Maple Ave\, Glen Rock\, NJ\, 07452\, United States
CATEGORIES:New Jersey
ATTACH;FMTTYPE=image/jpeg:https://www.theartfairgallery.com/wp-content/uploads/2023/07/92196f69cf486574ce6555dd89ea20b2.jpg
END:VEVENT
BEGIN:VEVENT
DTSTART;TZID=America/New_York:20230916T100000
DTEND;TZID=America/New_York:20230916T150000
DTSTAMP:20260419T111023
CREATED:20230506T104258Z
LAST-MODIFIED:20230506T104258Z
UID:10005436-1694858400-1694876400@www.theartfairgallery.com
SUMMARY:Muddy Paws Farm 2nd Annual Fall Festival
DESCRIPTION:2nd Annual Muddy Paws Farm Craft Fair & Open House\n\n\nC﻿ome join us for a day of crafters and visiting with our friendly farm animals.
URL:https://www.theartfairgallery.com/event/muddy-paws-farm-2nd-annual-fall-festival/
LOCATION:Muddy Paws Farm Rescue\, 17 Retreat Road\, Southampton Township\, NJ\, 08088\, United States
CATEGORIES:New Jersey
ATTACH;FMTTYPE=image/jpeg:https://www.theartfairgallery.com/wp-content/uploads/2023/05/801999adfd7230356af4ae3a4d99e343.jpg
END:VEVENT
BEGIN:VEVENT
DTSTART;TZID=America/Chicago:20230827T110000
DTEND;TZID=America/Chicago:20230827T170000
DTSTAMP:20260419T111023
CREATED:20230624T075907Z
LAST-MODIFIED:20230624T075907Z
UID:10005620-1693134000-1693155600@www.theartfairgallery.com
SUMMARY:Cranford Street Fair & Craft Show
DESCRIPTION:http://StreetFairs.org\nArtists\, Crafters\, Vendors\, Food\, Live Music & more.\nFREE ADMISSION for Spectators.\nAvg Event Attendance: 20\,000\n\n\nThe absolute Best way to sell your goods and services. \nStreetFairs.org is New Jersey’s Largest Street Fair organizer with 24 events throughout the state. We are widely known to vendors as having run the most organized and successful events around. Come and join in their Success!! \nArtists Crafters Vendors Food Rides Live Music & more. \nFREE ADMISSION for Spectators. \nOur Avg Event Attendance: 20000 \nFor More Info and applications go to: http://StreetFairs.org \nor Email: info@StreetFairs.org \nPhone:(908) 654-1400 \nLive Music DJ Dancing Delicious foods Performances and more! \nChildren’s rides Games and More!
URL:https://www.theartfairgallery.com/event/cranford-street-fair-craft-show-2/
LOCATION:Downtown Cranford\, NJ\, North Ave W. and Union Ave N.\, Cranford\, NJ\, 07016\, United States
CATEGORIES:New Jersey
ATTACH;FMTTYPE=image/jpeg:https://www.theartfairgallery.com/wp-content/uploads/2023/06/32dbd8d40ad79c7cf481e7bbd265b2ad.jpg
END:VEVENT
BEGIN:VEVENT
DTSTART;TZID=America/New_York:20230625T110000
DTEND;TZID=America/New_York:20230625T160000
DTSTAMP:20260419T111023
CREATED:20230506T104336Z
LAST-MODIFIED:20230506T104336Z
UID:10005437-1687690800-1687708800@www.theartfairgallery.com
SUMMARY:Artful Sundays: Shop Art\, Craft & Design by Local Artists
DESCRIPTION:Our annual series of outdoor art fairs is back for a third year\n\n\nArtful Sundays is an opportunity to browse and shop art\, craft\, and design by local artists working in a variety of mediums: \n🎨 Painting \n🧊 Glass \n🏺 Ceramics \n💍 Jewelry \n📷 Photography \n🖼️ Mixed Media \n➕ And More! \nNew artists added every week!
URL:https://www.theartfairgallery.com/event/artful-sundays-shop-art-craft-design-by-local-artists/
LOCATION:Hunterdon Art Museum\, 7 Lower Center Street\, Clinton\, NJ\, 08809\, United States
CATEGORIES:New Jersey
ATTACH;FMTTYPE=image/jpeg:https://www.theartfairgallery.com/wp-content/uploads/2023/05/e87168caa3cfa2e5905b6adb472f3bd5.jpg
END:VEVENT
BEGIN:VEVENT
DTSTART;TZID=America/New_York:20230610T110000
DTEND;TZID=America/New_York:20230610T170000
DTSTAMP:20260419T111023
CREATED:20230506T103202Z
LAST-MODIFIED:20230506T103202Z
UID:10005435-1686394800-1686416400@www.theartfairgallery.com
SUMMARY:Westfield Street Fair & Craft Show
DESCRIPTION:http://StreetFairs.org\nArtists\, Crafters\, Vendors\, Food\, Live Music & more.\nFREE ADMISSION for Spectators.\nAvg Event Attendance: 20\,000\n\n\nThe absolute Best way to sell your goods and services. \nStreetFairs.org is New Jersey’s Largest Street Fair organizer with 24 events throughout the state. We are widely known to vendors as having run the most organized and successful events around. Come and join in their Success!! \nArtists Crafters Vendors Food Rides Live Music & more. \nFREE ADMISSION for Spectators. \nOur Avg Event Attendance: 20000 \nFor More Info and applications go to: http://StreetFairs.org \nor Email: info@StreetFairs.org \nPhone:(908) 654-1400 \nLive Music DJ Dancing Delicious foods Performances and more! \nChildren’s rides Games and More!
URL:https://www.theartfairgallery.com/event/westfield-street-fair-craft-show/
LOCATION:Westfield\, downtown\, Westfield\, NJ\, 07090\, United States
CATEGORIES:New Jersey
ATTACH;FMTTYPE=image/jpeg:https://www.theartfairgallery.com/wp-content/uploads/2023/05/89cdd4c96be921f9f3f4fbc20301007c.jpg
END:VEVENT
BEGIN:VEVENT
DTSTART;TZID=America/Detroit:20230604T110000
DTEND;TZID=America/Detroit:20230604T170000
DTSTAMP:20260419T111023
CREATED:20230114T210354Z
LAST-MODIFIED:20230114T210551Z
UID:10004869-1685876400-1685898000@www.theartfairgallery.com
SUMMARY:Art at the Esplanade Open-Air Art Show
DESCRIPTION:Come discover fine artists and artisans in the lovely town of Mountain Lakes\, NJ at the juried arts & craft show. Shop directly from emerging and established artists at this open-air event for original paintings\, pottery pieces\, jewelry\, sculpture and more.
URL:https://www.theartfairgallery.com/event/art-at-the-esplanade-open-air-art-show/
LOCATION:Esplanade\, 11 Elm Road\, Mountain Lakes\, NJ\, 07046\, United States
CATEGORIES:Art Shows,Festival,New Jersey
ATTACH;FMTTYPE=image/jpeg:https://www.theartfairgallery.com/wp-content/uploads/2023/01/2023-poster.jpg
ORGANIZER;CN="Amy Thompson-Hill":MAILTO:artattheesplanade@gmail.com
END:VEVENT
BEGIN:VEVENT
DTSTART;TZID=America/New_York:20230520T110000
DTEND;TZID=America/New_York:20230520T170000
DTSTAMP:20260419T111023
CREATED:20230506T102159Z
LAST-MODIFIED:20230506T102159Z
UID:10005434-1684580400-1684602000@www.theartfairgallery.com
SUMMARY:Woodbridge Street Fair & Craft Show
DESCRIPTION:http://StreetFairs.org\nArtists\, Crafters\, Vendors\, Food\, Live Music & more.\nFREE ADMISSION for Spectators.\nAvg Event Attendance: 20\,000\n\n\nThe absolute Best way to sell your goods and services. \nStreetFairs.org is New Jersey’s Largest Street Fair organizer with 24 events throughout the state. We are widely known to vendors as having run the most organized and successful events around. Come and join in their Success!! \nArtists Crafters Vendors Food Rides Live Music & more. \nFREE ADMISSION for Spectators. \nOur Avg Event Attendance: 20000 \nFor More Info and applications go to: http://StreetFairs.org \nor Email: info@StreetFairs.org \nPhone:(908) 654-1400 \nLive Music DJ Dancing Delicious foods Performances and more! \nChildren’s rides Games and More!
URL:https://www.theartfairgallery.com/event/woodbridge-street-fair-craft-show/
LOCATION:Downtown Woodbridge\, NJ\, Main St and Amboy Ave\, Woodbridge\, NJ\, 07095\, United States
CATEGORIES:New Jersey
ATTACH;FMTTYPE=image/jpeg:https://www.theartfairgallery.com/wp-content/uploads/2023/05/af13f5df80ab2f5251202bbd29fd6a83.jpg
END:VEVENT
BEGIN:VEVENT
DTSTART;TZID=America/New_York:20230513T190000
DTEND;TZID=America/New_York:20230513T220000
DTSTAMP:20260419T111023
CREATED:20230506T114229Z
LAST-MODIFIED:20230506T114229Z
UID:10005440-1684004400-1684015200@www.theartfairgallery.com
SUMMARY:Venezuela Art Fair New Jersey Edition 2023
DESCRIPTION:Venezuela Art Fair New Jersey Edition 2023\n\n\nVenezuela Art Fair NEW JERSEY Edition \nOpening May 13\, 2023 – 7:00PM\nThrough June 3rd. \nJoin us for this exclusive art celebration at the Venezuela Art Fair NEW JERSEY edition in the William V. Musto Cultural Center. Union City\, NJ. \nPlease join us for a one-of-a-kind special event featuring art\, sculpture\, films\, performance\, photography\,  and  more Venezuelan style.\nWe look forward to seeing you there!\n \nLine Up: \nReinaldo P. Giraldi  @Rey_p \nLeandro Comrie	@LeandroComrie \nAlfonzo Prieto  @AlfonzoPrietoV \nAlexandra Alvarez	@alexillustra \nCarolina Fernandez	 @Loveartspace \nRuth Alvarado Orlich	 \nNuma Delgado	 @numadelgadophoto \nYuri Uzcategui @ypotassium \n \nSTAFF: \nAlexandra Alvarez – Director and Producer @alexillustra \nYuri Uzcategui – Co-producer / PR Manager @yuriyurtrika \nAlfonzo Prieto – New Jersey PR Representative \n \nwww.venezuelaartfair.com @venezuelaartfair \nProduction: Guaicora Studios LLC \n \nWilliam Musto Cultural Center Union City Museum \n420 15th St \nUnion City\, NJ  07087
URL:https://www.theartfairgallery.com/event/venezuela-art-fair-new-jersey-edition-2023/
LOCATION:William V. Musto Cultural Center\, 420 15th street\, 2nd floor\, Union City\, NJ\, 07087\, United States
CATEGORIES:New Jersey
ATTACH;FMTTYPE=image/jpeg:https://www.theartfairgallery.com/wp-content/uploads/2023/05/8e4802af9c8da46da5960cd0a4288e07.jpg
END:VEVENT
BEGIN:VEVENT
DTSTART;TZID=America/New_York:20230430T100000
DTEND;TZID=America/New_York:20230430T160000
DTSTAMP:20260419T111023
CREATED:20230318T124931Z
LAST-MODIFIED:20230318T124931Z
UID:10005017-1682848800-1682870400@www.theartfairgallery.com
SUMMARY:Arts and Crafts Show
DESCRIPTION:Attend our Art + Craft Show in Edison\, NJ!\nOver 100 exhibitors will be showcasing their handmade arts and crafts for you to enjoy!
URL:https://www.theartfairgallery.com/event/arts-and-crafts-show-3/
LOCATION:New Jersey Convention and Exposition Center\, 97 Sunfield Avenue\, Edison\, NJ\, 08837\, United States
CATEGORIES:New Jersey
ATTACH;FMTTYPE=image/jpeg:https://www.theartfairgallery.com/wp-content/uploads/2023/03/6350f3da8bd542349a99dac4695919b1.jpg
END:VEVENT
BEGIN:VEVENT
DTSTART;TZID=America/New_York:20230429T100000
DTEND;TZID=America/New_York:20230429T180000
DTSTAMP:20260419T111023
CREATED:20230318T124930Z
LAST-MODIFIED:20230318T124930Z
UID:10005016-1682762400-1682791200@www.theartfairgallery.com
SUMMARY:Arts and Crafts Show
DESCRIPTION:Attend our Art + Craft Show in Edison\, NJ!\nOver 100 exhibitors will be showcasing their handmade arts and crafts for you to enjoy!
URL:https://www.theartfairgallery.com/event/arts-and-crafts-show-2/
LOCATION:New Jersey Convention and Exposition Center\, 97 Sunfield Avenue\, Edison\, NJ\, 08837\, United States
CATEGORIES:New Jersey
ATTACH;FMTTYPE=image/jpeg:https://www.theartfairgallery.com/wp-content/uploads/2023/03/6350f3da8bd542349a99dac4695919b1.jpg
END:VEVENT
BEGIN:VEVENT
DTSTART;TZID=America/New_York:20230428T100000
DTEND;TZID=America/New_York:20230428T170000
DTSTAMP:20260419T111023
CREATED:20230318T124925Z
LAST-MODIFIED:20230318T124925Z
UID:10005015-1682676000-1682701200@www.theartfairgallery.com
SUMMARY:Arts and Crafts Show
DESCRIPTION:Attend our Art + Craft Show in Edison\, NJ!\nOver 100 exhibitors will be showcasing their handmade arts and crafts for you to enjoy!
URL:https://www.theartfairgallery.com/event/arts-and-crafts-show/
LOCATION:New Jersey Convention and Exposition Center\, 97 Sunfield Avenue\, Edison\, NJ\, 08837\, United States
CATEGORIES:New Jersey
ATTACH;FMTTYPE=image/jpeg:https://www.theartfairgallery.com/wp-content/uploads/2023/03/6350f3da8bd542349a99dac4695919b1.jpg
END:VEVENT
END:VCALENDAR