BEGIN:VCALENDAR
VERSION:2.0
PRODID:-//The Art Fair Gallery - ECPv6.15.18//NONSGML v1.0//EN
CALSCALE:GREGORIAN
METHOD:PUBLISH
X-ORIGINAL-URL:https://www.theartfairgallery.com
X-WR-CALDESC:Events for The Art Fair Gallery
REFRESH-INTERVAL;VALUE=DURATION:PT1H
X-Robots-Tag:noindex
X-PUBLISHED-TTL:PT1H
BEGIN:VTIMEZONE
TZID:America/New_York
BEGIN:DAYLIGHT
TZOFFSETFROM:-0500
TZOFFSETTO:-0400
TZNAME:EDT
DTSTART:20220313T070000
END:DAYLIGHT
BEGIN:STANDARD
TZOFFSETFROM:-0400
TZOFFSETTO:-0500
TZNAME:EST
DTSTART:20221106T060000
END:STANDARD
BEGIN:DAYLIGHT
TZOFFSETFROM:-0500
TZOFFSETTO:-0400
TZNAME:EDT
DTSTART:20230312T070000
END:DAYLIGHT
BEGIN:STANDARD
TZOFFSETFROM:-0400
TZOFFSETTO:-0500
TZNAME:EST
DTSTART:20231105T060000
END:STANDARD
BEGIN:DAYLIGHT
TZOFFSETFROM:-0500
TZOFFSETTO:-0400
TZNAME:EDT
DTSTART:20240310T070000
END:DAYLIGHT
BEGIN:STANDARD
TZOFFSETFROM:-0400
TZOFFSETTO:-0500
TZNAME:EST
DTSTART:20241103T060000
END:STANDARD
END:VTIMEZONE
BEGIN:VEVENT
DTSTART;TZID=America/New_York:20231029T120000
DTEND;TZID=America/New_York:20231029T170000
DTSTAMP:20260420T083042
CREATED:20230807T100027Z
LAST-MODIFIED:20230807T100027Z
UID:10005791-1698580800-1698598800@www.theartfairgallery.com
SUMMARY:Silver Spring Holiday Crafts and Treats
DESCRIPTION:Welcome to the Holiday Crafts & Treats at Veterans Plaza in Silver Spring\, MD!!\n\n\nWelcome to the Holiday Crafts & Treats at Veterans Plaza in Silver Spring\, MD!!  \nFrom arts & crafts vendors\, to jewelry and baths and body products\, from holiday decor to treats and desserts and much more\, start the holiday shopping season with us!!  \nJust in time for kids’ candies celebration\, join us for a delectable excursion in the world of sweets and desserts!  \nVeterans Plaza in Silver Spring\, MD will be hosting its first dessert fair this fall\, on Sunday\, October 29\, 2023 from 12pm-5pm.  \nBecause Halloween is around the corner\, we will have a KIDS’ COSTUME PARADE with BEST COSTUME prize from 3:00pm – 3:30pm. \nOther fun activities include pumpkin decorating\, story telling\, and much more. Admission is free! \n* \n* \n* \nIf interested in becoming a vendor in the event\, please register online at https://chiceventsdc.com/2023-family-events/
URL:https://www.theartfairgallery.com/event/silver-spring-holiday-crafts-and-treats-2/
LOCATION:Veterans Plaza\, 1 Veterans Plaza\, Silver Spring\, MD\, 20910\, United States
CATEGORIES:Maryland
ATTACH;FMTTYPE=image/jpeg:https://www.theartfairgallery.com/wp-content/uploads/2023/08/3cb95ab22e0bc46536734e279f6e208d.jpg
END:VEVENT
BEGIN:VEVENT
DTSTART;TZID=America/New_York:20231029T100000
DTEND;TZID=America/New_York:20231029T150000
DTSTAMP:20260420T083042
CREATED:20231018T175512Z
LAST-MODIFIED:20231018T180049Z
UID:10006501-1698573600-1698591600@www.theartfairgallery.com
SUMMARY:Myerberg Community Craft Fair 2023
DESCRIPTION:Excitement is in the air as the Myerberg gears up for the most anticipated event of the season — the upcoming Craft Fair! Mark your calendar now for Sunday\, October 29\, from 10:00 a.m. to 3:00 p.m.\, and get ready for a great time filled with creativity\, artistry and a whole lot of fun. \nDiscover a wide array of one-of-a-kind handcrafted items created by talented local artisans. From jewelry to beautifully crafted art and ceramics\, there is something for everyone. \nBy attending the craft fair\, you are not only treating yourself to unique\, handcrafted items but also supporting local artists and makers. Your purchase directly contributes to the growth and sustainability of Baltimore’s creative community. \nAdmission to this wonderful event is free\, so gather your friends and family\, and join us! Whether you’re an art enthusiast or just live in the area\, the upcoming Craft Fair promises something special for everyone.
URL:https://www.theartfairgallery.com/event/myerberg-community-craft-fair-2023/
LOCATION:3101 Fallstaff Rd\, 3101 Fallstaff Road\, Baltimore\, MD\, 21209\, United States
CATEGORIES:Maryland
ATTACH;FMTTYPE=image/jpeg:https://www.theartfairgallery.com/wp-content/uploads/2023/10/craft-fair-23-snip.jpg
END:VEVENT
BEGIN:VEVENT
DTSTART;TZID=America/New_York:20231028T100000
DTEND;TZID=America/New_York:20231028T160000
DTSTAMP:20260420T083042
CREATED:20230807T100308Z
LAST-MODIFIED:20230920T145312Z
UID:10005793-1698487200-1698508800@www.theartfairgallery.com
SUMMARY:Old Town Manassas Holiday Crafts and Treats
DESCRIPTION:Welcome to the Holiday Crafts & Treats at the Manassas Museum!!\n\n\nWelcome to the Holiday Crafts & Treats at the Manassas Museum!!  \nFrom arts & crafts vendors\, to jewelry and baths and body products\, from holiday decor to treats and desserts and much more\, start the holiday shopping season with us!!  \nChic Events DC together with the City of Manassas will be hosting its sixth crafts and desserts fair this fall\, on Saturday\, October 28th from 10am-4pm at Manassas Museum\, in Manassas\, VA. \nBecause Halloween is around the corner\, we will have a KIDS’ COSTUME PARADE with BEST COSTUME prize from 1:00pm – 1:30pm. \n* \n* \n* \nIf interested in becoming a vendor in the event\, please register online at https://chiceventsdc.com/2023-family-events/
URL:https://www.theartfairgallery.com/event/old-town-manassas-holiday-crafts-and-treats-2/
LOCATION:Manassas Museum Lawn\, 9101 Prince William Street\, Manassas\, VA\, 20110\, United States
CATEGORIES:Craft Fair,Maryland
ATTACH;FMTTYPE=image/jpeg:https://www.theartfairgallery.com/wp-content/uploads/2023/08/ae4a8acc4d43fd635cf8d36f284874c2.jpg
END:VEVENT
BEGIN:VEVENT
DTSTART;TZID=America/New_York:20231001T130000
DTEND;TZID=America/New_York:20231001T180000
DTSTAMP:20260420T083042
CREATED:20230424T083237Z
LAST-MODIFIED:20230925T132335Z
UID:10005187-1696165200-1696183200@www.theartfairgallery.com
SUMMARY:SILVER SPRING OKTOBERFEST ARTS & CRAFTS FALL FAIR
DESCRIPTION:Welcome Fall with its beautiful colors!\n\n\nFall season is already here with its beautiful crisp weather\, with the smell of hot apple cider and cinnamon in the air and most of us are already thinking about the soon approaching Thanksgiving and winter holidays!!  \nSo what better way to start the season other than celebrating it with our arts and crafts vendors\, checking out their beautiful holiday displays\, tasting the delicious cookies and enjoying a hot chocolate or hot apple cider while the kids have fun decorating the little pumpkins! \nEvent is Admission Free.  \n* \n* \n* \nIf interested in becoming a vendor in the event\, please register online at https://chiceventsdc.com/2023-arts-crafts-fair/
URL:https://www.theartfairgallery.com/event/silver-spring-oktoberfest-arts-crafts-fall-fair/
LOCATION:Veterans Plaza\, 1 Veterans Plaza\, Silver Spring\, MD\, 20910\, United States
CATEGORIES:Craft Fair,Maryland
ATTACH;FMTTYPE=image/jpeg:https://www.theartfairgallery.com/wp-content/uploads/2023/04/94be149c0128f6325cd419e7b77ebfc9.jpg
END:VEVENT
BEGIN:VEVENT
DTSTART;TZID=America/New_York:20230826T100000
DTEND;TZID=America/New_York:20230826T150000
DTSTAMP:20260420T083042
CREATED:20230807T100056Z
LAST-MODIFIED:20230807T100056Z
UID:10005792-1693044000-1693062000@www.theartfairgallery.com
SUMMARY:Lea's Crafters With A Cause Arts and Craft Fair
DESCRIPTION:Come and enjoy shopping for unique and affordable gifts from small businesses\, vendors\, and crafters.  Free Admission.  Rain or Shine Event.\n\n\nL﻿ea’s Crafters with a Cause Arts and Craft Fair will be held on Saturday\, August 26\, 2023 at the SJBC\, Fellowship Hall. The fair will include vendors\, crafters\, baked goods\, and a chance to win a themed gift basket.  Free Admission.  Hours: 10:00 -3:00pm.  Rain or Shine Event
URL:https://www.theartfairgallery.com/event/leas-crafters-with-a-cause-arts-and-craft-fair/
LOCATION:9055 Tamar Dr\, 9055 Tamar Drive\, Columbia\, MD\, 21045\, United States
CATEGORIES:Maryland
ATTACH;FMTTYPE=image/jpeg:https://www.theartfairgallery.com/wp-content/uploads/2023/08/1f9832700282d82ffd82c405d1774f84.jpg
END:VEVENT
BEGIN:VEVENT
DTSTART;TZID=America/New_York:20230813T130000
DTEND;TZID=America/New_York:20230813T190000
DTSTAMP:20260420T083042
CREATED:20230425T101129Z
LAST-MODIFIED:20230729T101057Z
UID:10005264-1691931600-1691953200@www.theartfairgallery.com
SUMMARY:Silver Spring International Food & Craft Fair
DESCRIPTION:A celebration of the the Nations! From great Food\, to Crafts and Music\, this festival is a guarantee fun for the entire family!\n\n\nA celebration of the the Nations! From great Food\, to Crafts and Music\, this festival is a guarantee fun for the entire family! \nOver 70 artisans and crafters\, independent consultants and small businesses are coming together for the day\, while our DJ will play a selection of international music for everyone’s enjoyment.  \n* \n* \n* \nIf interested in becoming a vendor in the event\, please register online at https://chiceventsdc.com/2023-cultural-fairs/
URL:https://www.theartfairgallery.com/event/silver-spring-international-food-craft-fair-3/
LOCATION:Silver Spring Veterans Plaza\, 1 Veterans Place\, Silver Spring\, MD\, 20910\, United States
CATEGORIES:Maryland
ATTACH;FMTTYPE=image/jpeg:https://www.theartfairgallery.com/wp-content/uploads/2023/04/72ea3c810447f7cfb2ebc216ef871709.jpg
END:VEVENT
BEGIN:VEVENT
DTSTART;TZID=America/New_York:20230709T130000
DTEND;TZID=America/New_York:20230709T190000
DTSTAMP:20260420T083042
CREATED:20230424T083305Z
LAST-MODIFIED:20230425T092013Z
UID:10005188-1688907600-1688929200@www.theartfairgallery.com
SUMMARY:Silver Spring Arts & Crafts Summer Fair
DESCRIPTION:Welcoming summer at Veterans Plaza with LOTS of arts and crafts\, good music\, food and entertainment.\n\n\nWelcoming summer at Veterans Plaza with LOTS of arts and crafts\, good music\, dance\, performances and many\, many more fun activities for both adults and kids alike. \nOver 80 artisans and crafters\, independent consultants and small businesses are coming together to the annual Silver Spring Arts and Crafts Summer Festival! \nRain or Shine Event. Family friendly. \n* \n* \n* \nIf interested in becoming a vendor in the event\, please register online at https://chiceventsdc.com/2023-arts-crafts-fair/
URL:https://www.theartfairgallery.com/event/silver-spring-arts-crafts-summer-fair/
LOCATION:Silver Spring Veterans Plaza\, 1 Veterans Place\, Silver Spring\, MD\, 20910\, United States
CATEGORIES:Maryland,Washington DC
ATTACH;FMTTYPE=image/jpeg:https://www.theartfairgallery.com/wp-content/uploads/2023/04/7c0e7055e28b64a611c0df94bbcbe635.jpg
END:VEVENT
BEGIN:VEVENT
DTSTART;TZID=America/New_York:20230615T180000
DTEND;TZID=America/New_York:20230615T200000
DTSTAMP:20260420T083042
CREATED:20230424T083510Z
LAST-MODIFIED:20230424T083510Z
UID:10005189-1686852000-1686859200@www.theartfairgallery.com
SUMMARY:Opening Gallery Reception for Art Around the Town
DESCRIPTION:Art Around the Town\, a group show by Artists living in Anne Arundel County.\n\n\nAnne Arundel County Group Show – Art Around the Town \nAn Exhibition by Artists living in Anne Arundel County \nReception Date: Thursday\, June 15\, 2023 from 6-8pm \nComplimentary drinks and light snacks will be served during the reception. \nAll Ages! \nFree to attend \nHal Gomer Gallery \nChesapeake Arts Center will be celebrating our community this June with an exhibition of artists living in Anne Arundel County. There are a lot of amazing creators in our area\, we just couldn’t pass up this chance to show them off! Join CAC on the evening of June 15th for an opening reception and a special chance to meet local artists.  \nYou will not want to miss this exhibit’s joint reception with the Pride Month Exhibit Reception on June 15\, we expect it to be an evening to remember! \nThis exhibition is on view in our Hal Gomer Gallery from June 7\, 2023 – July 12\, 2023.
URL:https://www.theartfairgallery.com/event/opening-gallery-reception-for-art-around-the-town/
LOCATION:Chesapeake Arts Center\, 194 Hammonds Lane\, Brooklyn Park\, MD\, 21225\, United States
CATEGORIES:Maryland
ATTACH;FMTTYPE=image/jpeg:https://www.theartfairgallery.com/wp-content/uploads/2023/04/c554a302a3a90fede1dda024c936893d.jpg
END:VEVENT
BEGIN:VEVENT
DTSTART;TZID=America/New_York:20230513T140000
DTEND;TZID=America/New_York:20230513T180000
DTSTAMP:20260420T083042
CREATED:20230425T090630Z
LAST-MODIFIED:20230425T090630Z
UID:10005191-1683986400-1684000800@www.theartfairgallery.com
SUMMARY:Spring Music & Arts Festival
DESCRIPTION:Join us in celebrating springtime for the first big Mana festival of the year!\n\n\nOur first large festival for the year! Join us on Saturday\, May 13th\, in celebrating springtime with a full field of community and a lineup of live music from local bands\, tons of local artisan vendors\, a food truck\, drinks\, and of course\, lots of interactive opportunities such as crafts and field games. Open to the public\, so bring some friends and family!  \nCheck back closer to the event for a full list of vendors.
URL:https://www.theartfairgallery.com/event/spring-music-arts-festival/
LOCATION:Mana Supply Co.\, 3005 Solomons Island Road\, Edgewater\, MD\, 21037\, United States
CATEGORIES:Maryland
ATTACH;FMTTYPE=image/jpeg:https://www.theartfairgallery.com/wp-content/uploads/2023/04/d102a84fd496ccb5f20fb32862828447.jpg
END:VEVENT
BEGIN:VEVENT
DTSTART;TZID=America/New_York:20230507T130000
DTEND;TZID=America/New_York:20230507T180000
DTSTAMP:20260420T083042
CREATED:20230424T110302Z
LAST-MODIFIED:20230424T110302Z
UID:10005190-1683464400-1683482400@www.theartfairgallery.com
SUMMARY:Silver Spring Arts & Crafts Spring Fair ~ Mother's Day Celebration
DESCRIPTION:Just in time for Mother’s Day!!!\nSpring is the season of new beginnings. Fresh buds bloom\, animals awaken and the earth seems to come\n\n\nHappy Spring and Happy Mother’s Day!! \nOver 70 artisans and crafters\, independent consultants and small businesses are coming together to the annual Silver Spring Arts and Crafts Spring Festival just in time for Mother’s Day!! \nCome support your local small businesses and find the perfect gift for moms!  \n* \n* \n* \nIf interested in becoming a vendor in the event\, please register online at https://chiceventsdc.com/2023-arts-crafts-fair/
URL:https://www.theartfairgallery.com/event/silver-spring-arts-crafts-spring-fair-mothers-day-celebration/
LOCATION:Silver Spring Veterans Plaza\, 1 Veterans Place\, Silver Spring\, MD\, 20910\, United States
CATEGORIES:Maryland
ATTACH;FMTTYPE=image/jpeg:https://www.theartfairgallery.com/wp-content/uploads/2023/04/d73721d8213aae863d721e9a5ab28345.jpg
END:VEVENT
BEGIN:VEVENT
DTSTART;TZID=America/New_York:20230429T120000
DTEND;TZID=America/New_York:20230429T180000
DTSTAMP:20260420T083042
CREATED:20221104T094352Z
LAST-MODIFIED:20221104T094352Z
UID:10004496-1682769600-1682791200@www.theartfairgallery.com
SUMMARY:The Square Weekend Bazaar
DESCRIPTION:This is an indoor weekend vendor market that will be held in an 11\,000 square foot retail space in St. Charles Town Plaza (50 to 60 vendors)
URL:https://www.theartfairgallery.com/event/the-square-weekend-bazaar-29/
LOCATION:St Charles Towne Plaza\, 1214 Smallwood Drive West\, St Charles\, MD\, 20603\, United States
CATEGORIES:Maryland
END:VEVENT
BEGIN:VEVENT
DTSTART;TZID=America/New_York:20230422T120000
DTEND;TZID=America/New_York:20230422T180000
DTSTAMP:20260420T083042
CREATED:20221104T094351Z
LAST-MODIFIED:20221104T094351Z
UID:10004495-1682164800-1682186400@www.theartfairgallery.com
SUMMARY:The Square Weekend Bazaar
DESCRIPTION:This is an indoor weekend vendor market that will be held in an 11\,000 square foot retail space in St. Charles Town Plaza (50 to 60 vendors)
URL:https://www.theartfairgallery.com/event/the-square-weekend-bazaar-28/
LOCATION:St Charles Towne Plaza\, 1214 Smallwood Drive West\, St Charles\, MD\, 20603\, United States
CATEGORIES:Maryland
END:VEVENT
END:VCALENDAR