BEGIN:VCALENDAR
VERSION:2.0
PRODID:-//The Art Fair Gallery - ECPv6.15.18//NONSGML v1.0//EN
CALSCALE:GREGORIAN
METHOD:PUBLISH
X-WR-CALNAME:The Art Fair Gallery
X-ORIGINAL-URL:https://www.theartfairgallery.com
X-WR-CALDESC:Events for The Art Fair Gallery
REFRESH-INTERVAL;VALUE=DURATION:PT1H
X-Robots-Tag:noindex
X-PUBLISHED-TTL:PT1H
BEGIN:VTIMEZONE
TZID:America/Chicago
BEGIN:DAYLIGHT
TZOFFSETFROM:-0600
TZOFFSETTO:-0500
TZNAME:CDT
DTSTART:20220313T080000
END:DAYLIGHT
BEGIN:STANDARD
TZOFFSETFROM:-0500
TZOFFSETTO:-0600
TZNAME:CST
DTSTART:20221106T070000
END:STANDARD
BEGIN:DAYLIGHT
TZOFFSETFROM:-0600
TZOFFSETTO:-0500
TZNAME:CDT
DTSTART:20230312T080000
END:DAYLIGHT
BEGIN:STANDARD
TZOFFSETFROM:-0500
TZOFFSETTO:-0600
TZNAME:CST
DTSTART:20231105T070000
END:STANDARD
BEGIN:DAYLIGHT
TZOFFSETFROM:-0600
TZOFFSETTO:-0500
TZNAME:CDT
DTSTART:20240310T080000
END:DAYLIGHT
BEGIN:STANDARD
TZOFFSETFROM:-0500
TZOFFSETTO:-0600
TZNAME:CST
DTSTART:20241103T070000
END:STANDARD
END:VTIMEZONE
BEGIN:VEVENT
DTSTART;TZID=America/Chicago:20230920T190000
DTEND;TZID=America/Chicago:20230921T000000
DTSTAMP:20260420T084157
CREATED:20230902T122201Z
LAST-MODIFIED:20230902T122201Z
UID:10005953-1695236400-1695254400@www.theartfairgallery.com
SUMMARY:Frenchmen Art Bazaar
DESCRIPTION:FREE outdoor art bazaar!
URL:https://www.theartfairgallery.com/event/frenchmen-art-bazaar-16/
LOCATION:Frenchmen Art Bazaar\, 619 Frenchmen Street\, New Orleans\, LA\, 70116\, United States
CATEGORIES:Louisiana
ATTACH;FMTTYPE=image/jpeg:https://www.theartfairgallery.com/wp-content/uploads/2023/09/34e36cb58e8d528adc43bac0f5011242.jpg
END:VEVENT
BEGIN:VEVENT
DTSTART;TZID=America/Chicago:20230918T190000
DTEND;TZID=America/Chicago:20230919T000000
DTSTAMP:20260420T084157
CREATED:20230902T122201Z
LAST-MODIFIED:20230902T122201Z
UID:10005952-1695063600-1695081600@www.theartfairgallery.com
SUMMARY:Frenchmen Art Bazaar
DESCRIPTION:FREE outdoor art bazaar!
URL:https://www.theartfairgallery.com/event/frenchmen-art-bazaar-15/
LOCATION:Frenchmen Art Bazaar\, 619 Frenchmen Street\, New Orleans\, LA\, 70116\, United States
CATEGORIES:Louisiana
ATTACH;FMTTYPE=image/jpeg:https://www.theartfairgallery.com/wp-content/uploads/2023/09/34e36cb58e8d528adc43bac0f5011242.jpg
END:VEVENT
BEGIN:VEVENT
DTSTART;TZID=America/Chicago:20230917T190000
DTEND;TZID=America/Chicago:20230918T000000
DTSTAMP:20260420T084157
CREATED:20230902T122200Z
LAST-MODIFIED:20230902T122200Z
UID:10005951-1694977200-1694995200@www.theartfairgallery.com
SUMMARY:Frenchmen Art Bazaar
DESCRIPTION:FREE outdoor art bazaar!
URL:https://www.theartfairgallery.com/event/frenchmen-art-bazaar-14/
LOCATION:Frenchmen Art Bazaar\, 619 Frenchmen Street\, New Orleans\, LA\, 70116\, United States
CATEGORIES:Louisiana
ATTACH;FMTTYPE=image/jpeg:https://www.theartfairgallery.com/wp-content/uploads/2023/09/34e36cb58e8d528adc43bac0f5011242.jpg
END:VEVENT
BEGIN:VEVENT
DTSTART;TZID=America/Chicago:20230916T190000
DTEND;TZID=America/Chicago:20230917T000000
DTSTAMP:20260420T084157
CREATED:20230902T122200Z
LAST-MODIFIED:20230902T122200Z
UID:10005950-1694890800-1694908800@www.theartfairgallery.com
SUMMARY:Frenchmen Art Bazaar
DESCRIPTION:FREE outdoor art bazaar!
URL:https://www.theartfairgallery.com/event/frenchmen-art-bazaar-13/
LOCATION:Frenchmen Art Bazaar\, 619 Frenchmen Street\, New Orleans\, LA\, 70116\, United States
CATEGORIES:Louisiana
ATTACH;FMTTYPE=image/jpeg:https://www.theartfairgallery.com/wp-content/uploads/2023/09/34e36cb58e8d528adc43bac0f5011242.jpg
END:VEVENT
BEGIN:VEVENT
DTSTART;TZID=America/Chicago:20230916T110000
DTEND;TZID=America/Chicago:20230917T200000
DTSTAMP:20260420T084157
CREATED:20230820T135309Z
LAST-MODIFIED:20230910T230344Z
UID:10005867-1694862000-1694980800@www.theartfairgallery.com
SUMMARY:The New Orleans Art Fest
DESCRIPTION:New Orleans’s Very Own Art Festival\n\n\nW﻿elcome to the Inaugural New Orleans Art Festival. Come enjoy an eclectic experience in the historic Louis Armstrong Park next fall. Over 100 different local and national artists will participate in our world class event and we hope you will join us! \nThings to do at the festival: \n\nShop\nExplore\nPaint\nE﻿at \nDance \n\nE﻿ach day our festival will feature local entertainment that will encompass every aspect of art.  \nD﻿ate: 9.16 – 9.17 \nT﻿ime: 11am to 8pm \nLocation: Louis Armstrong Park \nF﻿or more information please email us at info@nolaartfest.com
URL:https://www.theartfairgallery.com/event/the-new-orleans-art-fest/
LOCATION:Louis Armstrong Park\, 701 North Rampart Street\, New Orleans\, LA\, 70116\, United States
CATEGORIES:Craft Fair,Louisiana
ATTACH;FMTTYPE=image/jpeg:https://www.theartfairgallery.com/wp-content/uploads/2023/08/5f7fe49f2bd8dbb89bb47fee27acec50.jpg
END:VEVENT
BEGIN:VEVENT
DTSTART;TZID=America/Chicago:20230915T190000
DTEND;TZID=America/Chicago:20230916T000000
DTSTAMP:20260420T084157
CREATED:20230902T122159Z
LAST-MODIFIED:20230902T122159Z
UID:10005949-1694804400-1694822400@www.theartfairgallery.com
SUMMARY:Frenchmen Art Bazaar
DESCRIPTION:FREE outdoor art bazaar!
URL:https://www.theartfairgallery.com/event/frenchmen-art-bazaar-12/
LOCATION:Frenchmen Art Bazaar\, 619 Frenchmen Street\, New Orleans\, LA\, 70116\, United States
CATEGORIES:Louisiana
ATTACH;FMTTYPE=image/jpeg:https://www.theartfairgallery.com/wp-content/uploads/2023/09/34e36cb58e8d528adc43bac0f5011242.jpg
END:VEVENT
BEGIN:VEVENT
DTSTART;TZID=America/Chicago:20230915T190000
DTEND;TZID=America/Chicago:20230915T230000
DTSTAMP:20260420T084157
CREATED:20230902T122431Z
LAST-MODIFIED:20230902T122431Z
UID:10005989-1694804400-1694818800@www.theartfairgallery.com
SUMMARY:The Best Vendor Market in New Orleans.
DESCRIPTION:Get the coolest treats from the best vendors in New Orleans. Food\, Fun\, Music and Great Vibes.
URL:https://www.theartfairgallery.com/event/the-best-vendor-market-in-new-orleans-4/
LOCATION:New Orleans Art Bar\, 2128 Saint Claude Avenue\, New Orleans\, LA\, 70116\, United States
CATEGORIES:Louisiana
ATTACH;FMTTYPE=image/jpeg:https://www.theartfairgallery.com/wp-content/uploads/2023/08/2ca771f4bce79b6bbb31a4c96e3f0590.jpg
END:VEVENT
BEGIN:VEVENT
DTSTART;TZID=America/Chicago:20230914T190000
DTEND;TZID=America/Chicago:20230915T000000
DTSTAMP:20260420T084157
CREATED:20230902T122158Z
LAST-MODIFIED:20230902T122158Z
UID:10005948-1694718000-1694736000@www.theartfairgallery.com
SUMMARY:Frenchmen Art Bazaar
DESCRIPTION:FREE outdoor art bazaar!
URL:https://www.theartfairgallery.com/event/frenchmen-art-bazaar-11/
LOCATION:Frenchmen Art Bazaar\, 619 Frenchmen Street\, New Orleans\, LA\, 70116\, United States
CATEGORIES:Louisiana
ATTACH;FMTTYPE=image/jpeg:https://www.theartfairgallery.com/wp-content/uploads/2023/09/34e36cb58e8d528adc43bac0f5011242.jpg
END:VEVENT
BEGIN:VEVENT
DTSTART;TZID=America/Chicago:20230913T190000
DTEND;TZID=America/Chicago:20230914T000000
DTSTAMP:20260420T084157
CREATED:20230902T122158Z
LAST-MODIFIED:20230902T122158Z
UID:10005947-1694631600-1694649600@www.theartfairgallery.com
SUMMARY:Frenchmen Art Bazaar
DESCRIPTION:FREE outdoor art bazaar!
URL:https://www.theartfairgallery.com/event/frenchmen-art-bazaar-10/
LOCATION:Frenchmen Art Bazaar\, 619 Frenchmen Street\, New Orleans\, LA\, 70116\, United States
CATEGORIES:Louisiana
ATTACH;FMTTYPE=image/jpeg:https://www.theartfairgallery.com/wp-content/uploads/2023/09/34e36cb58e8d528adc43bac0f5011242.jpg
END:VEVENT
BEGIN:VEVENT
DTSTART;TZID=America/Chicago:20230911T190000
DTEND;TZID=America/Chicago:20230912T000000
DTSTAMP:20260420T084157
CREATED:20230902T122157Z
LAST-MODIFIED:20230902T122157Z
UID:10005946-1694458800-1694476800@www.theartfairgallery.com
SUMMARY:Frenchmen Art Bazaar
DESCRIPTION:FREE outdoor art bazaar!
URL:https://www.theartfairgallery.com/event/frenchmen-art-bazaar-9/
LOCATION:Frenchmen Art Bazaar\, 619 Frenchmen Street\, New Orleans\, LA\, 70116\, United States
CATEGORIES:Louisiana
ATTACH;FMTTYPE=image/jpeg:https://www.theartfairgallery.com/wp-content/uploads/2023/09/34e36cb58e8d528adc43bac0f5011242.jpg
END:VEVENT
BEGIN:VEVENT
DTSTART;TZID=America/Chicago:20230910T190000
DTEND;TZID=America/Chicago:20230911T000000
DTSTAMP:20260420T084157
CREATED:20230902T122157Z
LAST-MODIFIED:20230902T122157Z
UID:10005945-1694372400-1694390400@www.theartfairgallery.com
SUMMARY:Frenchmen Art Bazaar
DESCRIPTION:FREE outdoor art bazaar!
URL:https://www.theartfairgallery.com/event/frenchmen-art-bazaar-8/
LOCATION:Frenchmen Art Bazaar\, 619 Frenchmen Street\, New Orleans\, LA\, 70116\, United States
CATEGORIES:Louisiana
ATTACH;FMTTYPE=image/jpeg:https://www.theartfairgallery.com/wp-content/uploads/2023/09/34e36cb58e8d528adc43bac0f5011242.jpg
END:VEVENT
BEGIN:VEVENT
DTSTART;TZID=America/Chicago:20230909T190000
DTEND;TZID=America/Chicago:20230910T000000
DTSTAMP:20260420T084157
CREATED:20230902T122156Z
LAST-MODIFIED:20230902T122156Z
UID:10005944-1694286000-1694304000@www.theartfairgallery.com
SUMMARY:Frenchmen Art Bazaar
DESCRIPTION:FREE outdoor art bazaar!
URL:https://www.theartfairgallery.com/event/frenchmen-art-bazaar-7/
LOCATION:Frenchmen Art Bazaar\, 619 Frenchmen Street\, New Orleans\, LA\, 70116\, United States
CATEGORIES:Louisiana
ATTACH;FMTTYPE=image/jpeg:https://www.theartfairgallery.com/wp-content/uploads/2023/09/34e36cb58e8d528adc43bac0f5011242.jpg
END:VEVENT
BEGIN:VEVENT
DTSTART;TZID=America/Chicago:20230908T190000
DTEND;TZID=America/Chicago:20230909T000000
DTSTAMP:20260420T084157
CREATED:20230902T122155Z
LAST-MODIFIED:20230902T122155Z
UID:10005943-1694199600-1694217600@www.theartfairgallery.com
SUMMARY:Frenchmen Art Bazaar
DESCRIPTION:FREE outdoor art bazaar!
URL:https://www.theartfairgallery.com/event/frenchmen-art-bazaar-6/
LOCATION:Frenchmen Art Bazaar\, 619 Frenchmen Street\, New Orleans\, LA\, 70116\, United States
CATEGORIES:Louisiana
ATTACH;FMTTYPE=image/jpeg:https://www.theartfairgallery.com/wp-content/uploads/2023/09/34e36cb58e8d528adc43bac0f5011242.jpg
END:VEVENT
BEGIN:VEVENT
DTSTART;TZID=America/Chicago:20230908T190000
DTEND;TZID=America/Chicago:20230908T230000
DTSTAMP:20260420T084157
CREATED:20230902T122431Z
LAST-MODIFIED:20230902T122431Z
UID:10005988-1694199600-1694214000@www.theartfairgallery.com
SUMMARY:The Best Vendor Market in New Orleans.
DESCRIPTION:Get the coolest treats from the best vendors in New Orleans. Food\, Fun\, Music and Great Vibes.
URL:https://www.theartfairgallery.com/event/the-best-vendor-market-in-new-orleans-3/
LOCATION:New Orleans Art Bar\, 2128 Saint Claude Avenue\, New Orleans\, LA\, 70116\, United States
CATEGORIES:Louisiana
ATTACH;FMTTYPE=image/jpeg:https://www.theartfairgallery.com/wp-content/uploads/2023/08/2ca771f4bce79b6bbb31a4c96e3f0590.jpg
END:VEVENT
BEGIN:VEVENT
DTSTART;TZID=America/Chicago:20230908T180000
DTEND;TZID=America/Chicago:20230908T210000
DTSTAMP:20260420T084157
CREATED:20230902T123414Z
LAST-MODIFIED:20230902T123414Z
UID:10006004-1694196000-1694206800@www.theartfairgallery.com
SUMMARY:ART & STROLL
DESCRIPTION:immerse yourself in a vibrant atmosphere filled with art
URL:https://www.theartfairgallery.com/event/art-stroll/
LOCATION:NUNU Arts and Culture Collective\, 1510 Bayou Courtableau Highway\, Arnaudville\, LA\, 70512\, United States
CATEGORIES:Louisiana
ATTACH;FMTTYPE=image/jpeg:https://www.theartfairgallery.com/wp-content/uploads/2023/09/c59387efd8095e574ecd29a6ad6b8e17.jpg
END:VEVENT
BEGIN:VEVENT
DTSTART;TZID=America/Chicago:20230907T190000
DTEND;TZID=America/Chicago:20230908T000000
DTSTAMP:20260420T084157
CREATED:20230902T122155Z
LAST-MODIFIED:20230902T122155Z
UID:10005942-1694113200-1694131200@www.theartfairgallery.com
SUMMARY:Frenchmen Art Bazaar
DESCRIPTION:FREE outdoor art bazaar!
URL:https://www.theartfairgallery.com/event/frenchmen-art-bazaar-5/
LOCATION:Frenchmen Art Bazaar\, 619 Frenchmen Street\, New Orleans\, LA\, 70116\, United States
CATEGORIES:Louisiana
ATTACH;FMTTYPE=image/jpeg:https://www.theartfairgallery.com/wp-content/uploads/2023/09/34e36cb58e8d528adc43bac0f5011242.jpg
END:VEVENT
BEGIN:VEVENT
DTSTART;TZID=America/Chicago:20230906T190000
DTEND;TZID=America/Chicago:20230907T000000
DTSTAMP:20260420T084157
CREATED:20230902T122154Z
LAST-MODIFIED:20230902T122154Z
UID:10005941-1694026800-1694044800@www.theartfairgallery.com
SUMMARY:Frenchmen Art Bazaar
DESCRIPTION:FREE outdoor art bazaar!
URL:https://www.theartfairgallery.com/event/frenchmen-art-bazaar-4/
LOCATION:Frenchmen Art Bazaar\, 619 Frenchmen Street\, New Orleans\, LA\, 70116\, United States
CATEGORIES:Louisiana
ATTACH;FMTTYPE=image/jpeg:https://www.theartfairgallery.com/wp-content/uploads/2023/09/34e36cb58e8d528adc43bac0f5011242.jpg
END:VEVENT
BEGIN:VEVENT
DTSTART;TZID=America/Chicago:20230904T190000
DTEND;TZID=America/Chicago:20230905T000000
DTSTAMP:20260420T084157
CREATED:20230902T122154Z
LAST-MODIFIED:20230902T122154Z
UID:10005940-1693854000-1693872000@www.theartfairgallery.com
SUMMARY:Frenchmen Art Bazaar
DESCRIPTION:FREE outdoor art bazaar!
URL:https://www.theartfairgallery.com/event/frenchmen-art-bazaar-3/
LOCATION:Frenchmen Art Bazaar\, 619 Frenchmen Street\, New Orleans\, LA\, 70116\, United States
CATEGORIES:Louisiana
ATTACH;FMTTYPE=image/jpeg:https://www.theartfairgallery.com/wp-content/uploads/2023/09/34e36cb58e8d528adc43bac0f5011242.jpg
END:VEVENT
BEGIN:VEVENT
DTSTART;TZID=America/Chicago:20230903T190000
DTEND;TZID=America/Chicago:20230904T000000
DTSTAMP:20260420T084157
CREATED:20230902T122153Z
LAST-MODIFIED:20230902T122153Z
UID:10005939-1693767600-1693785600@www.theartfairgallery.com
SUMMARY:Frenchmen Art Bazaar
DESCRIPTION:FREE outdoor art bazaar!
URL:https://www.theartfairgallery.com/event/frenchmen-art-bazaar-2/
LOCATION:Frenchmen Art Bazaar\, 619 Frenchmen Street\, New Orleans\, LA\, 70116\, United States
CATEGORIES:Louisiana
ATTACH;FMTTYPE=image/jpeg:https://www.theartfairgallery.com/wp-content/uploads/2023/09/34e36cb58e8d528adc43bac0f5011242.jpg
END:VEVENT
BEGIN:VEVENT
DTSTART;TZID=America/Chicago:20230902T190000
DTEND;TZID=America/Chicago:20230903T000000
DTSTAMP:20260420T084157
CREATED:20230902T122149Z
LAST-MODIFIED:20230902T122149Z
UID:10005938-1693681200-1693699200@www.theartfairgallery.com
SUMMARY:Frenchmen Art Bazaar
DESCRIPTION:FREE outdoor art bazaar!
URL:https://www.theartfairgallery.com/event/frenchmen-art-bazaar/
LOCATION:Frenchmen Art Bazaar\, 619 Frenchmen Street\, New Orleans\, LA\, 70116\, United States
CATEGORIES:Louisiana
ATTACH;FMTTYPE=image/jpeg:https://www.theartfairgallery.com/wp-content/uploads/2023/09/34e36cb58e8d528adc43bac0f5011242.jpg
END:VEVENT
END:VCALENDAR