BEGIN:VCALENDAR
VERSION:2.0
PRODID:-//The Art Fair Gallery - ECPv6.15.18//NONSGML v1.0//EN
CALSCALE:GREGORIAN
METHOD:PUBLISH
X-WR-CALNAME:The Art Fair Gallery
X-ORIGINAL-URL:https://www.theartfairgallery.com
X-WR-CALDESC:Events for The Art Fair Gallery
REFRESH-INTERVAL;VALUE=DURATION:PT1H
X-Robots-Tag:noindex
X-PUBLISHED-TTL:PT1H
BEGIN:VTIMEZONE
TZID:America/Chicago
BEGIN:DAYLIGHT
TZOFFSETFROM:-0600
TZOFFSETTO:-0500
TZNAME:CDT
DTSTART:20220313T080000
END:DAYLIGHT
BEGIN:STANDARD
TZOFFSETFROM:-0500
TZOFFSETTO:-0600
TZNAME:CST
DTSTART:20221106T070000
END:STANDARD
BEGIN:DAYLIGHT
TZOFFSETFROM:-0600
TZOFFSETTO:-0500
TZNAME:CDT
DTSTART:20230312T080000
END:DAYLIGHT
BEGIN:STANDARD
TZOFFSETFROM:-0500
TZOFFSETTO:-0600
TZNAME:CST
DTSTART:20231105T070000
END:STANDARD
BEGIN:DAYLIGHT
TZOFFSETFROM:-0600
TZOFFSETTO:-0500
TZNAME:CDT
DTSTART:20240310T080000
END:DAYLIGHT
BEGIN:STANDARD
TZOFFSETFROM:-0500
TZOFFSETTO:-0600
TZNAME:CST
DTSTART:20241103T070000
END:STANDARD
END:VTIMEZONE
BEGIN:VEVENT
DTSTART;TZID=America/Chicago:20231013T190000
DTEND;TZID=America/Chicago:20231014T000000
DTSTAMP:20260420T104445
CREATED:20230902T122217Z
LAST-MODIFIED:20230902T122217Z
UID:10005973-1697223600-1697241600@www.theartfairgallery.com
SUMMARY:Frenchmen Art Bazaar
DESCRIPTION:FREE outdoor art bazaar!
URL:https://www.theartfairgallery.com/event/frenchmen-art-bazaar-36/
LOCATION:Frenchmen Art Bazaar\, 619 Frenchmen Street\, New Orleans\, LA\, 70116\, United States
CATEGORIES:Louisiana
ATTACH;FMTTYPE=image/jpeg:https://www.theartfairgallery.com/wp-content/uploads/2023/09/34e36cb58e8d528adc43bac0f5011242.jpg
END:VEVENT
BEGIN:VEVENT
DTSTART;TZID=America/Chicago:20231013T190000
DTEND;TZID=America/Chicago:20231013T230000
DTSTAMP:20260420T104445
CREATED:20230902T122435Z
LAST-MODIFIED:20230902T122435Z
UID:10005993-1697223600-1697238000@www.theartfairgallery.com
SUMMARY:The Best Vendor Market in New Orleans.
DESCRIPTION:Get the coolest treats from the best vendors in New Orleans. Food\, Fun\, Music and Great Vibes.
URL:https://www.theartfairgallery.com/event/the-best-vendor-market-in-new-orleans-8/
LOCATION:New Orleans Art Bar\, 2128 Saint Claude Avenue\, New Orleans\, LA\, 70116\, United States
CATEGORIES:Louisiana
ATTACH;FMTTYPE=image/jpeg:https://www.theartfairgallery.com/wp-content/uploads/2023/08/2ca771f4bce79b6bbb31a4c96e3f0590.jpg
END:VEVENT
BEGIN:VEVENT
DTSTART;TZID=America/Chicago:20231012T190000
DTEND;TZID=America/Chicago:20231013T000000
DTSTAMP:20260420T104446
CREATED:20230902T122216Z
LAST-MODIFIED:20230902T122216Z
UID:10005972-1697137200-1697155200@www.theartfairgallery.com
SUMMARY:Frenchmen Art Bazaar
DESCRIPTION:FREE outdoor art bazaar!
URL:https://www.theartfairgallery.com/event/frenchmen-art-bazaar-35/
LOCATION:Frenchmen Art Bazaar\, 619 Frenchmen Street\, New Orleans\, LA\, 70116\, United States
CATEGORIES:Louisiana
ATTACH;FMTTYPE=image/jpeg:https://www.theartfairgallery.com/wp-content/uploads/2023/09/34e36cb58e8d528adc43bac0f5011242.jpg
END:VEVENT
BEGIN:VEVENT
DTSTART;TZID=America/Chicago:20231011T190000
DTEND;TZID=America/Chicago:20231012T000000
DTSTAMP:20260420T104446
CREATED:20230902T122216Z
LAST-MODIFIED:20230902T122216Z
UID:10005971-1697050800-1697068800@www.theartfairgallery.com
SUMMARY:Frenchmen Art Bazaar
DESCRIPTION:FREE outdoor art bazaar!
URL:https://www.theartfairgallery.com/event/frenchmen-art-bazaar-34/
LOCATION:Frenchmen Art Bazaar\, 619 Frenchmen Street\, New Orleans\, LA\, 70116\, United States
CATEGORIES:Louisiana
ATTACH;FMTTYPE=image/jpeg:https://www.theartfairgallery.com/wp-content/uploads/2023/09/34e36cb58e8d528adc43bac0f5011242.jpg
END:VEVENT
BEGIN:VEVENT
DTSTART;TZID=America/Chicago:20231009T190000
DTEND;TZID=America/Chicago:20231010T000000
DTSTAMP:20260420T104446
CREATED:20230902T122215Z
LAST-MODIFIED:20230902T122215Z
UID:10005970-1696878000-1696896000@www.theartfairgallery.com
SUMMARY:Frenchmen Art Bazaar
DESCRIPTION:FREE outdoor art bazaar!
URL:https://www.theartfairgallery.com/event/frenchmen-art-bazaar-33/
LOCATION:Frenchmen Art Bazaar\, 619 Frenchmen Street\, New Orleans\, LA\, 70116\, United States
CATEGORIES:Louisiana
ATTACH;FMTTYPE=image/jpeg:https://www.theartfairgallery.com/wp-content/uploads/2023/09/34e36cb58e8d528adc43bac0f5011242.jpg
END:VEVENT
BEGIN:VEVENT
DTSTART;TZID=America/Chicago:20231008T190000
DTEND;TZID=America/Chicago:20231009T000000
DTSTAMP:20260420T104446
CREATED:20230902T122214Z
LAST-MODIFIED:20230902T122214Z
UID:10005969-1696791600-1696809600@www.theartfairgallery.com
SUMMARY:Frenchmen Art Bazaar
DESCRIPTION:FREE outdoor art bazaar!
URL:https://www.theartfairgallery.com/event/frenchmen-art-bazaar-32/
LOCATION:Frenchmen Art Bazaar\, 619 Frenchmen Street\, New Orleans\, LA\, 70116\, United States
CATEGORIES:Louisiana
ATTACH;FMTTYPE=image/jpeg:https://www.theartfairgallery.com/wp-content/uploads/2023/09/34e36cb58e8d528adc43bac0f5011242.jpg
END:VEVENT
BEGIN:VEVENT
DTSTART;TZID=America/Chicago:20231007T190000
DTEND;TZID=America/Chicago:20231008T000000
DTSTAMP:20260420T104446
CREATED:20230902T122214Z
LAST-MODIFIED:20230902T122214Z
UID:10005968-1696705200-1696723200@www.theartfairgallery.com
SUMMARY:Frenchmen Art Bazaar
DESCRIPTION:FREE outdoor art bazaar!
URL:https://www.theartfairgallery.com/event/frenchmen-art-bazaar-31/
LOCATION:Frenchmen Art Bazaar\, 619 Frenchmen Street\, New Orleans\, LA\, 70116\, United States
CATEGORIES:Louisiana
ATTACH;FMTTYPE=image/jpeg:https://www.theartfairgallery.com/wp-content/uploads/2023/09/34e36cb58e8d528adc43bac0f5011242.jpg
END:VEVENT
BEGIN:VEVENT
DTSTART;TZID=America/Chicago:20231006T190000
DTEND;TZID=America/Chicago:20231007T000000
DTSTAMP:20260420T104446
CREATED:20230902T122213Z
LAST-MODIFIED:20230902T122213Z
UID:10005967-1696618800-1696636800@www.theartfairgallery.com
SUMMARY:Frenchmen Art Bazaar
DESCRIPTION:FREE outdoor art bazaar!
URL:https://www.theartfairgallery.com/event/frenchmen-art-bazaar-30/
LOCATION:Frenchmen Art Bazaar\, 619 Frenchmen Street\, New Orleans\, LA\, 70116\, United States
CATEGORIES:Louisiana
ATTACH;FMTTYPE=image/jpeg:https://www.theartfairgallery.com/wp-content/uploads/2023/09/34e36cb58e8d528adc43bac0f5011242.jpg
END:VEVENT
BEGIN:VEVENT
DTSTART;TZID=America/Chicago:20231006T190000
DTEND;TZID=America/Chicago:20231006T230000
DTSTAMP:20260420T104446
CREATED:20230902T122434Z
LAST-MODIFIED:20230902T122434Z
UID:10005992-1696618800-1696633200@www.theartfairgallery.com
SUMMARY:The Best Vendor Market in New Orleans.
DESCRIPTION:Get the coolest treats from the best vendors in New Orleans. Food\, Fun\, Music and Great Vibes.
URL:https://www.theartfairgallery.com/event/the-best-vendor-market-in-new-orleans-7/
LOCATION:New Orleans Art Bar\, 2128 Saint Claude Avenue\, New Orleans\, LA\, 70116\, United States
CATEGORIES:Louisiana
ATTACH;FMTTYPE=image/jpeg:https://www.theartfairgallery.com/wp-content/uploads/2023/08/2ca771f4bce79b6bbb31a4c96e3f0590.jpg
END:VEVENT
BEGIN:VEVENT
DTSTART;TZID=America/Chicago:20231005T190000
DTEND;TZID=America/Chicago:20231006T000000
DTSTAMP:20260420T104446
CREATED:20230902T122212Z
LAST-MODIFIED:20230902T122212Z
UID:10005966-1696532400-1696550400@www.theartfairgallery.com
SUMMARY:Frenchmen Art Bazaar
DESCRIPTION:FREE outdoor art bazaar!
URL:https://www.theartfairgallery.com/event/frenchmen-art-bazaar-29/
LOCATION:Frenchmen Art Bazaar\, 619 Frenchmen Street\, New Orleans\, LA\, 70116\, United States
CATEGORIES:Louisiana
ATTACH;FMTTYPE=image/jpeg:https://www.theartfairgallery.com/wp-content/uploads/2023/09/34e36cb58e8d528adc43bac0f5011242.jpg
END:VEVENT
BEGIN:VEVENT
DTSTART;TZID=America/Chicago:20231004T190000
DTEND;TZID=America/Chicago:20231005T000000
DTSTAMP:20260420T104446
CREATED:20230902T122212Z
LAST-MODIFIED:20230902T122212Z
UID:10005965-1696446000-1696464000@www.theartfairgallery.com
SUMMARY:Frenchmen Art Bazaar
DESCRIPTION:FREE outdoor art bazaar!
URL:https://www.theartfairgallery.com/event/frenchmen-art-bazaar-28/
LOCATION:Frenchmen Art Bazaar\, 619 Frenchmen Street\, New Orleans\, LA\, 70116\, United States
CATEGORIES:Louisiana
ATTACH;FMTTYPE=image/jpeg:https://www.theartfairgallery.com/wp-content/uploads/2023/09/34e36cb58e8d528adc43bac0f5011242.jpg
END:VEVENT
BEGIN:VEVENT
DTSTART;TZID=America/Chicago:20231002T190000
DTEND;TZID=America/Chicago:20231003T000000
DTSTAMP:20260420T104446
CREATED:20230902T122211Z
LAST-MODIFIED:20230902T122211Z
UID:10005964-1696273200-1696291200@www.theartfairgallery.com
SUMMARY:Frenchmen Art Bazaar
DESCRIPTION:FREE outdoor art bazaar!
URL:https://www.theartfairgallery.com/event/frenchmen-art-bazaar-27/
LOCATION:Frenchmen Art Bazaar\, 619 Frenchmen Street\, New Orleans\, LA\, 70116\, United States
CATEGORIES:Louisiana
ATTACH;FMTTYPE=image/jpeg:https://www.theartfairgallery.com/wp-content/uploads/2023/09/34e36cb58e8d528adc43bac0f5011242.jpg
END:VEVENT
BEGIN:VEVENT
DTSTART;TZID=America/Chicago:20231001T190000
DTEND;TZID=America/Chicago:20231002T000000
DTSTAMP:20260420T104446
CREATED:20230902T122208Z
LAST-MODIFIED:20230902T122208Z
UID:10005963-1696186800-1696204800@www.theartfairgallery.com
SUMMARY:Frenchmen Art Bazaar
DESCRIPTION:FREE outdoor art bazaar!
URL:https://www.theartfairgallery.com/event/frenchmen-art-bazaar-26/
LOCATION:Frenchmen Art Bazaar\, 619 Frenchmen Street\, New Orleans\, LA\, 70116\, United States
CATEGORIES:Louisiana
ATTACH;FMTTYPE=image/jpeg:https://www.theartfairgallery.com/wp-content/uploads/2023/09/34e36cb58e8d528adc43bac0f5011242.jpg
END:VEVENT
BEGIN:VEVENT
DTSTART;TZID=America/Chicago:20230930T190000
DTEND;TZID=America/Chicago:20231001T000000
DTSTAMP:20260420T104446
CREATED:20230902T122207Z
LAST-MODIFIED:20230902T122207Z
UID:10005962-1696100400-1696118400@www.theartfairgallery.com
SUMMARY:Frenchmen Art Bazaar
DESCRIPTION:FREE outdoor art bazaar!
URL:https://www.theartfairgallery.com/event/frenchmen-art-bazaar-25/
LOCATION:Frenchmen Art Bazaar\, 619 Frenchmen Street\, New Orleans\, LA\, 70116\, United States
CATEGORIES:Louisiana
ATTACH;FMTTYPE=image/jpeg:https://www.theartfairgallery.com/wp-content/uploads/2023/09/34e36cb58e8d528adc43bac0f5011242.jpg
END:VEVENT
BEGIN:VEVENT
DTSTART;TZID=America/Chicago:20230929T190000
DTEND;TZID=America/Chicago:20230930T000000
DTSTAMP:20260420T104446
CREATED:20230902T122206Z
LAST-MODIFIED:20230902T122206Z
UID:10005961-1696014000-1696032000@www.theartfairgallery.com
SUMMARY:Frenchmen Art Bazaar
DESCRIPTION:FREE outdoor art bazaar!
URL:https://www.theartfairgallery.com/event/frenchmen-art-bazaar-24/
LOCATION:Frenchmen Art Bazaar\, 619 Frenchmen Street\, New Orleans\, LA\, 70116\, United States
CATEGORIES:Louisiana
ATTACH;FMTTYPE=image/jpeg:https://www.theartfairgallery.com/wp-content/uploads/2023/09/34e36cb58e8d528adc43bac0f5011242.jpg
END:VEVENT
BEGIN:VEVENT
DTSTART;TZID=America/Chicago:20230929T190000
DTEND;TZID=America/Chicago:20230929T230000
DTSTAMP:20260420T104446
CREATED:20230902T122434Z
LAST-MODIFIED:20230902T122434Z
UID:10005991-1696014000-1696028400@www.theartfairgallery.com
SUMMARY:The Best Vendor Market in New Orleans.
DESCRIPTION:Get the coolest treats from the best vendors in New Orleans. Food\, Fun\, Music and Great Vibes.
URL:https://www.theartfairgallery.com/event/the-best-vendor-market-in-new-orleans-6/
LOCATION:New Orleans Art Bar\, 2128 Saint Claude Avenue\, New Orleans\, LA\, 70116\, United States
CATEGORIES:Louisiana
ATTACH;FMTTYPE=image/jpeg:https://www.theartfairgallery.com/wp-content/uploads/2023/08/2ca771f4bce79b6bbb31a4c96e3f0590.jpg
END:VEVENT
BEGIN:VEVENT
DTSTART;TZID=America/Chicago:20230928T190000
DTEND;TZID=America/Chicago:20230929T000000
DTSTAMP:20260420T104446
CREATED:20230902T122206Z
LAST-MODIFIED:20230902T122206Z
UID:10005960-1695927600-1695945600@www.theartfairgallery.com
SUMMARY:Frenchmen Art Bazaar
DESCRIPTION:FREE outdoor art bazaar!
URL:https://www.theartfairgallery.com/event/frenchmen-art-bazaar-23/
LOCATION:Frenchmen Art Bazaar\, 619 Frenchmen Street\, New Orleans\, LA\, 70116\, United States
CATEGORIES:Louisiana
ATTACH;FMTTYPE=image/jpeg:https://www.theartfairgallery.com/wp-content/uploads/2023/09/34e36cb58e8d528adc43bac0f5011242.jpg
END:VEVENT
BEGIN:VEVENT
DTSTART;TZID=America/Chicago:20230927T190000
DTEND;TZID=America/Chicago:20230928T000000
DTSTAMP:20260420T104446
CREATED:20230902T122205Z
LAST-MODIFIED:20230902T122205Z
UID:10005959-1695841200-1695859200@www.theartfairgallery.com
SUMMARY:Frenchmen Art Bazaar
DESCRIPTION:FREE outdoor art bazaar!
URL:https://www.theartfairgallery.com/event/frenchmen-art-bazaar-22/
LOCATION:Frenchmen Art Bazaar\, 619 Frenchmen Street\, New Orleans\, LA\, 70116\, United States
CATEGORIES:Louisiana
ATTACH;FMTTYPE=image/jpeg:https://www.theartfairgallery.com/wp-content/uploads/2023/09/34e36cb58e8d528adc43bac0f5011242.jpg
END:VEVENT
BEGIN:VEVENT
DTSTART;TZID=America/Chicago:20230925T190000
DTEND;TZID=America/Chicago:20230926T000000
DTSTAMP:20260420T104446
CREATED:20230902T122204Z
LAST-MODIFIED:20230902T122204Z
UID:10005958-1695668400-1695686400@www.theartfairgallery.com
SUMMARY:Frenchmen Art Bazaar
DESCRIPTION:FREE outdoor art bazaar!
URL:https://www.theartfairgallery.com/event/frenchmen-art-bazaar-21/
LOCATION:Frenchmen Art Bazaar\, 619 Frenchmen Street\, New Orleans\, LA\, 70116\, United States
CATEGORIES:Louisiana
ATTACH;FMTTYPE=image/jpeg:https://www.theartfairgallery.com/wp-content/uploads/2023/09/34e36cb58e8d528adc43bac0f5011242.jpg
END:VEVENT
BEGIN:VEVENT
DTSTART;TZID=America/Chicago:20230924T190000
DTEND;TZID=America/Chicago:20230925T000000
DTSTAMP:20260420T104446
CREATED:20230902T122204Z
LAST-MODIFIED:20230902T122204Z
UID:10005957-1695582000-1695600000@www.theartfairgallery.com
SUMMARY:Frenchmen Art Bazaar
DESCRIPTION:FREE outdoor art bazaar!
URL:https://www.theartfairgallery.com/event/frenchmen-art-bazaar-20/
LOCATION:Frenchmen Art Bazaar\, 619 Frenchmen Street\, New Orleans\, LA\, 70116\, United States
CATEGORIES:Louisiana
ATTACH;FMTTYPE=image/jpeg:https://www.theartfairgallery.com/wp-content/uploads/2023/09/34e36cb58e8d528adc43bac0f5011242.jpg
END:VEVENT
BEGIN:VEVENT
DTSTART;TZID=America/Chicago:20230923T190000
DTEND;TZID=America/Chicago:20230924T000000
DTSTAMP:20260420T104446
CREATED:20230902T122203Z
LAST-MODIFIED:20230902T122203Z
UID:10005956-1695495600-1695513600@www.theartfairgallery.com
SUMMARY:Frenchmen Art Bazaar
DESCRIPTION:FREE outdoor art bazaar!
URL:https://www.theartfairgallery.com/event/frenchmen-art-bazaar-19/
LOCATION:Frenchmen Art Bazaar\, 619 Frenchmen Street\, New Orleans\, LA\, 70116\, United States
CATEGORIES:Louisiana
ATTACH;FMTTYPE=image/jpeg:https://www.theartfairgallery.com/wp-content/uploads/2023/09/34e36cb58e8d528adc43bac0f5011242.jpg
END:VEVENT
BEGIN:VEVENT
DTSTART;TZID=America/Chicago:20230922T190000
DTEND;TZID=America/Chicago:20230923T000000
DTSTAMP:20260420T104446
CREATED:20230902T122202Z
LAST-MODIFIED:20230902T122202Z
UID:10005955-1695409200-1695427200@www.theartfairgallery.com
SUMMARY:Frenchmen Art Bazaar
DESCRIPTION:FREE outdoor art bazaar!
URL:https://www.theartfairgallery.com/event/frenchmen-art-bazaar-18/
LOCATION:Frenchmen Art Bazaar\, 619 Frenchmen Street\, New Orleans\, LA\, 70116\, United States
CATEGORIES:Louisiana
ATTACH;FMTTYPE=image/jpeg:https://www.theartfairgallery.com/wp-content/uploads/2023/09/34e36cb58e8d528adc43bac0f5011242.jpg
END:VEVENT
BEGIN:VEVENT
DTSTART;TZID=America/Chicago:20230922T190000
DTEND;TZID=America/Chicago:20230922T230000
DTSTAMP:20260420T104446
CREATED:20230902T122433Z
LAST-MODIFIED:20230902T122433Z
UID:10005990-1695409200-1695423600@www.theartfairgallery.com
SUMMARY:The Best Vendor Market in New Orleans.
DESCRIPTION:Get the coolest treats from the best vendors in New Orleans. Food\, Fun\, Music and Great Vibes.
URL:https://www.theartfairgallery.com/event/the-best-vendor-market-in-new-orleans-5/
LOCATION:New Orleans Art Bar\, 2128 Saint Claude Avenue\, New Orleans\, LA\, 70116\, United States
CATEGORIES:Louisiana
ATTACH;FMTTYPE=image/jpeg:https://www.theartfairgallery.com/wp-content/uploads/2023/08/2ca771f4bce79b6bbb31a4c96e3f0590.jpg
END:VEVENT
BEGIN:VEVENT
DTSTART;TZID=America/Chicago:20230921T190000
DTEND;TZID=America/Chicago:20230922T000000
DTSTAMP:20260420T104446
CREATED:20230902T122202Z
LAST-MODIFIED:20230902T122202Z
UID:10005954-1695322800-1695340800@www.theartfairgallery.com
SUMMARY:Frenchmen Art Bazaar
DESCRIPTION:FREE outdoor art bazaar!
URL:https://www.theartfairgallery.com/event/frenchmen-art-bazaar-17/
LOCATION:Frenchmen Art Bazaar\, 619 Frenchmen Street\, New Orleans\, LA\, 70116\, United States
CATEGORIES:Louisiana
ATTACH;FMTTYPE=image/jpeg:https://www.theartfairgallery.com/wp-content/uploads/2023/09/34e36cb58e8d528adc43bac0f5011242.jpg
END:VEVENT
BEGIN:VEVENT
DTSTART;TZID=America/Chicago:20230920T190000
DTEND;TZID=America/Chicago:20230921T000000
DTSTAMP:20260420T104446
CREATED:20230902T122201Z
LAST-MODIFIED:20230902T122201Z
UID:10005953-1695236400-1695254400@www.theartfairgallery.com
SUMMARY:Frenchmen Art Bazaar
DESCRIPTION:FREE outdoor art bazaar!
URL:https://www.theartfairgallery.com/event/frenchmen-art-bazaar-16/
LOCATION:Frenchmen Art Bazaar\, 619 Frenchmen Street\, New Orleans\, LA\, 70116\, United States
CATEGORIES:Louisiana
ATTACH;FMTTYPE=image/jpeg:https://www.theartfairgallery.com/wp-content/uploads/2023/09/34e36cb58e8d528adc43bac0f5011242.jpg
END:VEVENT
BEGIN:VEVENT
DTSTART;TZID=America/Chicago:20230918T190000
DTEND;TZID=America/Chicago:20230919T000000
DTSTAMP:20260420T104446
CREATED:20230902T122201Z
LAST-MODIFIED:20230902T122201Z
UID:10005952-1695063600-1695081600@www.theartfairgallery.com
SUMMARY:Frenchmen Art Bazaar
DESCRIPTION:FREE outdoor art bazaar!
URL:https://www.theartfairgallery.com/event/frenchmen-art-bazaar-15/
LOCATION:Frenchmen Art Bazaar\, 619 Frenchmen Street\, New Orleans\, LA\, 70116\, United States
CATEGORIES:Louisiana
ATTACH;FMTTYPE=image/jpeg:https://www.theartfairgallery.com/wp-content/uploads/2023/09/34e36cb58e8d528adc43bac0f5011242.jpg
END:VEVENT
BEGIN:VEVENT
DTSTART;TZID=America/Chicago:20230917T190000
DTEND;TZID=America/Chicago:20230918T000000
DTSTAMP:20260420T104446
CREATED:20230902T122200Z
LAST-MODIFIED:20230902T122200Z
UID:10005951-1694977200-1694995200@www.theartfairgallery.com
SUMMARY:Frenchmen Art Bazaar
DESCRIPTION:FREE outdoor art bazaar!
URL:https://www.theartfairgallery.com/event/frenchmen-art-bazaar-14/
LOCATION:Frenchmen Art Bazaar\, 619 Frenchmen Street\, New Orleans\, LA\, 70116\, United States
CATEGORIES:Louisiana
ATTACH;FMTTYPE=image/jpeg:https://www.theartfairgallery.com/wp-content/uploads/2023/09/34e36cb58e8d528adc43bac0f5011242.jpg
END:VEVENT
BEGIN:VEVENT
DTSTART;TZID=America/Chicago:20230916T190000
DTEND;TZID=America/Chicago:20230917T000000
DTSTAMP:20260420T104446
CREATED:20230902T122200Z
LAST-MODIFIED:20230902T122200Z
UID:10005950-1694890800-1694908800@www.theartfairgallery.com
SUMMARY:Frenchmen Art Bazaar
DESCRIPTION:FREE outdoor art bazaar!
URL:https://www.theartfairgallery.com/event/frenchmen-art-bazaar-13/
LOCATION:Frenchmen Art Bazaar\, 619 Frenchmen Street\, New Orleans\, LA\, 70116\, United States
CATEGORIES:Louisiana
ATTACH;FMTTYPE=image/jpeg:https://www.theartfairgallery.com/wp-content/uploads/2023/09/34e36cb58e8d528adc43bac0f5011242.jpg
END:VEVENT
BEGIN:VEVENT
DTSTART;TZID=America/Chicago:20230916T110000
DTEND;TZID=America/Chicago:20230917T200000
DTSTAMP:20260420T104446
CREATED:20230820T135309Z
LAST-MODIFIED:20230910T230344Z
UID:10005867-1694862000-1694980800@www.theartfairgallery.com
SUMMARY:The New Orleans Art Fest
DESCRIPTION:New Orleans’s Very Own Art Festival\n\n\nW﻿elcome to the Inaugural New Orleans Art Festival. Come enjoy an eclectic experience in the historic Louis Armstrong Park next fall. Over 100 different local and national artists will participate in our world class event and we hope you will join us! \nThings to do at the festival: \n\nShop\nExplore\nPaint\nE﻿at \nDance \n\nE﻿ach day our festival will feature local entertainment that will encompass every aspect of art.  \nD﻿ate: 9.16 – 9.17 \nT﻿ime: 11am to 8pm \nLocation: Louis Armstrong Park \nF﻿or more information please email us at info@nolaartfest.com
URL:https://www.theartfairgallery.com/event/the-new-orleans-art-fest/
LOCATION:Louis Armstrong Park\, 701 North Rampart Street\, New Orleans\, LA\, 70116\, United States
CATEGORIES:Craft Fair,Louisiana
ATTACH;FMTTYPE=image/jpeg:https://www.theartfairgallery.com/wp-content/uploads/2023/08/5f7fe49f2bd8dbb89bb47fee27acec50.jpg
END:VEVENT
BEGIN:VEVENT
DTSTART;TZID=America/Chicago:20230915T190000
DTEND;TZID=America/Chicago:20230916T000000
DTSTAMP:20260420T104446
CREATED:20230902T122159Z
LAST-MODIFIED:20230902T122159Z
UID:10005949-1694804400-1694822400@www.theartfairgallery.com
SUMMARY:Frenchmen Art Bazaar
DESCRIPTION:FREE outdoor art bazaar!
URL:https://www.theartfairgallery.com/event/frenchmen-art-bazaar-12/
LOCATION:Frenchmen Art Bazaar\, 619 Frenchmen Street\, New Orleans\, LA\, 70116\, United States
CATEGORIES:Louisiana
ATTACH;FMTTYPE=image/jpeg:https://www.theartfairgallery.com/wp-content/uploads/2023/09/34e36cb58e8d528adc43bac0f5011242.jpg
END:VEVENT
END:VCALENDAR