BEGIN:VCALENDAR
VERSION:2.0
PRODID:-//The Art Fair Gallery - ECPv6.15.18//NONSGML v1.0//EN
CALSCALE:GREGORIAN
METHOD:PUBLISH
X-WR-CALNAME:The Art Fair Gallery
X-ORIGINAL-URL:https://www.theartfairgallery.com
X-WR-CALDESC:Events for The Art Fair Gallery
REFRESH-INTERVAL;VALUE=DURATION:PT1H
X-Robots-Tag:noindex
X-PUBLISHED-TTL:PT1H
BEGIN:VTIMEZONE
TZID:America/Chicago
BEGIN:DAYLIGHT
TZOFFSETFROM:-0600
TZOFFSETTO:-0500
TZNAME:CDT
DTSTART:20220313T080000
END:DAYLIGHT
BEGIN:STANDARD
TZOFFSETFROM:-0500
TZOFFSETTO:-0600
TZNAME:CST
DTSTART:20221106T070000
END:STANDARD
BEGIN:DAYLIGHT
TZOFFSETFROM:-0600
TZOFFSETTO:-0500
TZNAME:CDT
DTSTART:20230312T080000
END:DAYLIGHT
BEGIN:STANDARD
TZOFFSETFROM:-0500
TZOFFSETTO:-0600
TZNAME:CST
DTSTART:20231105T070000
END:STANDARD
BEGIN:DAYLIGHT
TZOFFSETFROM:-0600
TZOFFSETTO:-0500
TZNAME:CDT
DTSTART:20240310T080000
END:DAYLIGHT
BEGIN:STANDARD
TZOFFSETFROM:-0500
TZOFFSETTO:-0600
TZNAME:CST
DTSTART:20241103T070000
END:STANDARD
BEGIN:DAYLIGHT
TZOFFSETFROM:-0600
TZOFFSETTO:-0500
TZNAME:CDT
DTSTART:20250309T080000
END:DAYLIGHT
BEGIN:STANDARD
TZOFFSETFROM:-0500
TZOFFSETTO:-0600
TZNAME:CST
DTSTART:20251102T070000
END:STANDARD
END:VTIMEZONE
BEGIN:VEVENT
DTSTART;TZID=America/Chicago:20240113T120000
DTEND;TZID=America/Chicago:20240113T160000
DTSTAMP:20260422T062109
CREATED:20231108T134046Z
LAST-MODIFIED:20231108T134046Z
UID:10006599-1705147200-1705161600@www.theartfairgallery.com
SUMMARY:Handmade Market
DESCRIPTION:Handmade Market:\na unique event to connect the makers of beautiful things to people who appreciate the unique and handmade.
URL:https://www.theartfairgallery.com/event/handmade-market-4/
LOCATION:The Empty Bottle\, North Western Avenue\, Chicago\, IL\, USA\, 1035 North Western Avenue\, Chicago\, IL\, 60622\, United States
CATEGORIES:Illinois
ATTACH;FMTTYPE=image/jpeg:https://www.theartfairgallery.com/wp-content/uploads/2023/11/66f7e405ee8f8c9f064b77178785e2b9.jpg
END:VEVENT
BEGIN:VEVENT
DTSTART;TZID=America/Chicago:20240113T100000
DTEND;TZID=America/Chicago:20240113T170000
DTSTAMP:20260422T062109
CREATED:20231212T121136Z
LAST-MODIFIED:20231212T121136Z
UID:10007043-1705140000-1705165200@www.theartfairgallery.com
SUMMARY:Soulard Art Gallery Resident Artist Exhibit
DESCRIPTION:Soulard Art Gallery resident artist exhibit at Jacoby Arts
URL:https://www.theartfairgallery.com/event/soulard-art-gallery-resident-artist-exhibit-24/
LOCATION:Jacoby Arts Center\, 627 East Broadway\, Alton\, IL\, 62002\, United States
CATEGORIES:Illinois
ATTACH;FMTTYPE=image/jpeg:https://www.theartfairgallery.com/wp-content/uploads/2023/12/d30875a5fe26e607d2283edfcef95a15.jpg
END:VEVENT
BEGIN:VEVENT
DTSTART;TZID=America/Chicago:20240113T100000
DTEND;TZID=America/Chicago:20240113T150000
DTSTAMP:20260422T062109
CREATED:20231212T115805Z
LAST-MODIFIED:20231212T115805Z
UID:10007015-1705140000-1705158000@www.theartfairgallery.com
SUMMARY:January 13 Craft Fair & Vendor Event
DESCRIPTION:January 13\, 2024 Craft Fair & Vendor Event. Metro east/STL.  Shop local! Door prizes-50•50-giveaways & more!  *More than 25 tix available!*\n\n\nEvent coordinated & hosted by: \nGypsy Dreams & Hippie Things\, LLC \nLocation: Swansea Improvement Hall \n216 Service St\, Swansea\, IL 62226 \nSaturday January 13-10a-3p \nFREE PARKING FREE ENTRY! \nDoors open @ 10! Family friendly event! \nFood available for purchase! Coffee truck! \nWe have a ton of amazing vendors-including but not limited to: \n•Gypsy Dreams & Hippie Things \n•II Kings Coffee Experience \n•Wild Sox Entertainment (DJ) \n•Hand made crafts  \n•Wood items  \n•Create with RJ \n•Scentsy \n•Color Street  \n•jewelry \n•3D art \n•door hangers\, signs\, home decor & MORE! \nCome check it out! We give out door prizes hourly! 50/50 raffle!
URL:https://www.theartfairgallery.com/event/january-13-craft-fair-vendor-event/
LOCATION:Swansea Improvement Hall\, 216 Service Street\, Swansea\, IL\, 62226\, United States
CATEGORIES:Illinois
ATTACH;FMTTYPE=image/jpeg:https://www.theartfairgallery.com/wp-content/uploads/2023/12/620e8b54353f928a4f131ae885b7523e.jpg
END:VEVENT
BEGIN:VEVENT
DTSTART;TZID=America/Chicago:20240112T100000
DTEND;TZID=America/Chicago:20240112T170000
DTSTAMP:20260422T062109
CREATED:20231212T121135Z
LAST-MODIFIED:20231212T121135Z
UID:10007042-1705053600-1705078800@www.theartfairgallery.com
SUMMARY:Soulard Art Gallery Resident Artist Exhibit
DESCRIPTION:Soulard Art Gallery resident artist exhibit at Jacoby Arts
URL:https://www.theartfairgallery.com/event/soulard-art-gallery-resident-artist-exhibit-23/
LOCATION:Jacoby Arts Center\, 627 East Broadway\, Alton\, IL\, 62002\, United States
CATEGORIES:Illinois
ATTACH;FMTTYPE=image/jpeg:https://www.theartfairgallery.com/wp-content/uploads/2023/12/d30875a5fe26e607d2283edfcef95a15.jpg
END:VEVENT
BEGIN:VEVENT
DTSTART;TZID=America/Chicago:20240111T100000
DTEND;TZID=America/Chicago:20240111T170000
DTSTAMP:20260422T062109
CREATED:20231212T121134Z
LAST-MODIFIED:20231212T121134Z
UID:10007041-1704967200-1704992400@www.theartfairgallery.com
SUMMARY:Soulard Art Gallery Resident Artist Exhibit
DESCRIPTION:Soulard Art Gallery resident artist exhibit at Jacoby Arts
URL:https://www.theartfairgallery.com/event/soulard-art-gallery-resident-artist-exhibit-22/
LOCATION:Jacoby Arts Center\, 627 East Broadway\, Alton\, IL\, 62002\, United States
CATEGORIES:Illinois
ATTACH;FMTTYPE=image/jpeg:https://www.theartfairgallery.com/wp-content/uploads/2023/12/d30875a5fe26e607d2283edfcef95a15.jpg
END:VEVENT
BEGIN:VEVENT
DTSTART;TZID=America/Chicago:20240110T100000
DTEND;TZID=America/Chicago:20240110T170000
DTSTAMP:20260422T062109
CREATED:20231212T121133Z
LAST-MODIFIED:20231212T121133Z
UID:10007040-1704880800-1704906000@www.theartfairgallery.com
SUMMARY:Soulard Art Gallery Resident Artist Exhibit
DESCRIPTION:Soulard Art Gallery resident artist exhibit at Jacoby Arts
URL:https://www.theartfairgallery.com/event/soulard-art-gallery-resident-artist-exhibit-21/
LOCATION:Jacoby Arts Center\, 627 East Broadway\, Alton\, IL\, 62002\, United States
CATEGORIES:Illinois
ATTACH;FMTTYPE=image/jpeg:https://www.theartfairgallery.com/wp-content/uploads/2023/12/d30875a5fe26e607d2283edfcef95a15.jpg
END:VEVENT
BEGIN:VEVENT
DTSTART;TZID=America/Chicago:20240107T120000
DTEND;TZID=America/Chicago:20240107T160000
DTSTAMP:20260422T062109
CREATED:20231212T121120Z
LAST-MODIFIED:20231212T121120Z
UID:10007039-1704628800-1704643200@www.theartfairgallery.com
SUMMARY:Soulard Art Gallery Resident Artist Exhibit
DESCRIPTION:Soulard Art Gallery resident artist exhibit at Jacoby Arts
URL:https://www.theartfairgallery.com/event/soulard-art-gallery-resident-artist-exhibit-20/
LOCATION:Jacoby Arts Center\, 627 East Broadway\, Alton\, IL\, 62002\, United States
CATEGORIES:Illinois
ATTACH;FMTTYPE=image/jpeg:https://www.theartfairgallery.com/wp-content/uploads/2023/12/d30875a5fe26e607d2283edfcef95a15.jpg
END:VEVENT
BEGIN:VEVENT
DTSTART;TZID=America/Chicago:20240106T100000
DTEND;TZID=America/Chicago:20240106T170000
DTSTAMP:20260422T062109
CREATED:20231212T121120Z
LAST-MODIFIED:20231212T121120Z
UID:10007038-1704535200-1704560400@www.theartfairgallery.com
SUMMARY:Soulard Art Gallery Resident Artist Exhibit
DESCRIPTION:Soulard Art Gallery resident artist exhibit at Jacoby Arts
URL:https://www.theartfairgallery.com/event/soulard-art-gallery-resident-artist-exhibit-19/
LOCATION:Jacoby Arts Center\, 627 East Broadway\, Alton\, IL\, 62002\, United States
CATEGORIES:Illinois
ATTACH;FMTTYPE=image/jpeg:https://www.theartfairgallery.com/wp-content/uploads/2023/12/d30875a5fe26e607d2283edfcef95a15.jpg
END:VEVENT
BEGIN:VEVENT
DTSTART;TZID=America/Chicago:20240105T100000
DTEND;TZID=America/Chicago:20240105T170000
DTSTAMP:20260422T062109
CREATED:20231212T121119Z
LAST-MODIFIED:20231212T121119Z
UID:10007037-1704448800-1704474000@www.theartfairgallery.com
SUMMARY:Soulard Art Gallery Resident Artist Exhibit
DESCRIPTION:Soulard Art Gallery resident artist exhibit at Jacoby Arts
URL:https://www.theartfairgallery.com/event/soulard-art-gallery-resident-artist-exhibit-18/
LOCATION:Jacoby Arts Center\, 627 East Broadway\, Alton\, IL\, 62002\, United States
CATEGORIES:Illinois
ATTACH;FMTTYPE=image/jpeg:https://www.theartfairgallery.com/wp-content/uploads/2023/12/d30875a5fe26e607d2283edfcef95a15.jpg
END:VEVENT
BEGIN:VEVENT
DTSTART;TZID=America/Chicago:20240104T100000
DTEND;TZID=America/Chicago:20240104T170000
DTSTAMP:20260422T062109
CREATED:20231212T121119Z
LAST-MODIFIED:20231212T121119Z
UID:10007036-1704362400-1704387600@www.theartfairgallery.com
SUMMARY:Soulard Art Gallery Resident Artist Exhibit
DESCRIPTION:Soulard Art Gallery resident artist exhibit at Jacoby Arts
URL:https://www.theartfairgallery.com/event/soulard-art-gallery-resident-artist-exhibit-17/
LOCATION:Jacoby Arts Center\, 627 East Broadway\, Alton\, IL\, 62002\, United States
CATEGORIES:Illinois
ATTACH;FMTTYPE=image/jpeg:https://www.theartfairgallery.com/wp-content/uploads/2023/12/d30875a5fe26e607d2283edfcef95a15.jpg
END:VEVENT
BEGIN:VEVENT
DTSTART;TZID=America/Chicago:20240103T100000
DTEND;TZID=America/Chicago:20240103T170000
DTSTAMP:20260422T062109
CREATED:20231212T121115Z
LAST-MODIFIED:20231212T121115Z
UID:10007035-1704276000-1704301200@www.theartfairgallery.com
SUMMARY:Soulard Art Gallery Resident Artist Exhibit
DESCRIPTION:Soulard Art Gallery resident artist exhibit at Jacoby Arts
URL:https://www.theartfairgallery.com/event/soulard-art-gallery-resident-artist-exhibit-16/
LOCATION:Jacoby Arts Center\, 627 East Broadway\, Alton\, IL\, 62002\, United States
CATEGORIES:Illinois
ATTACH;FMTTYPE=image/jpeg:https://www.theartfairgallery.com/wp-content/uploads/2023/12/d30875a5fe26e607d2283edfcef95a15.jpg
END:VEVENT
BEGIN:VEVENT
DTSTART;TZID=America/Chicago:20231231T120000
DTEND;TZID=America/Chicago:20231231T160000
DTSTAMP:20260422T062109
CREATED:20231212T121115Z
LAST-MODIFIED:20231212T121115Z
UID:10007034-1704024000-1704038400@www.theartfairgallery.com
SUMMARY:Soulard Art Gallery Resident Artist Exhibit
DESCRIPTION:Soulard Art Gallery resident artist exhibit at Jacoby Arts
URL:https://www.theartfairgallery.com/event/soulard-art-gallery-resident-artist-exhibit-15/
LOCATION:Jacoby Arts Center\, 627 East Broadway\, Alton\, IL\, 62002\, United States
CATEGORIES:Illinois
ATTACH;FMTTYPE=image/jpeg:https://www.theartfairgallery.com/wp-content/uploads/2023/12/d30875a5fe26e607d2283edfcef95a15.jpg
END:VEVENT
BEGIN:VEVENT
DTSTART;TZID=America/Chicago:20231230T100000
DTEND;TZID=America/Chicago:20231230T170000
DTSTAMP:20260422T062109
CREATED:20231212T121114Z
LAST-MODIFIED:20231212T121114Z
UID:10007033-1703930400-1703955600@www.theartfairgallery.com
SUMMARY:Soulard Art Gallery Resident Artist Exhibit
DESCRIPTION:Soulard Art Gallery resident artist exhibit at Jacoby Arts
URL:https://www.theartfairgallery.com/event/soulard-art-gallery-resident-artist-exhibit-14/
LOCATION:Jacoby Arts Center\, 627 East Broadway\, Alton\, IL\, 62002\, United States
CATEGORIES:Illinois
ATTACH;FMTTYPE=image/jpeg:https://www.theartfairgallery.com/wp-content/uploads/2023/12/d30875a5fe26e607d2283edfcef95a15.jpg
END:VEVENT
BEGIN:VEVENT
DTSTART;TZID=America/Chicago:20231229T100000
DTEND;TZID=America/Chicago:20231229T170000
DTSTAMP:20260422T062110
CREATED:20231212T121113Z
LAST-MODIFIED:20231212T121113Z
UID:10007032-1703844000-1703869200@www.theartfairgallery.com
SUMMARY:Soulard Art Gallery Resident Artist Exhibit
DESCRIPTION:Soulard Art Gallery resident artist exhibit at Jacoby Arts
URL:https://www.theartfairgallery.com/event/soulard-art-gallery-resident-artist-exhibit-13/
LOCATION:Jacoby Arts Center\, 627 East Broadway\, Alton\, IL\, 62002\, United States
CATEGORIES:Illinois
ATTACH;FMTTYPE=image/jpeg:https://www.theartfairgallery.com/wp-content/uploads/2023/12/d30875a5fe26e607d2283edfcef95a15.jpg
END:VEVENT
BEGIN:VEVENT
DTSTART;TZID=America/Chicago:20231228T100000
DTEND;TZID=America/Chicago:20231228T170000
DTSTAMP:20260422T062110
CREATED:20231212T121113Z
LAST-MODIFIED:20231212T121113Z
UID:10007031-1703757600-1703782800@www.theartfairgallery.com
SUMMARY:Soulard Art Gallery Resident Artist Exhibit
DESCRIPTION:Soulard Art Gallery resident artist exhibit at Jacoby Arts
URL:https://www.theartfairgallery.com/event/soulard-art-gallery-resident-artist-exhibit-12/
LOCATION:Jacoby Arts Center\, 627 East Broadway\, Alton\, IL\, 62002\, United States
CATEGORIES:Illinois
ATTACH;FMTTYPE=image/jpeg:https://www.theartfairgallery.com/wp-content/uploads/2023/12/d30875a5fe26e607d2283edfcef95a15.jpg
END:VEVENT
BEGIN:VEVENT
DTSTART;TZID=America/Chicago:20231227T100000
DTEND;TZID=America/Chicago:20231227T170000
DTSTAMP:20260422T062110
CREATED:20231212T121112Z
LAST-MODIFIED:20231212T121112Z
UID:10007030-1703671200-1703696400@www.theartfairgallery.com
SUMMARY:Soulard Art Gallery Resident Artist Exhibit
DESCRIPTION:Soulard Art Gallery resident artist exhibit at Jacoby Arts
URL:https://www.theartfairgallery.com/event/soulard-art-gallery-resident-artist-exhibit-11/
LOCATION:Jacoby Arts Center\, 627 East Broadway\, Alton\, IL\, 62002\, United States
CATEGORIES:Illinois
ATTACH;FMTTYPE=image/jpeg:https://www.theartfairgallery.com/wp-content/uploads/2023/12/d30875a5fe26e607d2283edfcef95a15.jpg
END:VEVENT
BEGIN:VEVENT
DTSTART;TZID=America/Chicago:20231224T120000
DTEND;TZID=America/Chicago:20231224T160000
DTSTAMP:20260422T062110
CREATED:20231212T121059Z
LAST-MODIFIED:20231212T121059Z
UID:10007029-1703419200-1703433600@www.theartfairgallery.com
SUMMARY:Soulard Art Gallery Resident Artist Exhibit
DESCRIPTION:Soulard Art Gallery resident artist exhibit at Jacoby Arts
URL:https://www.theartfairgallery.com/event/soulard-art-gallery-resident-artist-exhibit-10/
LOCATION:Jacoby Arts Center\, 627 East Broadway\, Alton\, IL\, 62002\, United States
CATEGORIES:Illinois
ATTACH;FMTTYPE=image/jpeg:https://www.theartfairgallery.com/wp-content/uploads/2023/12/d30875a5fe26e607d2283edfcef95a15.jpg
END:VEVENT
BEGIN:VEVENT
DTSTART;TZID=America/Chicago:20231223T100000
DTEND;TZID=America/Chicago:20231223T170000
DTSTAMP:20260422T062110
CREATED:20231212T121059Z
LAST-MODIFIED:20231212T121059Z
UID:10007028-1703325600-1703350800@www.theartfairgallery.com
SUMMARY:Soulard Art Gallery Resident Artist Exhibit
DESCRIPTION:Soulard Art Gallery resident artist exhibit at Jacoby Arts
URL:https://www.theartfairgallery.com/event/soulard-art-gallery-resident-artist-exhibit-9/
LOCATION:Jacoby Arts Center\, 627 East Broadway\, Alton\, IL\, 62002\, United States
CATEGORIES:Illinois
ATTACH;FMTTYPE=image/jpeg:https://www.theartfairgallery.com/wp-content/uploads/2023/12/d30875a5fe26e607d2283edfcef95a15.jpg
END:VEVENT
BEGIN:VEVENT
DTSTART;TZID=America/Chicago:20231222T100000
DTEND;TZID=America/Chicago:20231222T170000
DTSTAMP:20260422T062110
CREATED:20231212T121058Z
LAST-MODIFIED:20231212T121058Z
UID:10007027-1703239200-1703264400@www.theartfairgallery.com
SUMMARY:Soulard Art Gallery Resident Artist Exhibit
DESCRIPTION:Soulard Art Gallery resident artist exhibit at Jacoby Arts
URL:https://www.theartfairgallery.com/event/soulard-art-gallery-resident-artist-exhibit-8/
LOCATION:Jacoby Arts Center\, 627 East Broadway\, Alton\, IL\, 62002\, United States
CATEGORIES:Illinois
ATTACH;FMTTYPE=image/jpeg:https://www.theartfairgallery.com/wp-content/uploads/2023/12/d30875a5fe26e607d2283edfcef95a15.jpg
END:VEVENT
BEGIN:VEVENT
DTSTART;TZID=America/Chicago:20231221T100000
DTEND;TZID=America/Chicago:20231221T170000
DTSTAMP:20260422T062110
CREATED:20231212T121058Z
LAST-MODIFIED:20231212T121058Z
UID:10007026-1703152800-1703178000@www.theartfairgallery.com
SUMMARY:Soulard Art Gallery Resident Artist Exhibit
DESCRIPTION:Soulard Art Gallery resident artist exhibit at Jacoby Arts
URL:https://www.theartfairgallery.com/event/soulard-art-gallery-resident-artist-exhibit-7/
LOCATION:Jacoby Arts Center\, 627 East Broadway\, Alton\, IL\, 62002\, United States
CATEGORIES:Illinois
ATTACH;FMTTYPE=image/jpeg:https://www.theartfairgallery.com/wp-content/uploads/2023/12/d30875a5fe26e607d2283edfcef95a15.jpg
END:VEVENT
BEGIN:VEVENT
DTSTART;TZID=America/Chicago:20231220T100000
DTEND;TZID=America/Chicago:20231220T170000
DTSTAMP:20260422T062110
CREATED:20231212T121057Z
LAST-MODIFIED:20231212T121057Z
UID:10007025-1703066400-1703091600@www.theartfairgallery.com
SUMMARY:Soulard Art Gallery Resident Artist Exhibit
DESCRIPTION:Soulard Art Gallery resident artist exhibit at Jacoby Arts
URL:https://www.theartfairgallery.com/event/soulard-art-gallery-resident-artist-exhibit-6/
LOCATION:Jacoby Arts Center\, 627 East Broadway\, Alton\, IL\, 62002\, United States
CATEGORIES:Illinois
ATTACH;FMTTYPE=image/jpeg:https://www.theartfairgallery.com/wp-content/uploads/2023/12/d30875a5fe26e607d2283edfcef95a15.jpg
END:VEVENT
BEGIN:VEVENT
DTSTART;TZID=America/Chicago:20231217T180000
DTEND;TZID=America/Chicago:20231217T200000
DTSTAMP:20260422T062110
CREATED:20231212T120520Z
LAST-MODIFIED:20231212T120520Z
UID:10007018-1702836000-1702843200@www.theartfairgallery.com
SUMMARY:Pop-Up Gallery Exhibit at Palatine's Cook\, Cork\, and Fork
DESCRIPTION:Check out the Pop-Up Gallery Exhibit at Palatine’s Cook\, Cork\, and Fork for an intimate in-person experience showcasing amazing artwork!\n\n\nSolo Pop-Up Gallery Exhibit at Palatine’s Cook\, Cork\, and Fork \nJoin us for an exciting solo pop-up gallery exhibit at Cook\, Cork & Fork in Palatine\, IL\, USA. Get ready to immerse yourself in a world of artistic wonder! This in-person event will showcase the incredible talent of local artist Anna Roller Hess. \nAnna is a multi-disciplinary artist who enjoys creating through experimentation. Her latest works include mixed media painting\, collage\, and monoprints. Anna has been exbiting her work since the early 90’s. She holds a BFA\, an MAT\, and has studied in Florence Italy. She has worked in Visual Design for Saks and Ralph Lauren\, Interior Design\, Floral Design\, and has had her own jewelry business. \nAnna has returned to her studio art practice after taking time out for her family. In addition to creating her own works she also currently teaches adult art and floral design classes at Harper Community College. \nPlease join us for this private event where Anna will have over fifty original works of art on exhibit. Whether you’re an art enthusiast\, a collector\, or simply looking for a fun and cultural experience\, this pop-up art exhibit is not to be missed. Mark your calendar and bring your friends and family to this one-of-a-kind event at Cook\, Cork\, & Fork on West Palatine Road. All artwork will be available for purchase as well as shopping in Cook\, Cork\, and Fork. AND…yes\, there will be Wine & light hors d’oeuvres ! \nFind out more about Anna here; \nhttps://dot.cards/rolleworks
URL:https://www.theartfairgallery.com/event/pop-up-gallery-exhibit-at-palatines-cook-cork-and-fork/
LOCATION:Cook\, Cork & Fork\, West Palatine Road\, Palatine\, IL\, USA\, 34 West Palatine Road\, Palatine\, IL\, 60067\, United States
CATEGORIES:Illinois
ATTACH;FMTTYPE=image/jpeg:https://www.theartfairgallery.com/wp-content/uploads/2023/12/6d8cd3c8f7a9220b70d8e27c6089f2fc.jpg
END:VEVENT
BEGIN:VEVENT
DTSTART;TZID=America/Chicago:20231217T120000
DTEND;TZID=America/Chicago:20231217T160000
DTSTAMP:20260422T062110
CREATED:20231212T121056Z
LAST-MODIFIED:20231212T121056Z
UID:10007024-1702814400-1702828800@www.theartfairgallery.com
SUMMARY:Soulard Art Gallery Resident Artist Exhibit
DESCRIPTION:Soulard Art Gallery resident artist exhibit at Jacoby Arts
URL:https://www.theartfairgallery.com/event/soulard-art-gallery-resident-artist-exhibit-5/
LOCATION:Jacoby Arts Center\, 627 East Broadway\, Alton\, IL\, 62002\, United States
CATEGORIES:Illinois
ATTACH;FMTTYPE=image/jpeg:https://www.theartfairgallery.com/wp-content/uploads/2023/12/d30875a5fe26e607d2283edfcef95a15.jpg
END:VEVENT
BEGIN:VEVENT
DTSTART;TZID=America/Chicago:20231216T150000
DTEND;TZID=America/Chicago:20231216T200000
DTSTAMP:20260422T062110
CREATED:20231108T131435Z
LAST-MODIFIED:20231108T131435Z
UID:10006592-1702738800-1702756800@www.theartfairgallery.com
SUMMARY:Christmas Craft Market
DESCRIPTION:Crafts\, activities\, shopping and more! Special guest SANTA!\n\n\nCome and join us for a Merry good time! This will be a come and go event\, so you can do everything on your own pace! Crafts\, activities\, games\, shopping and FUN! We can’t wait for this holiday event. \nAll kids wanting to participate in activities will need a ticket. Adults are free!  \nStay tuned for more information!
URL:https://www.theartfairgallery.com/event/christmas-craft-market/
LOCATION:Royal Community Building\, Park Street\, Royal\, IL\, USA\, 103 Park Street\, Royal\, IL\, 61871\, United States
CATEGORIES:Illinois
ATTACH;FMTTYPE=image/jpeg:https://www.theartfairgallery.com/wp-content/uploads/2023/11/194e62870ea094d524cad710cf0230f4.jpg
END:VEVENT
BEGIN:VEVENT
DTSTART;TZID=America/Chicago:20231216T120000
DTEND;TZID=America/Chicago:20231216T160000
DTSTAMP:20260422T062110
CREATED:20231212T120806Z
LAST-MODIFIED:20231212T120806Z
UID:10007019-1702728000-1702742400@www.theartfairgallery.com
SUMMARY:A CRAFTY CHRISTMAS
DESCRIPTION:Join us for last-minute Wonderful gift ideas created by local Artisans.  Crafts\,  Candles and Plenty of Christmas Cheer
URL:https://www.theartfairgallery.com/event/a-crafty-christmas/
LOCATION:POSE CULTURAL ART GALLERY\, 2136 West Chicago Avenue\, Chicago\, IL\, 60622\, United States
CATEGORIES:Illinois
ATTACH;FMTTYPE=image/jpeg:https://www.theartfairgallery.com/wp-content/uploads/2023/12/7efb09cb8cbbb6ad106eaed92ad3cbc9.jpg
END:VEVENT
BEGIN:VEVENT
DTSTART;TZID=America/Chicago:20231216T100000
DTEND;TZID=America/Chicago:20231216T170000
DTSTAMP:20260422T062110
CREATED:20231212T121056Z
LAST-MODIFIED:20231212T121056Z
UID:10007023-1702720800-1702746000@www.theartfairgallery.com
SUMMARY:Soulard Art Gallery Resident Artist Exhibit
DESCRIPTION:Soulard Art Gallery resident artist exhibit at Jacoby Arts
URL:https://www.theartfairgallery.com/event/soulard-art-gallery-resident-artist-exhibit-4/
LOCATION:Jacoby Arts Center\, 627 East Broadway\, Alton\, IL\, 62002\, United States
CATEGORIES:Illinois
ATTACH;FMTTYPE=image/jpeg:https://www.theartfairgallery.com/wp-content/uploads/2023/12/d30875a5fe26e607d2283edfcef95a15.jpg
END:VEVENT
BEGIN:VEVENT
DTSTART;TZID=America/Chicago:20231215T170000
DTEND;TZID=America/Chicago:20231215T200000
DTSTAMP:20260422T062110
CREATED:20231212T120003Z
LAST-MODIFIED:20231212T120003Z
UID:10007016-1702659600-1702670400@www.theartfairgallery.com
SUMMARY:Third Fridays at ALMA Art and Interiors
DESCRIPTION:Immerse yourself in the local art scene and discover some of the most talented artists in the region on the third Friday of each month.
URL:https://www.theartfairgallery.com/event/third-fridays-at-alma-art-and-interiors-2/
LOCATION:Alma Art and Interiors\, 3636 South Iron Street\, Chicago\, IL\, 60609\, United States
CATEGORIES:Illinois
ATTACH;FMTTYPE=image/jpeg:https://www.theartfairgallery.com/wp-content/uploads/2023/05/8ec6d5e8162aa7902054e141fcff05a9.jpg
END:VEVENT
BEGIN:VEVENT
DTSTART;TZID=America/Chicago:20231215T100000
DTEND;TZID=America/Chicago:20231215T170000
DTSTAMP:20260422T062110
CREATED:20231212T121055Z
LAST-MODIFIED:20231212T121055Z
UID:10007022-1702634400-1702659600@www.theartfairgallery.com
SUMMARY:Soulard Art Gallery Resident Artist Exhibit
DESCRIPTION:Soulard Art Gallery resident artist exhibit at Jacoby Arts
URL:https://www.theartfairgallery.com/event/soulard-art-gallery-resident-artist-exhibit-3/
LOCATION:Jacoby Arts Center\, 627 East Broadway\, Alton\, IL\, 62002\, United States
CATEGORIES:Illinois
ATTACH;FMTTYPE=image/jpeg:https://www.theartfairgallery.com/wp-content/uploads/2023/12/d30875a5fe26e607d2283edfcef95a15.jpg
END:VEVENT
BEGIN:VEVENT
DTSTART;TZID=America/Chicago:20231214T100000
DTEND;TZID=America/Chicago:20231214T170000
DTSTAMP:20260422T062110
CREATED:20231212T121055Z
LAST-MODIFIED:20231212T121055Z
UID:10007021-1702548000-1702573200@www.theartfairgallery.com
SUMMARY:Soulard Art Gallery Resident Artist Exhibit
DESCRIPTION:Soulard Art Gallery resident artist exhibit at Jacoby Arts
URL:https://www.theartfairgallery.com/event/soulard-art-gallery-resident-artist-exhibit-2/
LOCATION:Jacoby Arts Center\, 627 East Broadway\, Alton\, IL\, 62002\, United States
CATEGORIES:Illinois
ATTACH;FMTTYPE=image/jpeg:https://www.theartfairgallery.com/wp-content/uploads/2023/12/d30875a5fe26e607d2283edfcef95a15.jpg
END:VEVENT
BEGIN:VEVENT
DTSTART;TZID=America/Chicago:20231213T100000
DTEND;TZID=America/Chicago:20231213T170000
DTSTAMP:20260422T062110
CREATED:20231212T121054Z
LAST-MODIFIED:20231212T121054Z
UID:10007020-1702461600-1702486800@www.theartfairgallery.com
SUMMARY:Soulard Art Gallery Resident Artist Exhibit
DESCRIPTION:Soulard Art Gallery resident artist exhibit at Jacoby Arts
URL:https://www.theartfairgallery.com/event/soulard-art-gallery-resident-artist-exhibit/
LOCATION:Jacoby Arts Center\, 627 East Broadway\, Alton\, IL\, 62002\, United States
CATEGORIES:Illinois
ATTACH;FMTTYPE=image/jpeg:https://www.theartfairgallery.com/wp-content/uploads/2023/12/d30875a5fe26e607d2283edfcef95a15.jpg
END:VEVENT
END:VCALENDAR