BEGIN:VCALENDAR
VERSION:2.0
PRODID:-//The Art Fair Gallery - ECPv6.15.18//NONSGML v1.0//EN
CALSCALE:GREGORIAN
METHOD:PUBLISH
X-WR-CALNAME:The Art Fair Gallery
X-ORIGINAL-URL:https://www.theartfairgallery.com
X-WR-CALDESC:Events for The Art Fair Gallery
REFRESH-INTERVAL;VALUE=DURATION:PT1H
X-Robots-Tag:noindex
X-PUBLISHED-TTL:PT1H
BEGIN:VTIMEZONE
TZID:America/New_York
BEGIN:DAYLIGHT
TZOFFSETFROM:-0500
TZOFFSETTO:-0400
TZNAME:EDT
DTSTART:20230312T070000
END:DAYLIGHT
BEGIN:STANDARD
TZOFFSETFROM:-0400
TZOFFSETTO:-0500
TZNAME:EST
DTSTART:20231105T060000
END:STANDARD
BEGIN:DAYLIGHT
TZOFFSETFROM:-0500
TZOFFSETTO:-0400
TZNAME:EDT
DTSTART:20240310T070000
END:DAYLIGHT
BEGIN:STANDARD
TZOFFSETFROM:-0400
TZOFFSETTO:-0500
TZNAME:EST
DTSTART:20241103T060000
END:STANDARD
BEGIN:DAYLIGHT
TZOFFSETFROM:-0500
TZOFFSETTO:-0400
TZNAME:EDT
DTSTART:20250309T070000
END:DAYLIGHT
BEGIN:STANDARD
TZOFFSETFROM:-0400
TZOFFSETTO:-0500
TZNAME:EST
DTSTART:20251102T060000
END:STANDARD
END:VTIMEZONE
BEGIN:VTIMEZONE
TZID:America/Chicago
BEGIN:DAYLIGHT
TZOFFSETFROM:-0600
TZOFFSETTO:-0500
TZNAME:CDT
DTSTART:20230312T080000
END:DAYLIGHT
BEGIN:STANDARD
TZOFFSETFROM:-0500
TZOFFSETTO:-0600
TZNAME:CST
DTSTART:20231105T070000
END:STANDARD
BEGIN:DAYLIGHT
TZOFFSETFROM:-0600
TZOFFSETTO:-0500
TZNAME:CDT
DTSTART:20240310T080000
END:DAYLIGHT
BEGIN:STANDARD
TZOFFSETFROM:-0500
TZOFFSETTO:-0600
TZNAME:CST
DTSTART:20241103T070000
END:STANDARD
BEGIN:DAYLIGHT
TZOFFSETFROM:-0600
TZOFFSETTO:-0500
TZNAME:CDT
DTSTART:20250309T080000
END:DAYLIGHT
BEGIN:STANDARD
TZOFFSETFROM:-0500
TZOFFSETTO:-0600
TZNAME:CST
DTSTART:20251102T070000
END:STANDARD
END:VTIMEZONE
BEGIN:VEVENT
DTSTART;TZID=America/New_York:20240503T180000
DTEND;TZID=America/New_York:20240503T210000
DTSTAMP:20260420T083953
CREATED:20231113T113934Z
LAST-MODIFIED:20240323T091328Z
UID:10006690-1714759200-1714770000@www.theartfairgallery.com
SUMMARY:First Friday Art Walk
DESCRIPTION:Join Ocala Cultural Arts the first Friday of every month\, September to May\, for Art Walk! Enjoy over 40 artist displays\, live music\, & art!
URL:https://www.theartfairgallery.com/event/first-friday-art-walk-6/
LOCATION:Ocala Downtown Square\, 100 SE 1ST AVENUE\,\, Ocala\, FL\, 34470\, United States
CATEGORIES:Craft Fair,Florida,Illinois
ATTACH;FMTTYPE=image/jpeg:https://www.theartfairgallery.com/wp-content/uploads/2023/11/ea5e48b0ab5c8829c5f2dfdcff0373a3.jpg
END:VEVENT
BEGIN:VEVENT
DTSTART;TZID=America/Chicago:20240428T120000
DTEND;TZID=America/Chicago:20240428T170000
DTSTAMP:20260420T083953
CREATED:20240323T075409Z
LAST-MODIFIED:20240323T075409Z
UID:10007179-1714305600-1714323600@www.theartfairgallery.com
SUMMARY:April 28th Spring Arts & Crafts Fair Hosted by Artisan Markets
DESCRIPTION:Spring/Mother’s Day/Father’s Day Shopping Event: Handmade Craft Fairs and Markets in the far Northwest Suburbs of Chicago\n\n\nCome and shop some amazing local artists and makers for Mother’s day\, Father’s Day or just for yourself on April 28th! \n~ Approximately 35 local artists\, makers and bakers~Eat & Drink While You Shop!!! Enjoy delicious fresh baked goods from our amazing bakers and restaurant food/drinks~ Free Admission \nFollow us on FACEBOOK and INSTAGRAM or visit our WEBSITE \nInterested in being a selected artisan in a future event? \nThis event is currently filled. \nArtisan Markets are juried events to help ensure a wide variety of products for the customers. Every event is juried individually. Please click HERE to for our waitlist and to find our other current events. \nwww.Artisan-Markets.com
URL:https://www.theartfairgallery.com/event/april-28th-spring-arts-crafts-fair-hosted-by-artisan-markets/
LOCATION:Wild Onion Brewery & Banquets\, 22221 North Pepper Road\, Lake Barrington\, IL\, 60010\, United States
CATEGORIES:Illinois
ATTACH;FMTTYPE=image/jpeg:https://www.theartfairgallery.com/wp-content/uploads/2024/03/ac13b15c3f7d146f38999265171f4927.jpg
END:VEVENT
BEGIN:VEVENT
DTSTART;TZID=America/Chicago:20240413T210000
DTEND;TZID=America/Chicago:20240413T233000
DTSTAMP:20260420T083953
CREATED:20240323T075621Z
LAST-MODIFIED:20240323T075621Z
UID:10007180-1713042000-1713051000@www.theartfairgallery.com
SUMMARY:Art Bash by CBProductions
DESCRIPTION:Join us for a local Chicago Art Bash a fun-filled event celebrating local artist and their creativity\, art\, and just good vibes!\n\n\nWelcome to Art Bash by CBProductions! \nDate: April 13th\, 2024 \nTime: 9pm-1am \n \n**GA tickets include 2 drinks\, live performance and local art vendors at Sketchbook Brewery** \n \nJoin us for a night of creativity and fun at our Art Bash hosted by CBProductions(an up and coming event planning + advertisement agency)! \nGet ready to immerse yourself in a world of artistic wonders\, featuring local artists showcasing their talents in various mediums. From paintings\, jewlery\, and even live music\, there will be something for everyone to enjoy. \nBring your friends and experience the vibrant atmosphere and maybe even discover a new favorite artist. It’s your chance to mingle and network with some amazing talent from all over the city. Don’t miss out on this exciting opportunity to support the local arts scene and indulge in some visual delights. We’ll also have finger food and drinks for ya and street parking\, See you there! \n \n***Interested in Performing or showcasing your work fill out this from!: https://docs.google.com/forms/d/e/1FAIpQLScMZ-ZqglMl_LPwzleWiiobgksWD6cmBU-ESW82mzjMHhRQrw/viewform?usp=sf_link \nArtist Lineup (list to be updated): \nJakob Heffernan @Hejjayhej \nSimon Lundquist @suim0 @ratsalley \nRachel Kirby @rachelroommate \nQuinn Lewis @thejeweler2000
URL:https://www.theartfairgallery.com/event/art-bash-by-cbproductions/
LOCATION:Sketchbook Brewing Co\, 4901 Main Street\, Skokie\, IL\, 60077\, United States
CATEGORIES:Illinois
ATTACH;FMTTYPE=image/jpeg:https://www.theartfairgallery.com/wp-content/uploads/2024/03/e222dda9aa84b8c1c127e719ce94337e.jpg
END:VEVENT
BEGIN:VEVENT
DTSTART;TZID=America/Chicago:20240413T120000
DTEND;TZID=America/Chicago:20240413T160000
DTSTAMP:20260420T083953
CREATED:20231108T134137Z
LAST-MODIFIED:20231108T134137Z
UID:10006602-1713009600-1713024000@www.theartfairgallery.com
SUMMARY:Handmade Market
DESCRIPTION:Handmade Market:\na unique event to connect the makers of beautiful things to people who appreciate the unique and handmade.
URL:https://www.theartfairgallery.com/event/handmade-market-7/
LOCATION:The Empty Bottle\, North Western Avenue\, Chicago\, IL\, USA\, 1035 North Western Avenue\, Chicago\, IL\, 60622\, United States
CATEGORIES:Illinois
ATTACH;FMTTYPE=image/jpeg:https://www.theartfairgallery.com/wp-content/uploads/2023/11/66f7e405ee8f8c9f064b77178785e2b9.jpg
END:VEVENT
BEGIN:VEVENT
DTSTART;TZID=America/New_York:20240405T180000
DTEND;TZID=America/New_York:20240405T210000
DTSTAMP:20260420T083953
CREATED:20231113T113934Z
LAST-MODIFIED:20240323T091327Z
UID:10006689-1712340000-1712350800@www.theartfairgallery.com
SUMMARY:First Friday Art Walk
DESCRIPTION:Join Ocala Cultural Arts the first Friday of every month\, September to May\, for Art Walk! Enjoy over 40 artist displays\, live music\, & art!
URL:https://www.theartfairgallery.com/event/first-friday-art-walk-5/
LOCATION:Ocala Downtown Square\, 100 SE 1ST AVENUE\,\, Ocala\, FL\, 34470\, United States
CATEGORIES:Craft Fair,Florida,Illinois
ATTACH;FMTTYPE=image/jpeg:https://www.theartfairgallery.com/wp-content/uploads/2023/11/ea5e48b0ab5c8829c5f2dfdcff0373a3.jpg
END:VEVENT
BEGIN:VEVENT
DTSTART;TZID=America/Chicago:20240329T190000
DTEND;TZID=America/Chicago:20240329T230000
DTSTAMP:20260420T083953
CREATED:20240323T081315Z
LAST-MODIFIED:20240323T081315Z
UID:10007182-1711738800-1711753200@www.theartfairgallery.com
SUMMARY:Art Battle Chicago - March 29\, 2024
DESCRIPTION:Come and be part of a Friday  evening filled with live art!\n\n\nJoin us for an epic art showdown where creativity knows no bounds!  \nWatch as masterful artists craft stunning masterpieces in just 20 minutes per round. Be part of the decision-making process and vote for the ultimate champion.  \nAnd don’t miss your chance to own a piece of the action with the silent auction of all original works \n*Physical ID required for entry* \n*Art Battle® Chicago is a 21+ event \n*Follow us on Instagram @ArtBattleChicago!
URL:https://www.theartfairgallery.com/event/art-battle-chicago-march-29-2024/
LOCATION:SPIN Chicago\, 344 North State Street\, Chicago\, IL\, 60654\, United States
CATEGORIES:Illinois
ATTACH;FMTTYPE=image/jpeg:https://www.theartfairgallery.com/wp-content/uploads/2024/03/020ed9638e5b8f114041f884f3eabc44.jpg
END:VEVENT
BEGIN:VEVENT
DTSTART;TZID=America/Chicago:20240316T090000
DTEND;TZID=America/Chicago:20240316T150000
DTSTAMP:20260420T083953
CREATED:20231108T131929Z
LAST-MODIFIED:20231213T113046Z
UID:10006593-1710579600-1710601200@www.theartfairgallery.com
SUMMARY:West Fest Craft and Vendor Fair 2024
DESCRIPTION:Fun\, shopping\, and music at LWW West Fest! Over 100 crafters\, raffle\, food and performances. Admission $3 for 13+. Kids 12 and under free.\n\n\nApplications for West Fest 2023 have been sent to our past vendors\, check your email! Once again\, THE ONLY WAY TO GET AN APPLICATION IS BY EMAIL\, do not fall for scammers claiming to be affiliated with this event. We accept applications by mail only with a check. We do NOT ask for or take electronic payments. \nIf you would like an application or are interested in becoming a vendor\, please email Angela Brown at lwwestfest@gmail.com for more information. \nPlease note: Vendor spots for Scentsy\, Tupperware\, Avon\, Norwex\, and Thirty-One are already claimed. Only one vendor from each of these businesses can attend. Thank you! \n— \n???? Get ready for a jam-packed day of fun and shopping at the LWW West Fest Craft and Vendor Fair ????️ With over 100 crafters and vendors\, you’re bound to find something you love. Plus\, take a chance on our 50/50 split the pot raffle ???? and win some amazing prizes ???? \nAnd don’t forget to satisfy your taste buds with some delicious food! ???????? You’ll have plenty of options to choose from while enjoying performances by student musicians ???????? and the always entertaining Frankfort Brass Band ???????? \nThis event is sponsored by the Lincoln-Way West Music Boosters ???? and all proceeds support the school’s music programs\, so not only will you have a great time\, but you’ll also be supporting a great cause. ???? \nMark your calendars for March 16th ???? and join us at Lincoln-Way West. Admission is cash only. ???? It’s $3 for those 13 and over. Kids 12 and under get in for free! ????️ Don’t miss out on the fun!
URL:https://www.theartfairgallery.com/event/west-fest-craft-and-vendor-fair-2024/
LOCATION:Lincoln Way West High School\, 21701 Gougar Road\, New Lenox\, IL\, 60451\, United States
CATEGORIES:California,Illinois
ATTACH;FMTTYPE=image/jpeg:https://www.theartfairgallery.com/wp-content/uploads/2023/11/171ba552c0be653d292733a1a73ab15a.jpg
END:VEVENT
BEGIN:VEVENT
DTSTART;TZID=America/Chicago:20240309T120000
DTEND;TZID=America/Chicago:20240309T160000
DTSTAMP:20260420T083953
CREATED:20231108T134116Z
LAST-MODIFIED:20231108T134116Z
UID:10006601-1709985600-1710000000@www.theartfairgallery.com
SUMMARY:Handmade Market
DESCRIPTION:Handmade Market:\na unique event to connect the makers of beautiful things to people who appreciate the unique and handmade.
URL:https://www.theartfairgallery.com/event/handmade-market-6/
LOCATION:The Empty Bottle\, North Western Avenue\, Chicago\, IL\, USA\, 1035 North Western Avenue\, Chicago\, IL\, 60622\, United States
CATEGORIES:Illinois
ATTACH;FMTTYPE=image/jpeg:https://www.theartfairgallery.com/wp-content/uploads/2023/11/66f7e405ee8f8c9f064b77178785e2b9.jpg
END:VEVENT
BEGIN:VEVENT
DTSTART;TZID=America/Chicago:20240215T100000
DTEND;TZID=America/Chicago:20240215T170000
DTSTAMP:20260420T083953
CREATED:20231212T121222Z
LAST-MODIFIED:20231212T121222Z
UID:10007066-1707991200-1708016400@www.theartfairgallery.com
SUMMARY:Soulard Art Gallery Resident Artist Exhibit
DESCRIPTION:Soulard Art Gallery resident artist exhibit at Jacoby Arts
URL:https://www.theartfairgallery.com/event/soulard-art-gallery-resident-artist-exhibit-47/
LOCATION:Jacoby Arts Center\, 627 East Broadway\, Alton\, IL\, 62002\, United States
CATEGORIES:Illinois
ATTACH;FMTTYPE=image/jpeg:https://www.theartfairgallery.com/wp-content/uploads/2023/12/d30875a5fe26e607d2283edfcef95a15.jpg
END:VEVENT
BEGIN:VEVENT
DTSTART;TZID=America/Chicago:20240214T100000
DTEND;TZID=America/Chicago:20240214T170000
DTSTAMP:20260420T083953
CREATED:20231212T121221Z
LAST-MODIFIED:20231212T121221Z
UID:10007065-1707904800-1707930000@www.theartfairgallery.com
SUMMARY:Soulard Art Gallery Resident Artist Exhibit
DESCRIPTION:Soulard Art Gallery resident artist exhibit at Jacoby Arts
URL:https://www.theartfairgallery.com/event/soulard-art-gallery-resident-artist-exhibit-46/
LOCATION:Jacoby Arts Center\, 627 East Broadway\, Alton\, IL\, 62002\, United States
CATEGORIES:Illinois
ATTACH;FMTTYPE=image/jpeg:https://www.theartfairgallery.com/wp-content/uploads/2023/12/d30875a5fe26e607d2283edfcef95a15.jpg
END:VEVENT
BEGIN:VEVENT
DTSTART;TZID=America/Chicago:20240211T120000
DTEND;TZID=America/Chicago:20240211T160000
DTSTAMP:20260420T083953
CREATED:20231212T121220Z
LAST-MODIFIED:20231212T121220Z
UID:10007064-1707652800-1707667200@www.theartfairgallery.com
SUMMARY:Soulard Art Gallery Resident Artist Exhibit
DESCRIPTION:Soulard Art Gallery resident artist exhibit at Jacoby Arts
URL:https://www.theartfairgallery.com/event/soulard-art-gallery-resident-artist-exhibit-45/
LOCATION:Jacoby Arts Center\, 627 East Broadway\, Alton\, IL\, 62002\, United States
CATEGORIES:Illinois
ATTACH;FMTTYPE=image/jpeg:https://www.theartfairgallery.com/wp-content/uploads/2023/12/d30875a5fe26e607d2283edfcef95a15.jpg
END:VEVENT
BEGIN:VEVENT
DTSTART;TZID=America/Chicago:20240210T120000
DTEND;TZID=America/Chicago:20240210T160000
DTSTAMP:20260420T083953
CREATED:20231108T134059Z
LAST-MODIFIED:20231108T134059Z
UID:10006600-1707566400-1707580800@www.theartfairgallery.com
SUMMARY:Handmade Market
DESCRIPTION:Handmade Market:\na unique event to connect the makers of beautiful things to people who appreciate the unique and handmade.
URL:https://www.theartfairgallery.com/event/handmade-market-5/
LOCATION:The Empty Bottle\, North Western Avenue\, Chicago\, IL\, USA\, 1035 North Western Avenue\, Chicago\, IL\, 60622\, United States
CATEGORIES:Illinois
ATTACH;FMTTYPE=image/jpeg:https://www.theartfairgallery.com/wp-content/uploads/2023/11/66f7e405ee8f8c9f064b77178785e2b9.jpg
END:VEVENT
BEGIN:VEVENT
DTSTART;TZID=America/Chicago:20240210T100000
DTEND;TZID=America/Chicago:20240210T170000
DTSTAMP:20260420T083953
CREATED:20231212T121219Z
LAST-MODIFIED:20231212T121219Z
UID:10007063-1707559200-1707584400@www.theartfairgallery.com
SUMMARY:Soulard Art Gallery Resident Artist Exhibit
DESCRIPTION:Soulard Art Gallery resident artist exhibit at Jacoby Arts
URL:https://www.theartfairgallery.com/event/soulard-art-gallery-resident-artist-exhibit-44/
LOCATION:Jacoby Arts Center\, 627 East Broadway\, Alton\, IL\, 62002\, United States
CATEGORIES:Illinois
ATTACH;FMTTYPE=image/jpeg:https://www.theartfairgallery.com/wp-content/uploads/2023/12/d30875a5fe26e607d2283edfcef95a15.jpg
END:VEVENT
BEGIN:VEVENT
DTSTART;TZID=America/Chicago:20240209T100000
DTEND;TZID=America/Chicago:20240209T170000
DTSTAMP:20260420T083953
CREATED:20231212T121219Z
LAST-MODIFIED:20231212T121219Z
UID:10007062-1707472800-1707498000@www.theartfairgallery.com
SUMMARY:Soulard Art Gallery Resident Artist Exhibit
DESCRIPTION:Soulard Art Gallery resident artist exhibit at Jacoby Arts
URL:https://www.theartfairgallery.com/event/soulard-art-gallery-resident-artist-exhibit-43/
LOCATION:Jacoby Arts Center\, 627 East Broadway\, Alton\, IL\, 62002\, United States
CATEGORIES:Illinois
ATTACH;FMTTYPE=image/jpeg:https://www.theartfairgallery.com/wp-content/uploads/2023/12/d30875a5fe26e607d2283edfcef95a15.jpg
END:VEVENT
BEGIN:VEVENT
DTSTART;TZID=America/Chicago:20240208T100000
DTEND;TZID=America/Chicago:20240208T170000
DTSTAMP:20260420T083953
CREATED:20231212T121218Z
LAST-MODIFIED:20231212T121218Z
UID:10007061-1707386400-1707411600@www.theartfairgallery.com
SUMMARY:Soulard Art Gallery Resident Artist Exhibit
DESCRIPTION:Soulard Art Gallery resident artist exhibit at Jacoby Arts
URL:https://www.theartfairgallery.com/event/soulard-art-gallery-resident-artist-exhibit-42/
LOCATION:Jacoby Arts Center\, 627 East Broadway\, Alton\, IL\, 62002\, United States
CATEGORIES:Illinois
ATTACH;FMTTYPE=image/jpeg:https://www.theartfairgallery.com/wp-content/uploads/2023/12/d30875a5fe26e607d2283edfcef95a15.jpg
END:VEVENT
BEGIN:VEVENT
DTSTART;TZID=America/Chicago:20240207T100000
DTEND;TZID=America/Chicago:20240207T170000
DTSTAMP:20260420T083953
CREATED:20231212T121217Z
LAST-MODIFIED:20231212T121217Z
UID:10007060-1707300000-1707325200@www.theartfairgallery.com
SUMMARY:Soulard Art Gallery Resident Artist Exhibit
DESCRIPTION:Soulard Art Gallery resident artist exhibit at Jacoby Arts
URL:https://www.theartfairgallery.com/event/soulard-art-gallery-resident-artist-exhibit-41/
LOCATION:Jacoby Arts Center\, 627 East Broadway\, Alton\, IL\, 62002\, United States
CATEGORIES:Illinois
ATTACH;FMTTYPE=image/jpeg:https://www.theartfairgallery.com/wp-content/uploads/2023/12/d30875a5fe26e607d2283edfcef95a15.jpg
END:VEVENT
BEGIN:VEVENT
DTSTART;TZID=America/Chicago:20240204T120000
DTEND;TZID=America/Chicago:20240204T160000
DTSTAMP:20260420T083953
CREATED:20231212T121204Z
LAST-MODIFIED:20231212T121204Z
UID:10007059-1707048000-1707062400@www.theartfairgallery.com
SUMMARY:Soulard Art Gallery Resident Artist Exhibit
DESCRIPTION:Soulard Art Gallery resident artist exhibit at Jacoby Arts
URL:https://www.theartfairgallery.com/event/soulard-art-gallery-resident-artist-exhibit-40/
LOCATION:Jacoby Arts Center\, 627 East Broadway\, Alton\, IL\, 62002\, United States
CATEGORIES:Illinois
ATTACH;FMTTYPE=image/jpeg:https://www.theartfairgallery.com/wp-content/uploads/2023/12/d30875a5fe26e607d2283edfcef95a15.jpg
END:VEVENT
BEGIN:VEVENT
DTSTART;TZID=America/Chicago:20240203T100000
DTEND;TZID=America/Chicago:20240203T170000
DTSTAMP:20260420T083953
CREATED:20231212T121203Z
LAST-MODIFIED:20231212T121203Z
UID:10007058-1706954400-1706979600@www.theartfairgallery.com
SUMMARY:Soulard Art Gallery Resident Artist Exhibit
DESCRIPTION:Soulard Art Gallery resident artist exhibit at Jacoby Arts
URL:https://www.theartfairgallery.com/event/soulard-art-gallery-resident-artist-exhibit-39/
LOCATION:Jacoby Arts Center\, 627 East Broadway\, Alton\, IL\, 62002\, United States
CATEGORIES:Illinois
ATTACH;FMTTYPE=image/jpeg:https://www.theartfairgallery.com/wp-content/uploads/2023/12/d30875a5fe26e607d2283edfcef95a15.jpg
END:VEVENT
BEGIN:VEVENT
DTSTART;TZID=America/Chicago:20240202T100000
DTEND;TZID=America/Chicago:20240202T170000
DTSTAMP:20260420T083953
CREATED:20231212T121202Z
LAST-MODIFIED:20231212T121202Z
UID:10007057-1706868000-1706893200@www.theartfairgallery.com
SUMMARY:Soulard Art Gallery Resident Artist Exhibit
DESCRIPTION:Soulard Art Gallery resident artist exhibit at Jacoby Arts
URL:https://www.theartfairgallery.com/event/soulard-art-gallery-resident-artist-exhibit-38/
LOCATION:Jacoby Arts Center\, 627 East Broadway\, Alton\, IL\, 62002\, United States
CATEGORIES:Illinois
ATTACH;FMTTYPE=image/jpeg:https://www.theartfairgallery.com/wp-content/uploads/2023/12/d30875a5fe26e607d2283edfcef95a15.jpg
END:VEVENT
BEGIN:VEVENT
DTSTART;TZID=America/Chicago:20240201T100000
DTEND;TZID=America/Chicago:20240201T170000
DTSTAMP:20260420T083953
CREATED:20231212T121202Z
LAST-MODIFIED:20231212T121202Z
UID:10007056-1706781600-1706806800@www.theartfairgallery.com
SUMMARY:Soulard Art Gallery Resident Artist Exhibit
DESCRIPTION:Soulard Art Gallery resident artist exhibit at Jacoby Arts
URL:https://www.theartfairgallery.com/event/soulard-art-gallery-resident-artist-exhibit-37/
LOCATION:Jacoby Arts Center\, 627 East Broadway\, Alton\, IL\, 62002\, United States
CATEGORIES:Illinois
ATTACH;FMTTYPE=image/jpeg:https://www.theartfairgallery.com/wp-content/uploads/2023/12/d30875a5fe26e607d2283edfcef95a15.jpg
END:VEVENT
BEGIN:VEVENT
DTSTART;TZID=America/Chicago:20240131T100000
DTEND;TZID=America/Chicago:20240131T170000
DTSTAMP:20260420T083953
CREATED:20231212T121201Z
LAST-MODIFIED:20231212T121201Z
UID:10007055-1706695200-1706720400@www.theartfairgallery.com
SUMMARY:Soulard Art Gallery Resident Artist Exhibit
DESCRIPTION:Soulard Art Gallery resident artist exhibit at Jacoby Arts
URL:https://www.theartfairgallery.com/event/soulard-art-gallery-resident-artist-exhibit-36/
LOCATION:Jacoby Arts Center\, 627 East Broadway\, Alton\, IL\, 62002\, United States
CATEGORIES:Illinois
ATTACH;FMTTYPE=image/jpeg:https://www.theartfairgallery.com/wp-content/uploads/2023/12/d30875a5fe26e607d2283edfcef95a15.jpg
END:VEVENT
BEGIN:VEVENT
DTSTART;TZID=America/Chicago:20240128T120000
DTEND;TZID=America/Chicago:20240128T160000
DTSTAMP:20260420T083953
CREATED:20231212T121200Z
LAST-MODIFIED:20231212T121200Z
UID:10007054-1706443200-1706457600@www.theartfairgallery.com
SUMMARY:Soulard Art Gallery Resident Artist Exhibit
DESCRIPTION:Soulard Art Gallery resident artist exhibit at Jacoby Arts
URL:https://www.theartfairgallery.com/event/soulard-art-gallery-resident-artist-exhibit-35/
LOCATION:Jacoby Arts Center\, 627 East Broadway\, Alton\, IL\, 62002\, United States
CATEGORIES:Illinois
ATTACH;FMTTYPE=image/jpeg:https://www.theartfairgallery.com/wp-content/uploads/2023/12/d30875a5fe26e607d2283edfcef95a15.jpg
END:VEVENT
BEGIN:VEVENT
DTSTART;TZID=America/Chicago:20240127T100000
DTEND;TZID=America/Chicago:20240127T170000
DTSTAMP:20260420T083953
CREATED:20231212T121159Z
LAST-MODIFIED:20231212T121159Z
UID:10007053-1706349600-1706374800@www.theartfairgallery.com
SUMMARY:Soulard Art Gallery Resident Artist Exhibit
DESCRIPTION:Soulard Art Gallery resident artist exhibit at Jacoby Arts
URL:https://www.theartfairgallery.com/event/soulard-art-gallery-resident-artist-exhibit-34/
LOCATION:Jacoby Arts Center\, 627 East Broadway\, Alton\, IL\, 62002\, United States
CATEGORIES:Illinois
ATTACH;FMTTYPE=image/jpeg:https://www.theartfairgallery.com/wp-content/uploads/2023/12/d30875a5fe26e607d2283edfcef95a15.jpg
END:VEVENT
BEGIN:VEVENT
DTSTART;TZID=America/Chicago:20240126T100000
DTEND;TZID=America/Chicago:20240126T170000
DTSTAMP:20260420T083953
CREATED:20231212T121159Z
LAST-MODIFIED:20231212T121159Z
UID:10007052-1706263200-1706288400@www.theartfairgallery.com
SUMMARY:Soulard Art Gallery Resident Artist Exhibit
DESCRIPTION:Soulard Art Gallery resident artist exhibit at Jacoby Arts
URL:https://www.theartfairgallery.com/event/soulard-art-gallery-resident-artist-exhibit-33/
LOCATION:Jacoby Arts Center\, 627 East Broadway\, Alton\, IL\, 62002\, United States
CATEGORIES:Illinois
ATTACH;FMTTYPE=image/jpeg:https://www.theartfairgallery.com/wp-content/uploads/2023/12/d30875a5fe26e607d2283edfcef95a15.jpg
END:VEVENT
BEGIN:VEVENT
DTSTART;TZID=America/Chicago:20240125T100000
DTEND;TZID=America/Chicago:20240125T170000
DTSTAMP:20260420T083953
CREATED:20231212T121158Z
LAST-MODIFIED:20231212T121158Z
UID:10007051-1706176800-1706202000@www.theartfairgallery.com
SUMMARY:Soulard Art Gallery Resident Artist Exhibit
DESCRIPTION:Soulard Art Gallery resident artist exhibit at Jacoby Arts
URL:https://www.theartfairgallery.com/event/soulard-art-gallery-resident-artist-exhibit-32/
LOCATION:Jacoby Arts Center\, 627 East Broadway\, Alton\, IL\, 62002\, United States
CATEGORIES:Illinois
ATTACH;FMTTYPE=image/jpeg:https://www.theartfairgallery.com/wp-content/uploads/2023/12/d30875a5fe26e607d2283edfcef95a15.jpg
END:VEVENT
BEGIN:VEVENT
DTSTART;TZID=America/Chicago:20240124T100000
DTEND;TZID=America/Chicago:20240124T170000
DTSTAMP:20260420T083953
CREATED:20231212T121157Z
LAST-MODIFIED:20231212T121157Z
UID:10007050-1706090400-1706115600@www.theartfairgallery.com
SUMMARY:Soulard Art Gallery Resident Artist Exhibit
DESCRIPTION:Soulard Art Gallery resident artist exhibit at Jacoby Arts
URL:https://www.theartfairgallery.com/event/soulard-art-gallery-resident-artist-exhibit-31/
LOCATION:Jacoby Arts Center\, 627 East Broadway\, Alton\, IL\, 62002\, United States
CATEGORIES:Illinois
ATTACH;FMTTYPE=image/jpeg:https://www.theartfairgallery.com/wp-content/uploads/2023/12/d30875a5fe26e607d2283edfcef95a15.jpg
END:VEVENT
BEGIN:VEVENT
DTSTART;TZID=America/Chicago:20240121T120000
DTEND;TZID=America/Chicago:20240121T160000
DTSTAMP:20260420T083953
CREATED:20231212T121140Z
LAST-MODIFIED:20231212T121140Z
UID:10007049-1705838400-1705852800@www.theartfairgallery.com
SUMMARY:Soulard Art Gallery Resident Artist Exhibit
DESCRIPTION:Soulard Art Gallery resident artist exhibit at Jacoby Arts
URL:https://www.theartfairgallery.com/event/soulard-art-gallery-resident-artist-exhibit-30/
LOCATION:Jacoby Arts Center\, 627 East Broadway\, Alton\, IL\, 62002\, United States
CATEGORIES:Illinois
ATTACH;FMTTYPE=image/jpeg:https://www.theartfairgallery.com/wp-content/uploads/2023/12/d30875a5fe26e607d2283edfcef95a15.jpg
END:VEVENT
BEGIN:VEVENT
DTSTART;TZID=America/Chicago:20240120T100000
DTEND;TZID=America/Chicago:20240120T170000
DTSTAMP:20260420T083953
CREATED:20231212T121139Z
LAST-MODIFIED:20231212T121139Z
UID:10007048-1705744800-1705770000@www.theartfairgallery.com
SUMMARY:Soulard Art Gallery Resident Artist Exhibit
DESCRIPTION:Soulard Art Gallery resident artist exhibit at Jacoby Arts
URL:https://www.theartfairgallery.com/event/soulard-art-gallery-resident-artist-exhibit-29/
LOCATION:Jacoby Arts Center\, 627 East Broadway\, Alton\, IL\, 62002\, United States
CATEGORIES:Illinois
ATTACH;FMTTYPE=image/jpeg:https://www.theartfairgallery.com/wp-content/uploads/2023/12/d30875a5fe26e607d2283edfcef95a15.jpg
END:VEVENT
BEGIN:VEVENT
DTSTART;TZID=America/Chicago:20240119T100000
DTEND;TZID=America/Chicago:20240119T170000
DTSTAMP:20260420T083953
CREATED:20231212T121138Z
LAST-MODIFIED:20231212T121138Z
UID:10007047-1705658400-1705683600@www.theartfairgallery.com
SUMMARY:Soulard Art Gallery Resident Artist Exhibit
DESCRIPTION:Soulard Art Gallery resident artist exhibit at Jacoby Arts
URL:https://www.theartfairgallery.com/event/soulard-art-gallery-resident-artist-exhibit-28/
LOCATION:Jacoby Arts Center\, 627 East Broadway\, Alton\, IL\, 62002\, United States
CATEGORIES:Illinois
ATTACH;FMTTYPE=image/jpeg:https://www.theartfairgallery.com/wp-content/uploads/2023/12/d30875a5fe26e607d2283edfcef95a15.jpg
END:VEVENT
BEGIN:VEVENT
DTSTART;TZID=America/Chicago:20240118T100000
DTEND;TZID=America/Chicago:20240118T170000
DTSTAMP:20260420T083953
CREATED:20231212T121138Z
LAST-MODIFIED:20231212T121138Z
UID:10007046-1705572000-1705597200@www.theartfairgallery.com
SUMMARY:Soulard Art Gallery Resident Artist Exhibit
DESCRIPTION:Soulard Art Gallery resident artist exhibit at Jacoby Arts
URL:https://www.theartfairgallery.com/event/soulard-art-gallery-resident-artist-exhibit-27/
LOCATION:Jacoby Arts Center\, 627 East Broadway\, Alton\, IL\, 62002\, United States
CATEGORIES:Illinois
ATTACH;FMTTYPE=image/jpeg:https://www.theartfairgallery.com/wp-content/uploads/2023/12/d30875a5fe26e607d2283edfcef95a15.jpg
END:VEVENT
END:VCALENDAR