BEGIN:VCALENDAR
VERSION:2.0
PRODID:-//The Art Fair Gallery - ECPv6.15.18//NONSGML v1.0//EN
CALSCALE:GREGORIAN
METHOD:PUBLISH
X-ORIGINAL-URL:https://www.theartfairgallery.com
X-WR-CALDESC:Events for The Art Fair Gallery
REFRESH-INTERVAL;VALUE=DURATION:PT1H
X-Robots-Tag:noindex
X-PUBLISHED-TTL:PT1H
BEGIN:VTIMEZONE
TZID:America/New_York
BEGIN:DAYLIGHT
TZOFFSETFROM:-0500
TZOFFSETTO:-0400
TZNAME:EDT
DTSTART:20230312T070000
END:DAYLIGHT
BEGIN:STANDARD
TZOFFSETFROM:-0400
TZOFFSETTO:-0500
TZNAME:EST
DTSTART:20231105T060000
END:STANDARD
BEGIN:DAYLIGHT
TZOFFSETFROM:-0500
TZOFFSETTO:-0400
TZNAME:EDT
DTSTART:20240310T070000
END:DAYLIGHT
BEGIN:STANDARD
TZOFFSETFROM:-0400
TZOFFSETTO:-0500
TZNAME:EST
DTSTART:20241103T060000
END:STANDARD
BEGIN:DAYLIGHT
TZOFFSETFROM:-0500
TZOFFSETTO:-0400
TZNAME:EDT
DTSTART:20250309T070000
END:DAYLIGHT
BEGIN:STANDARD
TZOFFSETFROM:-0400
TZOFFSETTO:-0500
TZNAME:EST
DTSTART:20251102T060000
END:STANDARD
END:VTIMEZONE
BEGIN:VEVENT
DTSTART;TZID=America/New_York:20241205T180000
DTEND;TZID=America/New_York:20241205T220000
DTSTAMP:20260420T113353
CREATED:20241118T144159Z
LAST-MODIFIED:20241118T144159Z
UID:10007315-1733421600-1733436000@www.theartfairgallery.com
SUMMARY:Holiday Market
DESCRIPTION:Get ready for the ultimate holiday shopping experience – where you can find the perfect gifts for everyone on your list!\n\n\nHoliday  Market Presented By Team Borham at eXp Realty \nCome join us at Coastal Creative for a festive holiday market filled with local vendors\, delicious treats\, and unique gifts. This in-person event is the perfect opportunity to support small businesses and find one-of-a-kind presents for your loved ones.There will be Holiday treats and a cash bar available! Don’t miss out on this special event – mark your calendars now!
URL:https://www.theartfairgallery.com/event/holiday-market-20/
LOCATION:Coastal Creative\, 2201 1st Avenue South\, St. Petersburg\, FL\, 33712\, United States
CATEGORIES:Florida
ATTACH;FMTTYPE=image/jpeg:https://www.theartfairgallery.com/wp-content/uploads/2024/11/e7d4dfb3489d8a841b42a1ecd193bd56.jpg
END:VEVENT
BEGIN:VEVENT
DTSTART;TZID=America/New_York:20241205T110000
DTEND;TZID=America/New_York:20241205T210000
DTSTAMP:20260420T113353
CREATED:20241204T151335Z
LAST-MODIFIED:20241204T151335Z
UID:10007413-1733396400-1733432400@www.theartfairgallery.com
SUMMARY:AfriKin Art Fair for Miami Art Week and Art Basel 2024
DESCRIPTION:Miami Art Week and Art Basel Signature African Contemporary Art Fair as seen in the New York Times — Threads of Life in Fragments of Time.
URL:https://www.theartfairgallery.com/event/afrikin-art-fair-for-miami-art-week-and-art-basel-2024-2/
LOCATION:Scott Galvin Community Center\, 1600 Northeast 126th Street\, North Miami\, FL\, 33181\, United States
CATEGORIES:Florida
ATTACH;FMTTYPE=image/jpeg:https://www.theartfairgallery.com/wp-content/uploads/2024/12/301fccc0e17bd39f53e9d6985455b147.jpg
END:VEVENT
BEGIN:VEVENT
DTSTART;TZID=America/New_York:20241204T110000
DTEND;TZID=America/New_York:20241204T210000
DTSTAMP:20260420T113353
CREATED:20241204T151328Z
LAST-MODIFIED:20241204T151328Z
UID:10007412-1733310000-1733346000@www.theartfairgallery.com
SUMMARY:AfriKin Art Fair for Miami Art Week and Art Basel 2024
DESCRIPTION:Miami Art Week and Art Basel Signature African Contemporary Art Fair as seen in the New York Times — Threads of Life in Fragments of Time.
URL:https://www.theartfairgallery.com/event/afrikin-art-fair-for-miami-art-week-and-art-basel-2024/
LOCATION:Scott Galvin Community Center\, 1600 Northeast 126th Street\, North Miami\, FL\, 33181\, United States
CATEGORIES:Florida
ATTACH;FMTTYPE=image/jpeg:https://www.theartfairgallery.com/wp-content/uploads/2024/12/301fccc0e17bd39f53e9d6985455b147.jpg
END:VEVENT
BEGIN:VEVENT
DTSTART;TZID=America/New_York:20241201T130000
DTEND;TZID=America/New_York:20241201T170000
DTSTAMP:20260420T113353
CREATED:20241118T154844Z
LAST-MODIFIED:20241118T154844Z
UID:10007341-1733058000-1733072400@www.theartfairgallery.com
SUMMARY:Mariposa Market Tropical Holiday Shop
DESCRIPTION:Holiday shopping event at the Citadel food hall\, featuring kids’ activities and a special holiday guest for kids!\n\n\nSupport local small businesses\, pick up the perfect holiday gifts\, and bring the family for kid-friendly activities\, visitors\, and a special guest from the North Pole (it’s Rudolph– Santa couldn’t make it!).  \n \nThe first 35 guests to RSVP via Eventbrite can pick up a free Mariposa Market tote bag filled with free products\, samples\, coupons\, and flyers from local small businesses.  \n \nTake advantage of the amazing restaurants at the Citadel and plan to eat lunch or stay for a cocktail\, snack\, coffee\, or ice cream as part of your visit.
URL:https://www.theartfairgallery.com/event/mariposa-market-tropical-holiday-shop/
LOCATION:The Citadel\, 8300 Northeast 2nd Avenue\, Miami\, FL\, 33138\, United States
CATEGORIES:Florida
ATTACH;FMTTYPE=image/jpeg:https://www.theartfairgallery.com/wp-content/uploads/2024/11/2f050f698e8e730cb912b607a134484b.jpg
END:VEVENT
BEGIN:VEVENT
DTSTART;TZID=America/New_York:20241201T120000
DTEND;TZID=America/New_York:20241201T170000
DTSTAMP:20260420T113353
CREATED:20241118T155257Z
LAST-MODIFIED:20241118T155257Z
UID:10007343-1733054400-1733072400@www.theartfairgallery.com
SUMMARY:German Christmas Market Brings Old-World Charm to Miami on Sunday\, Dec. 1
DESCRIPTION:Join us for a festive German Christmas Market in Miami on Dec. 1\, where you can experience the charm of an old-world holiday celebration!\n\n\nGerman Christmas Market Brings Old-World Charm to Miami on Sunday\, Dec. 1 \nExperience the magic of a traditional German Christmas market right here in Miami! Join us on Sunday\, Dec. 1\, for a festive event filled with holiday cheer\, delicious treats\, and unique gifts. Browse through **handcrafted ornaments**\, **authentic German cuisine**\, and **festive decorations**. Bring your family and friends to enjoy the old-world charm and merry atmosphere. Don’t miss out on this special event!
URL:https://www.theartfairgallery.com/event/german-christmas-market-brings-old-world-charm-to-miami-on-sunday-dec-1/
LOCATION:Coral Gables Congregational United Church of Christ\, 3010 De Soto Boulevard\, Coral Gables\, FL\, 33134\, United States
CATEGORIES:Florida
ATTACH;FMTTYPE=image/jpeg:https://www.theartfairgallery.com/wp-content/uploads/2024/11/f847fe7b6578e6a44ad187bd334d018f.jpg
END:VEVENT
BEGIN:VEVENT
DTSTART;TZID=America/New_York:20241201T110000
DTEND;TZID=America/New_York:20241201T160000
DTSTAMP:20260420T113353
CREATED:20241118T153544Z
LAST-MODIFIED:20241118T153544Z
UID:10007336-1733050800-1733068800@www.theartfairgallery.com
SUMMARY:Small Biz Sunday Market At Marina Village
DESCRIPTION:Support Small\, Sip & Shop!\n\n\nSmall Biz Sunday Holiday Market \nSunday\, December 1st | 11AM-4PM \n \nEnjoy Shopping From The Flamingo Flea’s 20+ Vendors While Supporting Local Businesses! \n \nCocktails & Beverages Are Available At The Shorely & Mainland Bar \n \nFood Kiosks: \n\nSushi Song\nTaco Vibez\nMason’s Lobster\nYIP\nQuore Gelato\nBurgers & Shakes\nFresh Garden Bowls\nBlue Steel Pizza Co. \n\n \n849 Seabreeze Blvd.\, Fort Lauderdale\, FL 33316 \nwww.MarinaVillageFTL.com \n@marinavillageftl \n(954) 945-6997
URL:https://www.theartfairgallery.com/event/small-biz-sunday-market-at-marina-village/
LOCATION:Marina Village Fort Lauderdale Beach\, 849 Seabreeze Boulevard\, Fort Lauderdale\, FL\, 33316\, United States
CATEGORIES:Florida
ATTACH;FMTTYPE=image/jpeg:https://www.theartfairgallery.com/wp-content/uploads/2024/11/c595b3f3bfafde1b10b820c2e26151f7.jpg
END:VEVENT
BEGIN:VEVENT
DTSTART;TZID=America/New_York:20241130T180000
DTEND;TZID=America/New_York:20241130T230000
DTSTAMP:20260420T113353
CREATED:20231113T120154Z
LAST-MODIFIED:20231113T120154Z
UID:10006717-1732989600-1733007600@www.theartfairgallery.com
SUMMARY:Fort Lauderdale Artwalk
DESCRIPTION:We invite you to Fort Lauderdale Artwalk. Every last Saturday of the month\, starting at 6pm. #FTLArtwalk
URL:https://www.theartfairgallery.com/event/fort-lauderdale-artwalk-40/
LOCATION:MASS District\, 844 Northeast 4th Avenue\, Fort Lauderdale\, FL\, 33304\, United States
CATEGORIES:Florida
ATTACH;FMTTYPE=image/jpeg:https://www.theartfairgallery.com/wp-content/uploads/2022/02/81d166bbc6e51df2f8c3222c3d535a82.jpg
END:VEVENT
BEGIN:VEVENT
DTSTART;TZID=America/New_York:20241130T110000
DTEND;TZID=America/New_York:20241130T180000
DTSTAMP:20260420T113353
CREATED:20241118T144915Z
LAST-MODIFIED:20241118T144915Z
UID:10007318-1732964400-1732989600@www.theartfairgallery.com
SUMMARY:Oddities & Art HOLIDAY Market
DESCRIPTION:Join us on Saturday\, November 30th from 11am -6pm at The Peach Art Collective! FREE SHOW!\n\n\nJoin us on Saturday\, November 30th from 11am -6pm at The Peach Art Collective (3950 Georgia Ave\, West Palm Beach\, FL 33405) in West Palm Beach for the Oddities & Art HOLIDAY Market. Shop over 60 vendors\, crafters and artists. There is a full restaurant on site & bar.*This market is FREE admission and FREE street parking. ALL AGES show. Rain or shine! \nSTREET PARKING CAN BE HARD TO FIND/IS LIMITED SO CARPOOL OR RIDESHARE! *We do ask anyone attending bring a unwrapped child’s toy or art supplies (color pencils\, paints\, paper\, etc…) that we can donate to children in need for the holiday. We will also take cash donations at the door. This is not required but any help is appreciated!Make sure to follow us on Instagram for update info on our event. https://www.instagram.com/theodditiesartmarket/
URL:https://www.theartfairgallery.com/event/oddities-art-holiday-market/
LOCATION:3950 Georgia Ave\, 3950 Georgia Avenue\, West Palm Beach\, FL\, 33405\, United States
CATEGORIES:Florida
ATTACH;FMTTYPE=image/jpeg:https://www.theartfairgallery.com/wp-content/uploads/2024/11/cc1c326b03b876d8f5dddfef98baf439.jpg
END:VEVENT
BEGIN:VEVENT
DTSTART;TZID=America/New_York:20241129T120000
DTEND;TZID=America/New_York:20241129T170000
DTSTAMP:20260420T113353
CREATED:20241118T152040Z
LAST-MODIFIED:20241118T152040Z
UID:10007332-1732881600-1732899600@www.theartfairgallery.com
SUMMARY:Pompano Beach Holiday Market Series at PBBC
DESCRIPTION:Get into the holiday spirit at the Pompano Beach Holiday Market Series at PBBC – shop\, eat\, and enjoy festive fun!
URL:https://www.theartfairgallery.com/event/pompano-beach-holiday-market-series-at-pbbc/
LOCATION:Pompano Beach Brewing Company\, 3200 Northwest 23rd Avenue\, #Suite 500\, Pompano Beach\, FL\, 33069\, United States
CATEGORIES:Florida
END:VEVENT
BEGIN:VEVENT
DTSTART;TZID=America/New_York:20241124T100000
DTEND;TZID=America/New_York:20241124T150000
DTSTAMP:20260420T113353
CREATED:20241118T151639Z
LAST-MODIFIED:20241118T151639Z
UID:10007329-1732442400-1732460400@www.theartfairgallery.com
SUMMARY:Indoor Holiday Market at The French Chateau of Odessa
DESCRIPTION:“Visit our Indoor Holiday Market\, free and open to the public! Explore unique vendors to find the perfect holiday gifts!
URL:https://www.theartfairgallery.com/event/indoor-holiday-market-at-the-french-chateau-of-odessa-2/
LOCATION:13042 Tarpon Springs Rd\, 13042 Tarpon Springs Road\, Odessa\, FL\, 33556\, United States
CATEGORIES:Florida
ATTACH;FMTTYPE=image/jpeg:https://www.theartfairgallery.com/wp-content/uploads/2024/11/77bd082c6c8588e03d3f2efcdf69460f.jpg
END:VEVENT
BEGIN:VEVENT
DTSTART;TZID=America/New_York:20241123T170000
DTEND;TZID=America/New_York:20241123T220000
DTSTAMP:20260420T113353
CREATED:20220628T120752Z
LAST-MODIFIED:20221203T164433Z
UID:10003596-1732381200-1732399200@www.theartfairgallery.com
SUMMARY:Washington Street Night Market
DESCRIPTION:The Washington Street Night Market is an outdoor event highlighting uniquely fantastic local makers + artists.
URL:https://www.theartfairgallery.com/event/washington-street-night-market-29/
LOCATION:The Falcon Bar & Gallery\, 819 East Washington Street\, Orlando\, FL\, 32801\, United States
CATEGORIES:Artisan Market,Florida
ATTACH;FMTTYPE=image/jpeg:https://www.theartfairgallery.com/wp-content/uploads/2022/06/a073afd7ed46c9570a14eb52316989e4.jpg
END:VEVENT
BEGIN:VEVENT
DTSTART;TZID=America/New_York:20241123T140000
DTEND;TZID=America/New_York:20241123T190000
DTSTAMP:20260420T113353
CREATED:20241118T155033Z
LAST-MODIFIED:20241118T155033Z
UID:10007342-1732370400-1732388400@www.theartfairgallery.com
SUMMARY:The Happiest Market presents: The Merriest Market
DESCRIPTION:✨ Step into a world of gingerbread magic! Join The Merriest Market for festive shopping\, magical cheer\, & holiday treats!
URL:https://www.theartfairgallery.com/event/the-happiest-market-presents-the-merriest-market/
LOCATION:Formosa Winery Tasting House\, 3011 Formosa Gardens Boulevard\, Kissimmee\, FL\, 34747\, United States
CATEGORIES:Florida
ATTACH;FMTTYPE=image/jpeg:https://www.theartfairgallery.com/wp-content/uploads/2024/11/3416729419d809e1a7b71c5c38fd6b4e.jpg
END:VEVENT
BEGIN:VEVENT
DTSTART;TZID=America/New_York:20241123T130000
DTEND;TZID=America/New_York:20241123T180000
DTSTAMP:20260420T113353
CREATED:20241118T154408Z
LAST-MODIFIED:20241118T154408Z
UID:10007339-1732366800-1732384800@www.theartfairgallery.com
SUMMARY:The Social Meets Holiday Pop Up Market
DESCRIPTION:Join us for our Holiday Pop up Market! Make the Holidays merrier by helping babies and families in need alongside Miami Diaper Bank!\n\n\nJoin us for our Holiday Pop up Market️ \nMake the Holidays merrier by helping babies and families in need alongside Miami Diaper Bank! \nShop more than 20 amazing vendors\, enjoy music\, child activities\, raffles and more! \nNovember 23rd | 1-6pm \nDoral Cultural Arts Center8363 NW 53rd Street Doral\, FL 33166 \nFree parking garage for event attendees right next to Doral City Hall. \nThis is a FREE family event! \nWhen you buy from small businesses\, you are doing more than just purchasing products or services\, you are helping build our community’s future. \nDon’t forget to follow us on Instagram @thesocialmeets for more South Florida events and socializing! \nClick here to help us fundraise by DONATING to this great cause! \nMiami Diaper Bank \nFounded in 2013\, the Miami Diaper Bank is a 501(c)3 non-profit organization and first established diaper bank in Miami. The Miami Diaper Bank’s mission is to collect and distribute diapers and other diaper related products to low-income families and their children\, while also raising awareness about the need for diaper donations in the South Florida area. \nDonate diapers TO SOUTH FLORIDA FAMILIES \nTo collect\, store and distribute free diapers and baby related products to homeless \nshelters\, food pantries\, family service agencies\, and faith-based organizations. \n \nSpread awareness on diaper need \nTo educate the local community about the devastating crisis of diaper need. \n \nSupport community partners \nTo support and expand upon our existing relationships with shelters and community organizations in the South Florida area.
URL:https://www.theartfairgallery.com/event/the-social-meets-holiday-pop-up-market/
LOCATION:Doral Cultural Arts Center\, 8363 Northwest 53rd Street\, Doral\, FL\, 33166\, United States
CATEGORIES:Florida
ATTACH;FMTTYPE=image/jpeg:https://www.theartfairgallery.com/wp-content/uploads/2024/11/831c8c5cf08c4b2cd856a827583eb1e6.jpg
END:VEVENT
BEGIN:VEVENT
DTSTART;TZID=America/New_York:20241123T100000
DTEND;TZID=America/New_York:20241124T170000
DTSTAMP:20260420T113354
CREATED:20241118T144642Z
LAST-MODIFIED:20241118T144642Z
UID:10007317-1732356000-1732467600@www.theartfairgallery.com
SUMMARY:Tampa Bay Holiday Market
DESCRIPTION:Start your Holiday Shopping With Us!\n\n\nThe Tampa Bay Holiday Market & Expo is a 2 day event being held from November 23 to November 24\, 2024 at the Coliseum-Downtown St. Petersburg. \nThere will be goodies and treats\, gifts large and small\, something and everything for one and all! Tampa Bay Holiday Market will have various kinds of chocolates\, candles\, jewelry\, handbags\, garments\, holiday gifts and decorative items. Lots of different exhibitors to help you get your shopping done! \nThe first 250 each day will receive a fun holiday ornament! \nProduced and hosted by the Tampa Bay Times. \nFree parking and Free admission. See you there!
URL:https://www.theartfairgallery.com/event/tampa-bay-holiday-market/
LOCATION:The Coliseum\, 535 4th Avenue North\, St. Petersburg\, FL\, 33701\, United States
CATEGORIES:Florida
ATTACH;FMTTYPE=image/jpeg:https://www.theartfairgallery.com/wp-content/uploads/2024/11/f7f49ee53a510f690c442f6756b0bd81.jpg
END:VEVENT
BEGIN:VEVENT
DTSTART;TZID=America/New_York:20241123T100000
DTEND;TZID=America/New_York:20241123T150000
DTSTAMP:20260420T113354
CREATED:20241118T151534Z
LAST-MODIFIED:20241118T151534Z
UID:10007328-1732356000-1732374000@www.theartfairgallery.com
SUMMARY:Indoor Holiday Market at The French Chateau of Odessa
DESCRIPTION:“Visit our Indoor Holiday Market\, free and open to the public! Explore unique vendors to find the perfect holiday gifts!
URL:https://www.theartfairgallery.com/event/indoor-holiday-market-at-the-french-chateau-of-odessa/
LOCATION:13042 Tarpon Springs Rd\, 13042 Tarpon Springs Road\, Odessa\, FL\, 33556\, United States
CATEGORIES:Florida
ATTACH;FMTTYPE=image/jpeg:https://www.theartfairgallery.com/wp-content/uploads/2024/11/77bd082c6c8588e03d3f2efcdf69460f.jpg
END:VEVENT
BEGIN:VEVENT
DTSTART;TZID=America/New_York:20241115T170000
DTEND;TZID=America/New_York:20241115T220000
DTSTAMP:20260420T113354
CREATED:20240109T181133Z
LAST-MODIFIED:20240109T181133Z
UID:10007120-1731690000-1731708000@www.theartfairgallery.com
SUMMARY:Sunset Market Imagine Museum
DESCRIPTION:Sunset Market at Imagine Museum
URL:https://www.theartfairgallery.com/event/sunset-market-imagine-museum-17/
LOCATION:1901 Central Ave\, 1901 Central Avenue\, St. Petersburg\, FL\, 33713\, United States
CATEGORIES:Florida
ATTACH;FMTTYPE=image/jpeg:https://www.theartfairgallery.com/wp-content/uploads/2023/11/bd5f8ea288f408b8fc9268d54931419c.jpg
END:VEVENT
BEGIN:VEVENT
DTSTART;TZID=America/New_York:20241026T180000
DTEND;TZID=America/New_York:20241026T230000
DTSTAMP:20260420T113354
CREATED:20231113T120153Z
LAST-MODIFIED:20231113T120153Z
UID:10006716-1729965600-1729983600@www.theartfairgallery.com
SUMMARY:Fort Lauderdale Artwalk
DESCRIPTION:We invite you to Fort Lauderdale Artwalk. Every last Saturday of the month\, starting at 6pm. #FTLArtwalk
URL:https://www.theartfairgallery.com/event/fort-lauderdale-artwalk-39/
LOCATION:MASS District\, 844 Northeast 4th Avenue\, Fort Lauderdale\, FL\, 33304\, United States
CATEGORIES:Florida
ATTACH;FMTTYPE=image/jpeg:https://www.theartfairgallery.com/wp-content/uploads/2022/02/81d166bbc6e51df2f8c3222c3d535a82.jpg
END:VEVENT
BEGIN:VEVENT
DTSTART;TZID=America/New_York:20241026T170000
DTEND;TZID=America/New_York:20241026T220000
DTSTAMP:20260420T113354
CREATED:20220628T120749Z
LAST-MODIFIED:20221203T164433Z
UID:10003595-1729962000-1729980000@www.theartfairgallery.com
SUMMARY:Washington Street Night Market
DESCRIPTION:The Washington Street Night Market is an outdoor event highlighting uniquely fantastic local makers + artists.
URL:https://www.theartfairgallery.com/event/washington-street-night-market-28/
LOCATION:The Falcon Bar & Gallery\, 819 East Washington Street\, Orlando\, FL\, 32801\, United States
CATEGORIES:Artisan Market,Florida
ATTACH;FMTTYPE=image/jpeg:https://www.theartfairgallery.com/wp-content/uploads/2022/06/a073afd7ed46c9570a14eb52316989e4.jpg
END:VEVENT
BEGIN:VEVENT
DTSTART;TZID=America/New_York:20241018T170000
DTEND;TZID=America/New_York:20241018T220000
DTSTAMP:20260420T113354
CREATED:20240109T181132Z
LAST-MODIFIED:20240109T181132Z
UID:10007119-1729270800-1729288800@www.theartfairgallery.com
SUMMARY:Sunset Market Imagine Museum
DESCRIPTION:Sunset Market at Imagine Museum
URL:https://www.theartfairgallery.com/event/sunset-market-imagine-museum-16/
LOCATION:1901 Central Ave\, 1901 Central Avenue\, St. Petersburg\, FL\, 33713\, United States
CATEGORIES:Florida
ATTACH;FMTTYPE=image/jpeg:https://www.theartfairgallery.com/wp-content/uploads/2023/11/bd5f8ea288f408b8fc9268d54931419c.jpg
END:VEVENT
BEGIN:VEVENT
DTSTART;TZID=America/New_York:20240928T180000
DTEND;TZID=America/New_York:20240928T230000
DTSTAMP:20260420T113354
CREATED:20231113T120152Z
LAST-MODIFIED:20231113T120152Z
UID:10006715-1727546400-1727564400@www.theartfairgallery.com
SUMMARY:Fort Lauderdale Artwalk
DESCRIPTION:We invite you to Fort Lauderdale Artwalk. Every last Saturday of the month\, starting at 6pm. #FTLArtwalk
URL:https://www.theartfairgallery.com/event/fort-lauderdale-artwalk-38/
LOCATION:MASS District\, 844 Northeast 4th Avenue\, Fort Lauderdale\, FL\, 33304\, United States
CATEGORIES:Florida
ATTACH;FMTTYPE=image/jpeg:https://www.theartfairgallery.com/wp-content/uploads/2022/02/81d166bbc6e51df2f8c3222c3d535a82.jpg
END:VEVENT
BEGIN:VEVENT
DTSTART;TZID=America/New_York:20240928T170000
DTEND;TZID=America/New_York:20240928T220000
DTSTAMP:20260420T113354
CREATED:20220628T120748Z
LAST-MODIFIED:20221203T164433Z
UID:10003594-1727542800-1727560800@www.theartfairgallery.com
SUMMARY:Washington Street Night Market
DESCRIPTION:The Washington Street Night Market is an outdoor event highlighting uniquely fantastic local makers + artists.
URL:https://www.theartfairgallery.com/event/washington-street-night-market-27/
LOCATION:The Falcon Bar & Gallery\, 819 East Washington Street\, Orlando\, FL\, 32801\, United States
CATEGORIES:Artisan Market,Florida
ATTACH;FMTTYPE=image/jpeg:https://www.theartfairgallery.com/wp-content/uploads/2022/06/a073afd7ed46c9570a14eb52316989e4.jpg
END:VEVENT
BEGIN:VEVENT
DTSTART;TZID=America/New_York:20240920T170000
DTEND;TZID=America/New_York:20240920T220000
DTSTAMP:20260420T113354
CREATED:20240109T181115Z
LAST-MODIFIED:20240109T181115Z
UID:10007118-1726851600-1726869600@www.theartfairgallery.com
SUMMARY:Sunset Market Imagine Museum
DESCRIPTION:Sunset Market at Imagine Museum
URL:https://www.theartfairgallery.com/event/sunset-market-imagine-museum-15/
LOCATION:1901 Central Ave\, 1901 Central Avenue\, St. Petersburg\, FL\, 33713\, United States
CATEGORIES:Florida
ATTACH;FMTTYPE=image/jpeg:https://www.theartfairgallery.com/wp-content/uploads/2023/11/bd5f8ea288f408b8fc9268d54931419c.jpg
END:VEVENT
BEGIN:VEVENT
DTSTART;TZID=America/New_York:20240831T180000
DTEND;TZID=America/New_York:20240831T230000
DTSTAMP:20260420T113354
CREATED:20231113T120139Z
LAST-MODIFIED:20231113T120139Z
UID:10006714-1725127200-1725145200@www.theartfairgallery.com
SUMMARY:Fort Lauderdale Artwalk
DESCRIPTION:We invite you to Fort Lauderdale Artwalk. Every last Saturday of the month\, starting at 6pm. #FTLArtwalk
URL:https://www.theartfairgallery.com/event/fort-lauderdale-artwalk-37/
LOCATION:MASS District\, 844 Northeast 4th Avenue\, Fort Lauderdale\, FL\, 33304\, United States
CATEGORIES:Florida
ATTACH;FMTTYPE=image/jpeg:https://www.theartfairgallery.com/wp-content/uploads/2022/02/81d166bbc6e51df2f8c3222c3d535a82.jpg
END:VEVENT
BEGIN:VEVENT
DTSTART;TZID=America/New_York:20240824T170000
DTEND;TZID=America/New_York:20240824T220000
DTSTAMP:20260420T113354
CREATED:20220628T120747Z
LAST-MODIFIED:20221203T164432Z
UID:10003593-1724518800-1724536800@www.theartfairgallery.com
SUMMARY:Washington Street Night Market
DESCRIPTION:The Washington Street Night Market is an outdoor event highlighting uniquely fantastic local makers + artists.
URL:https://www.theartfairgallery.com/event/washington-street-night-market-26/
LOCATION:The Falcon Bar & Gallery\, 819 East Washington Street\, Orlando\, FL\, 32801\, United States
CATEGORIES:Artisan Market,Florida
ATTACH;FMTTYPE=image/jpeg:https://www.theartfairgallery.com/wp-content/uploads/2022/06/a073afd7ed46c9570a14eb52316989e4.jpg
END:VEVENT
BEGIN:VEVENT
DTSTART;TZID=America/New_York:20240816T170000
DTEND;TZID=America/New_York:20240816T220000
DTSTAMP:20260420T113354
CREATED:20240109T181113Z
LAST-MODIFIED:20240109T181113Z
UID:10007117-1723827600-1723845600@www.theartfairgallery.com
SUMMARY:Sunset Market Imagine Museum
DESCRIPTION:Sunset Market at Imagine Museum
URL:https://www.theartfairgallery.com/event/sunset-market-imagine-museum-14/
LOCATION:1901 Central Ave\, 1901 Central Avenue\, St. Petersburg\, FL\, 33713\, United States
CATEGORIES:Florida
ATTACH;FMTTYPE=image/jpeg:https://www.theartfairgallery.com/wp-content/uploads/2023/11/bd5f8ea288f408b8fc9268d54931419c.jpg
END:VEVENT
BEGIN:VEVENT
DTSTART;TZID=America/New_York:20240727T180000
DTEND;TZID=America/New_York:20240727T230000
DTSTAMP:20260420T113354
CREATED:20231113T120138Z
LAST-MODIFIED:20231113T120138Z
UID:10006713-1722103200-1722121200@www.theartfairgallery.com
SUMMARY:Fort Lauderdale Artwalk
DESCRIPTION:We invite you to Fort Lauderdale Artwalk. Every last Saturday of the month\, starting at 6pm. #FTLArtwalk
URL:https://www.theartfairgallery.com/event/fort-lauderdale-artwalk-36/
LOCATION:MASS District\, 844 Northeast 4th Avenue\, Fort Lauderdale\, FL\, 33304\, United States
CATEGORIES:Florida
ATTACH;FMTTYPE=image/jpeg:https://www.theartfairgallery.com/wp-content/uploads/2022/02/81d166bbc6e51df2f8c3222c3d535a82.jpg
END:VEVENT
BEGIN:VEVENT
DTSTART;TZID=America/New_York:20240727T170000
DTEND;TZID=America/New_York:20240727T220000
DTSTAMP:20260420T113354
CREATED:20220628T120747Z
LAST-MODIFIED:20221203T164432Z
UID:10003592-1722099600-1722117600@www.theartfairgallery.com
SUMMARY:Washington Street Night Market
DESCRIPTION:The Washington Street Night Market is an outdoor event highlighting uniquely fantastic local makers + artists.
URL:https://www.theartfairgallery.com/event/washington-street-night-market-25/
LOCATION:The Falcon Bar & Gallery\, 819 East Washington Street\, Orlando\, FL\, 32801\, United States
CATEGORIES:Artisan Market,Florida
ATTACH;FMTTYPE=image/jpeg:https://www.theartfairgallery.com/wp-content/uploads/2022/06/a073afd7ed46c9570a14eb52316989e4.jpg
END:VEVENT
BEGIN:VEVENT
DTSTART;TZID=America/New_York:20240719T170000
DTEND;TZID=America/New_York:20240719T220000
DTSTAMP:20260420T113354
CREATED:20240109T181111Z
LAST-MODIFIED:20240109T181111Z
UID:10007116-1721408400-1721426400@www.theartfairgallery.com
SUMMARY:Sunset Market Imagine Museum
DESCRIPTION:Sunset Market at Imagine Museum
URL:https://www.theartfairgallery.com/event/sunset-market-imagine-museum-13/
LOCATION:1901 Central Ave\, 1901 Central Avenue\, St. Petersburg\, FL\, 33713\, United States
CATEGORIES:Florida
ATTACH;FMTTYPE=image/jpeg:https://www.theartfairgallery.com/wp-content/uploads/2023/11/bd5f8ea288f408b8fc9268d54931419c.jpg
END:VEVENT
BEGIN:VEVENT
DTSTART;TZID=America/New_York:20240629T180000
DTEND;TZID=America/New_York:20240629T230000
DTSTAMP:20260420T113354
CREATED:20231113T120138Z
LAST-MODIFIED:20231113T120138Z
UID:10006712-1719684000-1719702000@www.theartfairgallery.com
SUMMARY:Fort Lauderdale Artwalk
DESCRIPTION:We invite you to Fort Lauderdale Artwalk. Every last Saturday of the month\, starting at 6pm. #FTLArtwalk
URL:https://www.theartfairgallery.com/event/fort-lauderdale-artwalk-35/
LOCATION:MASS District\, 844 Northeast 4th Avenue\, Fort Lauderdale\, FL\, 33304\, United States
CATEGORIES:Florida
ATTACH;FMTTYPE=image/jpeg:https://www.theartfairgallery.com/wp-content/uploads/2022/02/81d166bbc6e51df2f8c3222c3d535a82.jpg
END:VEVENT
BEGIN:VEVENT
DTSTART;TZID=America/New_York:20240622T170000
DTEND;TZID=America/New_York:20240622T220000
DTSTAMP:20260420T113354
CREATED:20220628T120744Z
LAST-MODIFIED:20221203T164432Z
UID:10003591-1719075600-1719093600@www.theartfairgallery.com
SUMMARY:Washington Street Night Market
DESCRIPTION:The Washington Street Night Market is an outdoor event highlighting uniquely fantastic local makers + artists.
URL:https://www.theartfairgallery.com/event/washington-street-night-market-24/
LOCATION:The Falcon Bar & Gallery\, 819 East Washington Street\, Orlando\, FL\, 32801\, United States
CATEGORIES:Artisan Market,Florida
ATTACH;FMTTYPE=image/jpeg:https://www.theartfairgallery.com/wp-content/uploads/2022/06/a073afd7ed46c9570a14eb52316989e4.jpg
END:VEVENT
END:VCALENDAR