BEGIN:VCALENDAR
VERSION:2.0
PRODID:-//The Art Fair Gallery - ECPv6.15.18//NONSGML v1.0//EN
CALSCALE:GREGORIAN
METHOD:PUBLISH
X-ORIGINAL-URL:https://www.theartfairgallery.com
X-WR-CALDESC:Events for The Art Fair Gallery
REFRESH-INTERVAL;VALUE=DURATION:PT1H
X-Robots-Tag:noindex
X-PUBLISHED-TTL:PT1H
BEGIN:VTIMEZONE
TZID:America/Los_Angeles
BEGIN:DAYLIGHT
TZOFFSETFROM:-0800
TZOFFSETTO:-0700
TZNAME:PDT
DTSTART:20220313T100000
END:DAYLIGHT
BEGIN:STANDARD
TZOFFSETFROM:-0700
TZOFFSETTO:-0800
TZNAME:PST
DTSTART:20221106T090000
END:STANDARD
BEGIN:DAYLIGHT
TZOFFSETFROM:-0800
TZOFFSETTO:-0700
TZNAME:PDT
DTSTART:20230312T100000
END:DAYLIGHT
BEGIN:STANDARD
TZOFFSETFROM:-0700
TZOFFSETTO:-0800
TZNAME:PST
DTSTART:20231105T090000
END:STANDARD
BEGIN:DAYLIGHT
TZOFFSETFROM:-0800
TZOFFSETTO:-0700
TZNAME:PDT
DTSTART:20240310T100000
END:DAYLIGHT
BEGIN:STANDARD
TZOFFSETFROM:-0700
TZOFFSETTO:-0800
TZNAME:PST
DTSTART:20241103T090000
END:STANDARD
END:VTIMEZONE
BEGIN:VEVENT
DTSTART;TZID=America/Los_Angeles:20231217T100000
DTEND;TZID=America/Los_Angeles:20231217T160000
DTSTAMP:20260419T143638
CREATED:20230626T090955Z
LAST-MODIFIED:20230626T090955Z
UID:10005678-1702807200-1702828800@www.theartfairgallery.com
SUMMARY:Craftmania
DESCRIPTION:LV Craft Shows has been bringing the best craft & gift shows to the Las Vegas Valley since 1999. Our creative vendors offer unique items.\n\n\nThere will be crafts. gifts\, food trucks\, free drawings\, and much more.  \nAdmission & Parking is free. \nIndoors & Outdoors at the Veil Pavilion at the Silverton Hotel & Casino. \nSunday 10am – 4pm \nVeil Pavilion is located next to the former Seasons Buffet. Very easy access from the parking garage. \n More info and details are at LVCraftShows.com and Facebook.com/LVCraftShows. \n LV Craft Shows is a proud sponsor of Sir’s Rescue Rangers animal rescue. \n Vendor info can be found at LVCraftShows.com
URL:https://www.theartfairgallery.com/event/craftmania/
LOCATION:Veil Pavilion at the Silverton Hotel\, 3333 Blue Diamond Road\, Las Vegas\, NV\, 89139\, United States
CATEGORIES:Nevada
ATTACH;FMTTYPE=image/jpeg:https://www.theartfairgallery.com/wp-content/uploads/2023/06/b1a3768436906ea8a98080f4020f839a.jpg
END:VEVENT
BEGIN:VEVENT
DTSTART;TZID=America/Los_Angeles:20231202T090000
DTEND;TZID=America/Los_Angeles:20231203T160000
DTSTAMP:20260419T143638
CREATED:20230626T090016Z
LAST-MODIFIED:20230916T094532Z
UID:10005673-1701507600-1701619200@www.theartfairgallery.com
SUMMARY:MAGIC OF SANTA CRAFT FAIRE\, Our 44th year!
DESCRIPTION:Wonderful handmade crafts from  over 90 local crafters. Come support our Very Talented  local crafters and find the perfect gift!\n\n\nThe Magic of Santa Craft Faire has been running for 44 consecutive years and just keeps getting better year after year. Fine Arts and Crafts from over 80 crafters. Support your local small family owned businesses and find beautiful hand made items from tole painted snowmen and beautiful doll clothes to fine wood work and handcrafts for yourself and the ones you love.\nEnjoy two fabulous days of shopping for only $5.00 admission\, Children under 12 are Free. The parking is FREE (Tell the attendant you are going to Magic of Santa)  \nWe’ll take $1.00 off your admission if you bring a can of food or new socks for Charity\nSaturday 9:00 to 5:00 and Sunday 10:00 to 3:00\nAt the big convention center by the Atlantis
URL:https://www.theartfairgallery.com/event/magic-of-santa-craft-faire-our-44th-year/
LOCATION:Reno-Sparks Convention Center\, 4590 South Virginia Street\, Reno\, NV\, 89502\, United States
CATEGORIES:Craft Fair,Nebraska,Nevada
ATTACH;FMTTYPE=image/jpeg:https://www.theartfairgallery.com/wp-content/uploads/2023/06/d4cf663cbd8f75093fb49b676248fdab.jpg
END:VEVENT
BEGIN:VEVENT
DTSTART;TZID=America/Los_Angeles:20231125T100000
DTEND;TZID=America/Los_Angeles:20231126T160000
DTSTAMP:20260419T143638
CREATED:20230626T091214Z
LAST-MODIFIED:20230626T091214Z
UID:10005679-1700906400-1701014400@www.theartfairgallery.com
SUMMARY:Shop Small Holiday Craftville Gift Bazaar
DESCRIPTION:SHOP SMALL SATURDAY in support of small businesses/2 days of Holiday Craftville Gift Bazaar shopping.\n\n\nSpecial event in conjunction with the Nationwide Shop Small Business Campaign by AMEX. \nIndoor & Outdoor Event + Veranda (covered) at Veil Pavilion. \nThere will be Original Crafts\, Gifts\, Cottage Foods\, Food Trucks and some Boutique Items. \nM﻿ore details to follow.
URL:https://www.theartfairgallery.com/event/shop-small-holiday-craftville-gift-bazaar-2/
LOCATION:Veil Pavilion at The Silverton\, 3333 Blue Diamond Road\, Las Vegas\, NV\, 89139\, United States
CATEGORIES:Nevada
ATTACH;FMTTYPE=image/jpeg:https://www.theartfairgallery.com/wp-content/uploads/2023/06/b8ae8d8d1f50a6c5914d221dac76a23c.jpg
END:VEVENT
BEGIN:VEVENT
DTSTART;TZID=America/Los_Angeles:20231124T160000
DTEND;TZID=America/Los_Angeles:20231125T160000
DTSTAMP:20260419T143638
CREATED:20230827T103838Z
LAST-MODIFIED:20230916T095224Z
UID:10005910-1700841600-1700928000@www.theartfairgallery.com
SUMMARY:Winter Arts & Gifts Show
DESCRIPTION:Welcome to the Winter Arts & Gifts Show! Artists\, crafters\, makers\, bakers\, and sellers of all kinds are invited to join this annual Show.\n\n\nWelcome to our 8th edition of the Arts & Gifts Show! Our show is special because of our wide variety of vendors. We have room for over 100 artists\, crafters\, makers\, bakers\, and sellers\, which makes it a great place to find unique gifts for yourself and your loved ones this season. Our extensive advertising campaign draws in shoppers looking for that special piece and will come to town just for our show. \n \n This two-day event is free to attend\, and all are welcome.
URL:https://www.theartfairgallery.com/event/winter-arts-gifts-show/
LOCATION:Grand Sierra Resort and Casino\, 2500 East 2nd Street\, Reno\, NV\, 89595\, United States
CATEGORIES:Craft Fair,Nevada
ATTACH;FMTTYPE=image/jpeg:https://www.theartfairgallery.com/wp-content/uploads/2023/08/817c5a072e049cd89f8493a4c30bf972.jpg
END:VEVENT
BEGIN:VEVENT
DTSTART;TZID=America/Los_Angeles:20231112T110000
DTEND;TZID=America/Los_Angeles:20231112T150000
DTSTAMP:20260419T143638
CREATED:20230626T085310Z
LAST-MODIFIED:20230827T104139Z
UID:10005670-1699786800-1699801200@www.theartfairgallery.com
SUMMARY:Women's & Craft Festival
DESCRIPTION:Bring your girlfriends for a day of fun. The Women’s Festival has everything a woman needs to stay healthy\, fashionable and sexy.\n\n\nThe Womens Festival has one goal in mind\, helping you look beautiful. Get free mini-makeovers and see the latest cosmetics and beauty care products.\n \n \nVisit with vendors showcasing a comprehensive range of health\, nutrition and fitness products to keep a woman looking young\, healthy and sexy.\n \n \nCraft vendors offering wide variety of unique\, hand-made and\none-of-a-kind crafts\, ranging from jewelry\, artesian foods\, glass\, metal art\, wood and more.
URL:https://www.theartfairgallery.com/event/womens-craft-festival/
LOCATION:Galleria At Sunset\, 1300 West Sunset Road\, Henderson\, NV\, 89014\, United States
CATEGORIES:Craft Fair,Nevada
ATTACH;FMTTYPE=image/jpeg:https://www.theartfairgallery.com/wp-content/uploads/2023/06/c0042714491a029c06b7cbf8facdc5d2.jpg
END:VEVENT
BEGIN:VEVENT
DTSTART;TZID=America/Los_Angeles:20231103T100000
DTEND;TZID=America/Los_Angeles:20231105T160000
DTSTAMP:20260419T143638
CREATED:20230626T084615Z
LAST-MODIFIED:20230916T095050Z
UID:10005668-1699005600-1699200000@www.theartfairgallery.com
SUMMARY:Holiday Craft & Gift Festival
DESCRIPTION:Looking for that special unique gift and something FUN to do with your family & friends while supporting artists\, crafters and animals?\n\n\nThe 14th annual Holiday Craft & Gift Festival.\nL﻿V Craft Shows biggest event of the year!  \n\nF﻿ree Make & Takes\nH﻿oliday Bingo\nS﻿aturday Active Aging & Travel Expo\nKID’S Sunday with Santa\, surprise characters and Vegas Dinos.\nH﻿ug-A-Bear Drive\n1﻿40+ artists and gift vendors\n\nF﻿ree parking in attached garage off of Symphony Park Ave \nL﻿imited FREE tickets here on Eventbrite or get your FREE tickets at our other events.  Or else it’s $5 cash at the door.  \nDetails  subjected to change.
URL:https://www.theartfairgallery.com/event/holiday-craft-gift-festival-2/
LOCATION:The Expo at World Market Center Las Vegas\, 435 South Grand Central Parkway\, Las Vegas\, NV\, 89106\, United States
CATEGORIES:Craft Fair,Nevada
ATTACH;FMTTYPE=image/jpeg:https://www.theartfairgallery.com/wp-content/uploads/2023/09/09c89890c85d9f6b69f33079590f5fa2.jpg
END:VEVENT
BEGIN:VEVENT
DTSTART;TZID=America/Los_Angeles:20231029T110000
DTEND;TZID=America/Los_Angeles:20231029T160000
DTSTAMP:20260419T143638
CREATED:20230916T103429Z
LAST-MODIFIED:20230916T103429Z
UID:10006184-1698577200-1698595200@www.theartfairgallery.com
SUMMARY:MARKET IN THE ALLEY x  The District
DESCRIPTION:Support Local. Support Small. Tell a Friend\n\n\nSupport Local. Support Small. Tell a Friend \nsmall businesses are the heart of a city. and your support means the world to them. Market in the Alley is here to support the small businesses with in a city. Focusing on the passionate\, talented and creative souls as well as bringing together all those that appreciate the talent and thrive on giving back to their creative community!
URL:https://www.theartfairgallery.com/event/market-in-the-alley-x-the-district-2/
LOCATION:The District\, 2300 Paseo Verde Pkwy\, Henderson\, NV\, 89052\, United States
CATEGORIES:Nevada
ATTACH;FMTTYPE=image/jpeg:https://www.theartfairgallery.com/wp-content/uploads/2023/09/f18c68a7987b95bc36d6fa02f632e599.jpg
END:VEVENT
BEGIN:VEVENT
DTSTART;TZID=America/Los_Angeles:20231022T100000
DTEND;TZID=America/Los_Angeles:20231022T160000
DTSTAMP:20260419T143638
CREATED:20230626T085220Z
LAST-MODIFIED:20230626T085220Z
UID:10005669-1697968800-1697990400@www.theartfairgallery.com
SUMMARY:Craft Show Spooktacular
DESCRIPTION:Looking for that special unique gift and something FUN to do with your family & friends\, while supporting local artists & crafters?\n\n\nIt’s the 13th Annual Craft Show Spooktacular at the SILVERTON Casino’s Veil Pavilion \n*  FREE admission \n*  FREE drawing ticket \n* 80+ of the most unique crafters & artists \n* FREE drawings \n* FREE parking \n* Food trucks \n* Candy for kids in costume  \n Proceeds from sold drawing tickets benefit Sir’s Rescue Rangers animal rescue.  \nFor more information & vendor opportunities\, visit our website at LVCraftShows.com \nLike us on Facebook at LV CRAFT SHOWS
URL:https://www.theartfairgallery.com/event/craft-show-spooktacular/
LOCATION:Veil Pavilion at The Silverton\, 3333 Blue Diamond Road\, Las Vegas\, NV\, 89139\, United States
CATEGORIES:Nevada
ATTACH;FMTTYPE=image/jpeg:https://www.theartfairgallery.com/wp-content/uploads/2023/06/261c94bcb735d13d279eb6a686721810.jpg
END:VEVENT
BEGIN:VEVENT
DTSTART;TZID=America/Los_Angeles:20231014T100000
DTEND;TZID=America/Los_Angeles:20231014T170000
DTSTAMP:20260419T143638
CREATED:20230827T105926Z
LAST-MODIFIED:20230916T100340Z
UID:10005911-1697277600-1697302800@www.theartfairgallery.com
SUMMARY:Octoberfest Craft Show
DESCRIPTION:A boutique-like event at The Pass Casino in Henderson NV.  Experience stress free gift shopping!\n\n\nArtisans will display their uniquely handcrafted jewelry\, artwork\, and crafts. Shop\, relax\, and get inspired by these fabulous vendors.  This is an indoor event with free parking and free admission.
URL:https://www.theartfairgallery.com/event/octoberfest-craft-show/
LOCATION:The Pass Casino\, 140 South Water Street\, Henderson\, NV\, 89015\, United States
CATEGORIES:Nevada
ATTACH;FMTTYPE=image/jpeg:https://www.theartfairgallery.com/wp-content/uploads/2023/08/fa193b40d33fb3e3279625a10fa001c9.jpg
END:VEVENT
BEGIN:VEVENT
DTSTART;TZID=America/Los_Angeles:20231008T100000
DTEND;TZID=America/Los_Angeles:20231008T160000
DTSTAMP:20260419T143638
CREATED:20230626T085610Z
LAST-MODIFIED:20230626T085610Z
UID:10005671-1696759200-1696780800@www.theartfairgallery.com
SUMMARY:Craftastic Gift Show
DESCRIPTION:Join LV Craft Shows’ talented artists and gift vendors to shop for Fall & holiday decor and unique gifts.\n\n\nJoin us for our craft show with 90+ vendors showcasing their amazing creations and gifts. Held inside the Centennial Ballroom upstairs. Park in the North Garage\, when you enter the casino turn left and go along that big wall\, when the wall ends go upstairs and then turn right. Very easy access. Free Admission for all ages! Free Parking! Free Drawings! More info and details at LVCraftShows.com and Facebook.com/LVCraftShows.
URL:https://www.theartfairgallery.com/event/craftastic-gift-show/
LOCATION:Santa Fe Station Hotel & Casino\, 4949 North Rancho Drive\, Las Vegas\, NV\, 89130\, United States
CATEGORIES:Nevada
ATTACH;FMTTYPE=image/jpeg:https://www.theartfairgallery.com/wp-content/uploads/2023/06/54d6696450330b98f7d09b98f4d985de.jpg
END:VEVENT
BEGIN:VEVENT
DTSTART;TZID=America/Los_Angeles:20231007T100000
DTEND;TZID=America/Los_Angeles:20231007T140000
DTSTAMP:20260419T143638
CREATED:20230827T102510Z
LAST-MODIFIED:20230827T102510Z
UID:10005909-1696672800-1696687200@www.theartfairgallery.com
SUMMARY:Summerlin Library Fall Festival and Craft Fair
DESCRIPTION:FREE  Fall Festival and Craft Fair\n\n\nEnjoy live music\, food trucks\, pumpkin decorating\, face painters\, balloon artists\, shadow puppet shows\, stilt walkers\,\n jugglers\, DIY crafts\, psychic readings\, 3D chalk art\, huge book fair\, and craft vendors!
URL:https://www.theartfairgallery.com/event/summerlin-library-fall-festival-and-craft-fair/
LOCATION:Summerlin Library\, 1771 Inner Circle\, #Drive\, Las Vegas\, NV\, 89134\, United States
CATEGORIES:Nevada
ATTACH;FMTTYPE=image/jpeg:https://www.theartfairgallery.com/wp-content/uploads/2023/08/970f0b50189dfcf5386588b2130ebf7d.jpg
END:VEVENT
BEGIN:VEVENT
DTSTART;TZID=America/Los_Angeles:20231001T110000
DTEND;TZID=America/Los_Angeles:20231001T160000
DTSTAMP:20260419T143638
CREATED:20230916T100450Z
LAST-MODIFIED:20230916T100450Z
UID:10006183-1696158000-1696176000@www.theartfairgallery.com
SUMMARY:MARKET IN THE ALLEY x  UnCommons
DESCRIPTION:Support Local. Support Small. Tell a Friend\n\n\nSupport Local. Support Small. Tell a Friend \nsmall businesses are the heart of a city. and your support means the world to them. Market in the Alley is here to support the small businesses with in a city. Focusing on the passionate\, talented and creative souls as well as bringing together all those that appreciate the talent and thrive on giving back to their creative community!
URL:https://www.theartfairgallery.com/event/market-in-the-alley-x-uncommons-2/
LOCATION:UnCommons\, 6880 Helen Toland St\, Las Vegas\, NV\, 89113\, United States
CATEGORIES:Nevada
ATTACH;FMTTYPE=image/jpeg:https://www.theartfairgallery.com/wp-content/uploads/2023/09/45d760a2e2a3a947b2c0fb40310536cc.jpg
END:VEVENT
BEGIN:VEVENT
DTSTART;TZID=America/Los_Angeles:20230924T110000
DTEND;TZID=America/Los_Angeles:20230924T160000
DTSTAMP:20260419T143638
CREATED:20230626T091754Z
LAST-MODIFIED:20230626T091754Z
UID:10005682-1695553200-1695571200@www.theartfairgallery.com
SUMMARY:MARKET IN THE ALLEY x  The District
DESCRIPTION:Support Local. Support Small. Tell a Friend\n\n\nSupport Local. Support Small. Tell a Friend \nsmall businesses are the heart of a city. and your support means the world to them. Market in the Alley is here to support the small businesses with in a city. Focusing on the passionate\, talented and creative souls as well as bringing together all those that appreciate the talent and thrive on giving back to their creative community!
URL:https://www.theartfairgallery.com/event/market-in-the-alley-x-the-district/
LOCATION:The District\, 2300 Paseo Verde Pkwy\, Henderson\, NV\, 89052\, United States
CATEGORIES:Nevada
ATTACH;FMTTYPE=image/jpeg:https://www.theartfairgallery.com/wp-content/uploads/2023/06/3a2f936a87f1ae44ec0a201874c01c14.jpg
END:VEVENT
BEGIN:VEVENT
DTSTART;TZID=America/Los_Angeles:20230917T110000
DTEND;TZID=America/Los_Angeles:20230917T160000
DTSTAMP:20260419T143638
CREATED:20230626T090655Z
LAST-MODIFIED:20230827T104331Z
UID:10005677-1694948400-1694966400@www.theartfairgallery.com
SUMMARY:MARKET IN THE ALLEY x ARTS DISTRICT
DESCRIPTION:Support Local. Support Small. Tell a Friend\n\n\nSupport Local. Support Small. Tell a Friend \nsmall businesses are the heart of a city. and your support means the world to them. Market in the Alley is here to support the small businesses with in a city. Focusing on the passionate\, talented and creative souls as well as bringing together all those that appreciate the talent and thrive on giving back to their creative community!
URL:https://www.theartfairgallery.com/event/market-in-the-alley-x-arts-district/
LOCATION:1326 S Main St\, 1326 South Main Street\, Las Vegas\, NV\, 89104\, United States
CATEGORIES:Craft Fair,Nevada
ATTACH;FMTTYPE=image/jpeg:https://www.theartfairgallery.com/wp-content/uploads/2023/06/f0157b7b012980bf9e175ef9c134ab30.jpg
END:VEVENT
BEGIN:VEVENT
DTSTART;TZID=America/Los_Angeles:20230908T193000
DTEND;TZID=America/Los_Angeles:20230908T233000
DTSTAMP:20260419T143638
CREATED:20230626T090551Z
LAST-MODIFIED:20230827T102255Z
UID:10005676-1694201400-1694215800@www.theartfairgallery.com
SUMMARY:Art Battle Las Vegas - September 8\, 2023
DESCRIPTION:Get charged up for a electrifying Friday night featuring live\, pulse-pounding art!\n\n\nBe a part of the electrifying energy as skilled artists engage in a high-speed showdown\, flinging paint with every stroke.  \nCast your vote and crown the champion in three pulse-pounding rounds. And as the night unfolds\, snag a one-of-a-kind masterpiece as every piece created goes up for auction.  \nDon’t miss this unforgettable evening of live art!  \n*F﻿ree Parking. \n*A﻿ll Ages welcome until 11pm.
URL:https://www.theartfairgallery.com/event/art-battle-las-vegas-september-8-2023/
LOCATION:Square Bar\, 900 East Karen Avenue\, #C-101\, Las Vegas\, NV\, 89109\, United States
CATEGORIES:Nevada
ATTACH;FMTTYPE=image/jpeg:https://www.theartfairgallery.com/wp-content/uploads/2023/08/751582c6e2dc45992a21a96ee5a1da4b.jpg
END:VEVENT
BEGIN:VEVENT
DTSTART;TZID=America/Los_Angeles:20230908T170000
DTEND;TZID=America/Los_Angeles:20230908T200000
DTSTAMP:20260419T143638
CREATED:20230626T090134Z
LAST-MODIFIED:20230827T102045Z
UID:10005674-1694192400-1694203200@www.theartfairgallery.com
SUMMARY:Silver State Art Festival
DESCRIPTION:Don’t miss the 5th annual Festival! 40+ award-winning artists and craftspeople will be displaying and selling their unique creations.
URL:https://www.theartfairgallery.com/event/silver-state-art-festival/
LOCATION:Fuji Park & Exhibit Hall\, 601 Old Clear Creek Road\, Carson City\, NV\, 89705\, United States
CATEGORIES:Craft Fair,Nevada
ATTACH;FMTTYPE=image/jpeg:https://www.theartfairgallery.com/wp-content/uploads/2023/06/a46fc17b7c865217e1858bbf70376559.jpg
END:VEVENT
BEGIN:VEVENT
DTSTART;TZID=America/Los_Angeles:20230908T100000
DTEND;TZID=America/Los_Angeles:20230910T160000
DTSTAMP:20260419T143638
CREATED:20230626T084516Z
LAST-MODIFIED:20230827T102803Z
UID:10005667-1694167200-1694361600@www.theartfairgallery.com
SUMMARY:Fall Craft Spectacular
DESCRIPTION:Check it  out – three days of awesome shopping.  Fri & Sat 10am-5pm and Sun 10am-4pm.  Must print & bring these free tickets!  Free parking!\n\n\nOriginal Crafts\, Art\, Cottage\, Vintage\, Foods\, Handmade/Handcrafted. \nFree Make and Takes\nFree Face Painting\nFREE Art for Kids by City of the World Art Gallery \nThis is a side by side show with the Home Improvement & Backyard Expo.  See the newest in home improvement product and services.  Furnishings\, accessories\, decorating and gift ideas.  The latest from floor to roof\, patio to pool\, inside and out!  Two shows in one place! \nThe Expo at World Market Center Las Vegas\, 435 South Grand Central Parkway\, Las Vegas\, NV\, 89106\nFree covered parking. The entrance to the attached parking garage is off of Symphony Park Ave.\nYOU MUST PRINT TICKETS AND BRING THEM TO THE EVENT. \nFollow us on FB\, TW: LVCraftShows  IG:LasVegasCraftShows
URL:https://www.theartfairgallery.com/event/fall-craft-spectacular-2/
LOCATION:The Expo at World Market Center Las Vegas\, 435 South Grand Central Parkway\, Las Vegas\, NV\, 89106\, United States
CATEGORIES:Nevada
ATTACH;FMTTYPE=image/jpeg:https://www.theartfairgallery.com/wp-content/uploads/2023/06/63200f23670aef81f215da875a1154d9.jpg
END:VEVENT
BEGIN:VEVENT
DTSTART;TZID=America/Los_Angeles:20230903T110000
DTEND;TZID=America/Los_Angeles:20230903T160000
DTSTAMP:20260419T143638
CREATED:20230626T091432Z
LAST-MODIFIED:20230626T091605Z
UID:10005681-1693738800-1693756800@www.theartfairgallery.com
SUMMARY:MARKET IN THE ALLEY x  UnCommons
DESCRIPTION:Support Local. Support Small. Tell a Friend\n\n\nSupport Local. Support Small. Tell a Friend \nsmall businesses are the heart of a city. and your support means the world to them. Market in the Alley is here to support the small businesses with in a city. Focusing on the passionate\, talented and creative souls as well as bringing together all those that appreciate the talent and thrive on giving back to their creative community!
URL:https://www.theartfairgallery.com/event/market-in-the-alley-x-uncommons/
LOCATION:UnCommons\, 6880 Helen Toland St\, Las Vegas\, NV\, 89113\, United States
CATEGORIES:Nevada
ATTACH;FMTTYPE=image/jpeg:https://www.theartfairgallery.com/wp-content/uploads/2023/06/016d74f3300224265d230d85ee8c1f4d.jpg
END:VEVENT
BEGIN:VEVENT
DTSTART;TZID=America/Los_Angeles:20230903T100000
DTEND;TZID=America/Los_Angeles:20230903T160000
DTSTAMP:20260419T143638
CREATED:20230626T085827Z
LAST-MODIFIED:20230626T085827Z
UID:10005672-1693735200-1693756800@www.theartfairgallery.com
SUMMARY:A September to Remember with Fabulous Fall Finds
DESCRIPTION:Looking for that special unique gift and something FUN to do with your family & friends?  Join us for this fun filled event!\n\n\n* FREE admission \n* FREE drawing ticket \n* 80+ of the most unique crafters & artists \n* Drawings hourly plus one big prize drawing at 4 pm  \n* FREE parking \n* Food trucks \nLV Craft Shows is a proud sponsor of Sir’s Rescue Rangers animal rescue. \nFor more information & vendor opportunities\, visit our website at LVCraftShows.com \nLike us on Facebook at LV CRAFT SHOWS
URL:https://www.theartfairgallery.com/event/a-september-to-remember-with-fabulous-fall-finds/
LOCATION:Veil Pavilion\, 3333 Blue Diamond Road\, Las Vegas\, NV\, 89139\, United States
CATEGORIES:Nevada
ATTACH;FMTTYPE=image/jpeg:https://www.theartfairgallery.com/wp-content/uploads/2023/06/244f4fdeca914d0408f69919a09b2d03.jpg
END:VEVENT
BEGIN:VEVENT
DTSTART;TZID=America/Los_Angeles:20230708T180000
DTEND;TZID=America/Los_Angeles:20230708T220000
DTSTAMP:20260419T143638
CREATED:20230626T091250Z
LAST-MODIFIED:20230626T091250Z
UID:10005680-1688839200-1688853600@www.theartfairgallery.com
SUMMARY:SUMMER EDITION | Night Market | MARKET IN THE ALLEY x  UnCommons
DESCRIPTION:Support Local. Support Small. Tell a Friend\n\n\nSupport Local. Support Small. Tell a Friend \nsmall businesses are the heart of a city. and your support means the world to them. Market in the Alley is here to support the small businesses with in a city. Focusing on the passionate\, talented and creative souls as well as bringing together all those that appreciate the talent and thrive on giving back to their creative community!
URL:https://www.theartfairgallery.com/event/summer-edition-night-market-market-in-the-alley-x-uncommons/
LOCATION:UnCommons\, 6880 Helen Toland St\, Las Vegas\, NV\, 89113\, United States
CATEGORIES:Nevada
ATTACH;FMTTYPE=image/jpeg:https://www.theartfairgallery.com/wp-content/uploads/2023/06/acd22b415b356a7373e4f607ffeed018.jpg
END:VEVENT
BEGIN:VEVENT
DTSTART;TZID=America/Los_Angeles:20230702T100000
DTEND;TZID=America/Los_Angeles:20230702T160000
DTSTAMP:20260419T143638
CREATED:20230626T084429Z
LAST-MODIFIED:20230626T084429Z
UID:10005666-1688292000-1688313600@www.theartfairgallery.com
SUMMARY:Red\, White & Blue Craft & Gift Show
DESCRIPTION:Looking for that special unique gift and something FUN to do with your family & friends?  Join us for this fun filled event!\n\n\nRed\, White & Blue Craft & Gift Show  \n10am – 4pm located at 3333 Blue Diamond Rd. \n* FREE admission \n* FREE drawing ticket \n* 80+ of the most unique crafters & artists \n* Drawings hourly plus one big prize drawing at 4 pm  \n* FREE parking – park in the garage for easy access \n* Food trucks \nProceeds from sold drawing tickets benefit Sir’s Rescue Rangers animal rescue. Sir’s Rescue Rangers \nLike us on Facebook at LV CRAFT SHOWS
URL:https://www.theartfairgallery.com/event/red-white-blue-craft-gift-show/
LOCATION:Veil Pavilion\, 3333 Blue Diamond Road\, Las Vegas\, NV\, 89139\, United States
CATEGORIES:Nevada
ATTACH;FMTTYPE=image/jpeg:https://www.theartfairgallery.com/wp-content/uploads/2023/06/30e0a991cf9d3bb4fc6643a6094fcb6b.jpg
END:VEVENT
BEGIN:VEVENT
DTSTART;TZID=America/Los_Angeles:20230701T150000
DTEND;TZID=America/Los_Angeles:20230701T180000
DTSTAMP:20260419T143638
CREATED:20230626T090400Z
LAST-MODIFIED:20230626T090400Z
UID:10005675-1688223600-1688234400@www.theartfairgallery.com
SUMMARY:Pop Up Art Event
DESCRIPTION:Join us for an exclusive\, time limited art experience that  you don’t want to miss!\n\n\nSee\, touch\, feel. Want to know more? Stop by and get your senses filled at the AV Gallery. Pop-Up will happen on Saturday\, July 1st\, from 3 pm to 6 pm. \nThis exclusive art installation  will only be on display for a week!
URL:https://www.theartfairgallery.com/event/pop-up-art-event/
LOCATION:PTG AV Gallery\, 9420 Del Webb Boulevard\, Las Vegas\, NV\, 89134\, United States
CATEGORIES:Nevada
ATTACH;FMTTYPE=image/jpeg:https://www.theartfairgallery.com/wp-content/uploads/2023/06/1c0e4ab5e96b6874264da7e5ba4452c1.jpg
END:VEVENT
END:VCALENDAR